Workbook

Sheet tkbieu
D7: SỈ SỐ | E7: 14 | F7: 11 | G7: 12 | J7: 17 | K7: 10 | L7: 15 | M7: 13 | N7: 17 | P7: 13 | Q7: 6 | R7: 18 | S7: 15 | T7: 16 | U7: 12 | V7: 19 | W7: 6 | X7: 19 | Y7: 6 | Z7: 7 | AA7: Tổng số | AB7: =SUM(E7:V7) -> 208
D8: KHOA | E8: KHOA CƠ KHÍ ÔTÔ | K8: KHOA ĐIỆN VÀ ĐIỆN LẠNH | Q8: KHOA CÔNG NGHỆ THÔNG TIN
A9: GVCN | C9: TIẾT | D9: GIỜ | E9: T. HUY | F9: C. T. TRANG | G9: T. V. V. HOÀNG | H9: T. LÂN | I9: T. LÂN | J9: T. Y. LONG | K9: C. ÂN | L9: T. LUÂN | M9: C. THẢO | N9: T. CHƯƠNG | O9: T. CHƯƠNG | P9: T. M. TUẤN | Q9: T. HIỆP | R9: C. Q. PHƯƠNG | S9: T. T. TÀI | T9: C. HỒNG | U9: T. THÀNH | V9: C. T. OANH | W9: C. OANH | X9: C. S. MAI | Y9: C. OANH | Z9: C. T. LINH | AA9: GIỜ DẠY | AB9: TIẾT | AC9: GVCN
A10: LỚP | D10: DẠY | E10: T24OTO1 | F10: T24OTO2 | G10: C24CK1 | H10: T25OTO1 (N1) | I10: T25OTO1 (N2) | J10: C25CK1 | K10: C24KTML1 | L10: C24DC1 | M10: T25KTML1 | N10: C25KTML1 | O10: C25KTML1 | P10: C25DC1 | Q10: C24LRMT1 | R10: T24UDPM1 | S10: T24TKĐH1 | T10: T24TKĐH2 | U10: C24UDPM1 | V10: C24TKĐH1 | W10: T25UDPM1 | X10: T25TKĐH1 | Y10: C25UDPM1 | Z10: C25TKĐH(LT) | AD10: LỚP | AG10: =COUNTA(G10:Q10) -> 11
A11: THỨ HAI 02/11 | B11: BẮT ĐẦU & KẾT THÚC TIẾN ĐỘ | AD11: THỨ HAI
B12: SÁNG | C12: 1 | D12: 7h00-7h45 | E12: HỌC VHPT | F12: HỌC VHPT | AA12: 7h00-7h45 | AB12: 1
C13: 2 | D13: 7h45-8h30 | E13: THEO TKB | F13: THEO TKB | AA13: 7h45-8h30 | AB13: 2
C14: 3 | D14: 9h00-9h45 | E14: TTGDTX | F14: TTGDTX | AA14: 9h00-9h45 | AB14: 3
C15: 4 | D15: 9h45-10h30 | AA15: 9h45-10h30 | AB15: 4 | AG15: =COUNTA(E15:Q15) -> 0
C16: 5 | D16: 10h30-11h15 | AA16: 10h30-11h15 | AB16: 5 | AG16: =COUNTA(E16:Q16) -> 0
AA17: 11h00-11h45 | AB17: 6
B18: BẮT ĐẦU & KẾT THÚC TIẾN ĐỘ | G18: 14/9- | J18: 16/11- | Q18: 05/10- | AA18: KẾT THÚC TIẾN ĐỘ
B19: CHIỀU | C19: 6 | D19: 12h45-13h30 | G19: ĐỒ ÁN | H19: VHPT THI | I19: VHPT THI | J19: PHAY, BÀO MP// | M19: VHPT THI | Q19: LẮP ĐẶT HT | W19: VHPT THI | X19: VHPT THI | AA19: 12h45-13h30 | AB19: 6 | AC19: CHIỀU
C20: 7 | D20: 13h30-14h15 | G20: TỐT NGHIỆP | H20: GIỮA HK1 | I20: GIỮA HK1 | J20: VG GÓC,BẬC,RÃNH | M20: GIỮA HK1 | Q20: CCTV | W20: GIỮA HK1 | X20: GIỮA HK1 | AA20: 13h30-14h15 | AB20: 7
C21: 8 | D21: 14h45-15h30 | J21: AD TỪ 16/11 | AA21: 14h45-15h30 | AB21: 8
C22: 9 | D22: 15h30-16h15 | G22: B003 | Q22: A302 | AA22: 15h30-16h15 | AB22: 9 | AG22: =COUNTA(E22:Q22) -> 2
C23: 10 | D23: 16h15-17h00 | G23: T. CƯƠNG | J23: T. Y. LONG | Q23: T. NHỰT | AA23: 16h15-17h00 | AB23: 10 | AG23: =COUNTA(E23:Q23) -> 3
AA24: 5h00-5h45 | AB24: 12
A25: THỨ BA 03/11 | B25: BẮT ĐẦU & KẾT THÚC TIẾN ĐỘ | G25: 14/9- | H25: 07/9- | I25: 21/9- | J25: 16/11- | K25: 24/8- | L25: 24/8- | Q25: 22/9- | U25: 21/9- | V25: 07/9- | X25: 21/9- | AA25: KẾT THÚC TIẾN ĐỘ | AD25: THỨ BA
B26: SÁNG | C26: 1 | D26: 7h00-7h45 | E26: HỌC VHPT | F26: HỌC VHPT | G26: ĐỒ ÁN | H26: BD&SC HT | I26: BD&SC KHUNG | J26: ĐO KIỂM SP | K26: TỰ ĐỘNG HÓA | L26: ĐỒ ÁN | M26: L.ĐẶT HỆ THỐNG | Q26: ĐỒ ÁN | R26: HỌC VHPT | S26: HỌC VHPT | T26: HỌC VHPT | U26: CS DỮ LIỆU | V26: ỨNG DỤNG CN AI | X26: THIẾT KẾ | AA26: 7h00-7h45 | AB26: 1 | AC26: SÁNG
C27: 2 | D27: 7h45-8h30 | E27: THEO TKB | F27: THEO TKB | G27: TỐT NGHIỆP | H27: ĐIỆN Ô TÔ | I27: GẦM Ô TÔ 1 | J27: CƠ KHÍ | K27: HT LẠNH | L27: TỐT NGHIỆP | M27: MÁY LẠNH CN | Q27: TỐT NGHIỆP | R27: THEO TKB | S27: THEO TKB | T27: THEO TKB | U27: NOSWL | V27: TRG THIẾT KẾ | X27: BANNER | AA27: 7h45-8h30 | AB27: 2
C28: 3 | D28: 9h00-9h45 | E28: TTGDTX | F28: TTGDTX | H28: 03/11 THI 9H00 | J28: AD TỪ 16/11 | R28: TTGDTX | S28: TTGDTX | T28: TTGDTX | AA28: 9h00-9h45 | AB28: 3
C29: 4 | D29: 9h45-10h30 | G29: B003 | H29: B007 | I29: B012 | K29: A001 | L29: A305 | M29: B105 | Q29: A312 | U29: A112 (PM1) | V29: A109 (PM2) | X29: A101 (PM4) | AA29: 9h45-10h30 | AB29: 4 | AG29: =COUNTA(E29:Q29) -> 7
C30: 5 | D30: 10h30-11h15 | G30: T. CƯƠNG | H30: T. LÂN - T. SƠN | I30: T. V. KHÁNH | J30: T. THUẤN | K30: T. TRỌNG | L30: T. P. NAM | M30: T. A. HẢI | Q30: T. HIẾU | U30: T. VÂN | V30: C. T. OANH | X30: T. X. LIÊN | AA30: 10h30-11h15 | AB30: 5 | AG30: =COUNTA(E30:Q30) -> 8
AA31: 11h00-11h45 | AB31: 6
B32: BẮT ĐẦU & KẾT THÚC TIẾN ĐỘ | G32: 14/9- | J32: 16/11- | K32: 24/8- | L32: 24/8- | Q32: 22/9- | U32: 21/9- | V32: 03/9- | AA32: KẾT THÚC TIẾN ĐỘ
B33: CHIỀU | C33: 6 | D33: 12h45-13h30 | G33: ĐỒ ÁN | H33: VHPT THI | I33: VHPT THI | J33: ĐO KIỂM SP | K33: TỰ ĐỘNG HÓA | L33: ĐỒ ÁN | M33: VHPT THI | Q33: ĐỒ ÁN | U33: CS DỮ LIỆU | V33: XÂY DỰNG | W33: VHPT THI | X33: VHPT THI | AA33: 12h45-13h30 | AB33: 6 | AC33: CHIỀU
C34: 7 | D34: 13h30-14h15 | G34: TỐT NGHIỆP | H34: GIỮA HK1 | I34: GIỮA HK1 | J34: CƠ KHÍ | K34: HT LẠNH | L34: TỐT NGHIỆP | M34: GIỮA HK1 | Q34: TỐT NGHIỆP | U34: NOSWL | V34: PORTFOLIO | W34: GIỮA HK1 | X34: GIỮA HK1 | AA34: 13h30-14h15 | AB34: 7
C35: 8 | D35: 14h45-15h30 | J35: AD TỪ 16/11 | AA35: 14h45-15h30 | AB35: 8
C36: 9 | D36: 15h30-16h15 | G36: B003 | K36: A001 | L36: A305 | Q36: A312 | U36: A112 (PM1) | V36: A109 (PM2) | AA36: 15h30-16h15 | AB36: 9 | AG36: =COUNTA(E36:Q36) -> 4
C37: 5 | D37: 10h30-11h15 | G37: T. CƯƠNG | J37: T. THUẤN | K37: T. TRỌNG | L37: T. P. NAM | Q37: T. HIẾU | U37: T. VÂN | V37: C. S. MAI | AA37: 10h30-11h15 | AB37: 5 | AG37: =COUNTA(E37:Q37) -> 5
AA38: 5h00-5h45 | AB38: 12
A39: THỨ TƯ 04/11 | B39: BẮT ĐẦU & KẾT THÚC TIẾN ĐỘ | G39: 14/9- | L39: 24/8- | Q39: 05/10- | U39: 14/9- | AA39: KẾT THÚC TIẾN ĐỘ | AD39: THỨ TƯ
B40: SÁNG | C40: 1 | D40: 7h00-7h45 | E40: HỌC VHPT | F40: HỌC VHPT | G40: ĐỒ ÁN | L40: ĐỒ ÁN | Q40: LẮP ĐẶT HT | R40: HỌC VHPT | S40: HỌC VHPT | T40: HỌC VHPT | U40: LẬP TRÌNH T.BỊ | AA40: 7h00-7h45 | AB40: 1 | AC40: SÁNG
C41: 2 | D41: 7h45-8h30 | E41: THEO TKB | F41: THEO TKB | G41: TỐT NGHIỆP | L41: TỐT NGHIỆP | Q41: CCTV | R41: THEO TKB | S41: THEO TKB | T41: THEO TKB | U41: DI ĐỘNG | AA41: 7h45-8h30 | AB41: 2
C42: 3 | D42: 9h00-9h45 | E42: TTGDTX | F42: TTGDTX | R42: TTGDTX | S42: TTGDTX | T42: TTGDTX | AA42: 9h00-9h45 | AB42: 3
C43: 4 | D43: 9h45-10h30 | G43: B003 | L43: A305 | Q43: A302 | U43: A112 (PM1) | AA43: 9h45-10h30 | AB43: 4 | AG43: =COUNTA(E43:Q43) -> 3
C44: 5 | D44: 10h30-11h15 | G44: T. CƯƠNG | L44: T. P. NAM | Q44: T. NHỰT | U44: T. TÀI | AA44: 10h30-11h15 | AB44: 5 | AG44: =COUNTA(E44:Q44) -> 3
AA45: 11h00-11h45 | AB45: 6
B46: BẮT ĐẦU & KẾT THÚC TIẾN ĐỘ | G46: 14/9- | L46: 24/8- | Q46: 05/10- | AA46: KẾT THÚC TIẾN ĐỘ
...

Sheet KCK-OTO
A1: THỜI KHÓA BIỂU KHOA CƠ KHÍ - Ô TÔ
A3: ÁP DỤNG TỪ NGÀY 02/11 ĐẾN 30/11/2026 | K3: =A3 -> ÁP DỤNG TỪ NGÀY 02/11 ĐẾN 30/11/2026
A5: LỚP: | C5: =tkbieu!H10 -> T25OTO1 (N1) | E5: GVCN: | F5: =tkbieu!H9 -> T. LÂN | H5: ĐT: | I5: 0937 542 279 | K5: LỚP: | M5: =tkbieu!I10 -> T25OTO1 (N2) | O5: GVCN: | P5: =tkbieu!I9 -> T. LÂN | R5: ĐT: | S5: 0937 542 279
A6: Buổi | B6: Tiết | C6: Giờ dạy | D6: THỨ HAI | E6: THỨ BA | F6: THỨ TƯ | G6: THỨ NĂM | H6: THỨ SÁU | I6: THỨ BẢY | K6: Buổi | L6: Tiết | M6: Giờ dạy | N6: THỨ HAI | O6: THỨ BA | P6: THỨ TƯ | Q6: THỨ NĂM | R6: THỨ SÁU | S6: THỨ BẢY
A7: SÁNG | B7: 1 | C7: 7h00-7h45 | D7: =tkbieu!H12 -> 0 | E7: =tkbieu!H26 -> BD&SC HT | F7: =tkbieu!H40 -> 0 | G7: =tkbieu!H54 -> BD&SC KHUNG | H7: =tkbieu!H68 -> 0 | I7: =tkbieu!H82 -> 0 | K7: SÁNG | L7: 1 | M7: 7h00-7h45 | N7: =tkbieu!I12 -> 0 | O7: =tkbieu!I26 -> BD&SC KHUNG | P7: =tkbieu!I40 -> 0 | Q7: =tkbieu!I54 -> BD&SC HT | R7: =tkbieu!I68 -> 0 | S7: =tkbieu!I82 -> BD&SC HT ĐK
B8: 2 | C8: 7h45-8h30 | D8: =tkbieu!H13 -> 0 | E8: =tkbieu!H27 -> ĐIỆN Ô TÔ | F8: =tkbieu!H41 -> 0 | G8: =tkbieu!H55 -> GẦM Ô TÔ 1 | H8: =tkbieu!H69 -> 0 | I8: =tkbieu!H83 -> 0 | L8: 2 | M8: 7h45-8h30 | N8: =tkbieu!I13 -> 0 | O8: =tkbieu!I27 -> GẦM Ô TÔ 1 | P8: =tkbieu!I41 -> 0 | Q8: =tkbieu!I55 -> PHANH | R8: =tkbieu!I69 -> 0 | S8: =tkbieu!I83 -> ĐỘNG CƠ XĂNG
B9: 3 | C9: 9h00-9h45 | D9: =tkbieu!H14 -> 0 | E9: =tkbieu!H28 -> 03/11 THI 9H00 | F9: =tkbieu!H42 -> 0 | G9: =tkbieu!H56 -> 0 | H9: =tkbieu!H70 -> 0 | I9: =tkbieu!H84 -> 0 | L9: 3 | M9: 9h00-9h45 | N9: =tkbieu!I14 -> 0 | O9: =tkbieu!I28 -> 0 | P9: =tkbieu!I42 -> 0 | Q9: =tkbieu!I56 -> 0 | R9: =tkbieu!I70 -> 0 | S9: =tkbieu!I84 -> 0
B10: 4 | C10: 9h45-10h30 | D10: =tkbieu!H15 -> 0 | E10: =tkbieu!H29 -> B007 | F10: =tkbieu!H43 -> 0 | G10: =tkbieu!H57 -> B007 | H10: =tkbieu!H71 -> 0 | I10: =tkbieu!H85 -> 0 | L10: 4 | M10: 9h45-10h30 | N10: =tkbieu!I15 -> 0 | O10: =tkbieu!I29 -> B012 | P10: =tkbieu!I43 -> 0 | Q10: =tkbieu!I57 -> B012 | R10: =tkbieu!I71 -> 0 | S10: =tkbieu!I85 -> B007
B11: 5 | C11: 10h30-11h15(LT) 10h30-11h30(TH) | D11: =tkbieu!H16 -> 0 | E11: =tkbieu!H30 -> T. LÂN - T. SƠN | F11: =tkbieu!H44 -> 0 | G11: =tkbieu!H58 -> T. V. HẢI | H11: =tkbieu!H72 -> 0 | I11: =tkbieu!H86 -> 0 | L11: 5 | M11: 10h30-11h15(LT) 10h30-11h30(TH) | N11: =tkbieu!I16 -> 0 | O11: =tkbieu!I30 -> T. V. KHÁNH | P11: =tkbieu!I44 -> 0 | Q11: =tkbieu!I58 -> T. KHÁNH | R11: =tkbieu!I72 -> 0 | S11: =tkbieu!I86 -> T. HUY
A13: CHIỀU | B13: 6 | C13: 12h45-13h30 | D13: =tkbieu!H19 -> VHPT THI | E13: =tkbieu!H33 -> VHPT THI | F13: =tkbieu!H47 -> 0 | G13: =tkbieu!H61 -> VHPT THI | H13: =tkbieu!H75 -> TIẾNG ANH CN | I13: =tkbieu!H89 -> 0 | K13: CHIỀU | L13: 6 | M13: 12h45-13h30 | N13: =tkbieu!I19 -> VHPT THI | O13: =tkbieu!I33 -> VHPT THI | P13: =tkbieu!I47 -> 0 | Q13: =tkbieu!I61 -> VHPT THI | R13: =tkbieu!I75 -> TIẾNG ANH CN | S13: =tkbieu!I89 -> BD&SC HT ĐK
B14: 7 | C14: 13h30-14h15 | D14: =tkbieu!H20 -> GIỮA HK1 | E14: =tkbieu!H34 -> GIỮA HK1 | F14: =tkbieu!H48 -> 0 | G14: =tkbieu!H62 -> GIỮA HK1 | H14: =tkbieu!H76 -> CÔNG NGHỆ Ô TÔ | I14: =tkbieu!H90 -> 0 | L14: 7 | M14: 13h30-14h15 | N14: =tkbieu!I20 -> GIỮA HK1 | O14: =tkbieu!I34 -> GIỮA HK1 | P14: =tkbieu!I48 -> 0 | Q14: =tkbieu!I62 -> GIỮA HK1 | R14: =tkbieu!I76 -> CÔNG NGHỆ Ô TÔ | S14: =tkbieu!I90 -> ĐỘNG CƠ XĂNG
B15: 8 | C15: 14h45-15h30 | D15: =tkbieu!H21 -> 0 | E15: =tkbieu!H35 -> 0 | F15: =tkbieu!H49 -> 0 | G15: =tkbieu!H63 -> 0 | H15: =tkbieu!H77 -> 0 | I15: =tkbieu!H91 -> 0 | L15: 8 | M15: 14h45-15h30 | N15: =tkbieu!I21 -> 0 | O15: =tkbieu!I35 -> 0 | P15: =tkbieu!I49 -> 0 | Q15: =tkbieu!I63 -> 0 | R15: =tkbieu!I77 -> 0 | S15: =tkbieu!I91 -> 0
B16: 9 | C16: 15h30-16h15 | D16: =tkbieu!H22 -> 0 | E16: =tkbieu!H36 -> 0 | F16: =tkbieu!H50 -> 0 | G16: =tkbieu!H64 -> 0 | H16: =tkbieu!H78 -> A207 | I16: =tkbieu!H92 -> 0 | L16: 9 | M16: 15h30-16h15 | N16: =tkbieu!I22 -> 0 | O16: =tkbieu!I36 -> 0 | P16: =tkbieu!I50 -> 0 | Q16: =tkbieu!I64 -> 0 | R16: =tkbieu!I78 -> A207 | S16: =tkbieu!I92 -> B007
B17: 10 | C17: 16h15-17h00(LT) 16h15-17h15(TH) | D17: =tkbieu!H23 -> 0 | E17: =tkbieu!H37 -> 0 | F17: =tkbieu!H51 -> 0 | G17: =tkbieu!H65 -> 0 | H17: =tkbieu!H79 -> T. QUÂN | I17: =tkbieu!H93 -> 0 | L17: 10 | M17: 16h15-17h00(LT) 16h15-17h15(TH) | N17: =tkbieu!I23 -> 0 | O17: =tkbieu!I37 -> 0 | P17: =tkbieu!I51 -> 0 | Q17: =tkbieu!I65 -> 0 | R17: =tkbieu!I79 -> T. QUÂN | S17: =tkbieu!I93 -> T. HUY
A20: =A3 -> ÁP DỤNG TỪ NGÀY 02/11 ĐẾN 30/11/2026
A21: HỌC GIÁO DỤC QUỐC PHÒNG AN NINH 02/11 ĐẾN 13/11/2026
A22: LỚP: | C22: =tkbieu!J10 -> C25CK1 | E22: GVCN: | F22: =tkbieu!J9 -> T. Y. LONG | H22: ĐT: | I22: 0963884115
A23: Buổi | B23: Tiết | C23: Giờ dạy | D23: THỨ HAI | E23: THỨ BA | F23: THỨ TƯ | G23: THỨ NĂM | H23: THỨ SÁU | I23: THỨ BẢY
A24: SÁNG | B24: 1 | C24: 7h00-7h45 | D24: =tkbieu!J12 -> 0 | E24: =tkbieu!J26 -> ĐO KIỂM SP | F24: =tkbieu!J40 -> 0 | G24: =tkbieu!J54 -> KHAI TRIỂN | H24: =tkbieu!J68 -> CÔNG NGHỆ | I24: =tkbieu!J82 -> 0
B25: 2 | C25: 7h45-8h30 | D25: =tkbieu!J13 -> 0 | E25: =tkbieu!J27 -> CƠ KHÍ | F25: =tkbieu!J41 -> 0 | G25: =tkbieu!J55 -> HÌNH GÒ | H25: =tkbieu!J69 -> CHẾ TẠO MÁY | I25: =tkbieu!J83 -> 0
B26: 3 | C26: 9h00-9h45 | D26: =tkbieu!J14 -> 0 | E26: =tkbieu!J28 -> AD TỪ 16/11 | F26: =tkbieu!J42 -> 0 | G26: =tkbieu!J56 -> AD TỪ 16/11 | H26: =tkbieu!J70 -> AD TỪ 16/11 | I26: =tkbieu!J84 -> 0
B27: 4 | C27: 9h45-10h30 | D27: =tkbieu!J15 -> 0 | E27: =tkbieu!J29 -> 0 | F27: =tkbieu!J43 -> 0 | G27: =tkbieu!J57 -> 0 | H27: =tkbieu!J71 -> 0 | I27: =tkbieu!J85 -> 0
B28: 5 | C28: 10h30-11h15(LT) 10h30-11h30(TH) | D28: =tkbieu!J16 -> 0 | E28: =tkbieu!J30 -> T. THUẤN | F28: =tkbieu!J44 -> 0 | G28: =tkbieu!J58 -> T. TRƯƠNG | H28: =tkbieu!J72 -> T. TẤN HẢI | I28: =tkbieu!J86 -> 0
A30: CHIỀU | B30: 6 | C30: 12h45-13h30 | D30: =tkbieu!J19 -> PHAY, BÀO MP// | E30: =tkbieu!J33 -> ĐO KIỂM SP | F30: =tkbieu!J47 -> 0 | G30: =tkbieu!J61 -> KHAI TRIỂN | H30: =tkbieu!J75 -> CÔNG NGHỆ | I30: =tkbieu!J89 -> 0
B31: 7 | C31: 13h30-14h15 | D31: =tkbieu!J20 -> VG GÓC,BẬC,RÃNH | E31: =tkbieu!J34 -> CƠ KHÍ | F31: =tkbieu!J48 -> 0 | G31: =tkbieu!J62 -> HÌNH GÒ | H31: =tkbieu!J76 -> CHẾ TẠO MÁY | I31: =tkbieu!J90 -> 0
B32: 8 | C32: 14h45-15h30 | D32: =tkbieu!J21 -> AD TỪ 16/11 | E32: =tkbieu!J35 -> AD TỪ 16/11 | F32: =tkbieu!J49 -> 0 | G32: =tkbieu!J63 -> AD TỪ 16/11 | H32: =tkbieu!J77 -> AD TỪ 16/11 | I32: =tkbieu!J91 -> 0
B33: 9 | C33: 15h30-16h15 | D33: =tkbieu!J22 -> 0 | E33: =tkbieu!J36 -> 0 | F33: =tkbieu!J50 -> 0 | G33: =tkbieu!J64 -> 0 | H33: =tkbieu!J78 -> 0 | I33: =tkbieu!J92 -> 0
B34: 10 | C34: 16h15-17h00(LT) 16h15-17h15(TH) | D34: =tkbieu!J23 -> T. Y. LONG | E34: =tkbieu!J37 -> T. THUẤN | F34: =tkbieu!J51 -> 0 | G34: =tkbieu!J65 -> T. TRƯƠNG | H34: =tkbieu!J79 -> T. TẤN HẢI | I34: =tkbieu!J93 -> 0
A37: =A20 -> ÁP DỤNG TỪ NGÀY 02/11 ĐẾN 30/11/2026
A39: LỚP: | C39: =tkbieu!G10 -> C24CK1 | E39: GVCN: | F39: =tkbieu!G9 -> T. V. V. HOÀNG | H39: ĐT: | I39: 0913 849 594
A40: Buổi | B40: Tiết | C40: Giờ dạy | D40: THỨ HAI | E40: THỨ BA | F40: THỨ TƯ | G40: THỨ NĂM | H40: THỨ SÁU | I40: THỨ BẢY
A41: SÁNG | B41: 1 | C41: 7h00-7h45 | D41: =tkbieu!G12 -> 0 | E41: =tkbieu!G26 -> ĐỒ ÁN | F41: =tkbieu!G40 -> ĐỒ ÁN | G41: =tkbieu!G54 -> ĐỒ ÁN | H41: =tkbieu!G68 -> 0 | I41: =tkbieu!G82 -> 0
B42: 2 | C42: 7h45-8h30 | D42: =tkbieu!G13 -> 0 | E42: =tkbieu!G27 -> TỐT NGHIỆP | F42: =tkbieu!G41 -> TỐT NGHIỆP | G42: =tkbieu!G55 -> TỐT NGHIỆP | H42: =tkbieu!G69 -> 0 | I42: =tkbieu!G83 -> 0
B43: 3 | C43: 9h00-9h45 | D43: =tkbieu!G14 -> 0 | E43: =tkbieu!G28 -> 0 | F43: =tkbieu!G42 -> 0 | G43: =tkbieu!G56 -> 0 | H43: =tkbieu!G70 -> 0 | I43: =tkbieu!G84 -> 0
B44: 4 | C44: 9h45-10h30 | D44: =tkbieu!G15 -> 0 | E44: =tkbieu!G29 -> B003 | F44: =tkbieu!G43 -> B003 | G44: =tkbieu!G57 -> B003 | H44: =tkbieu!G71 -> 0 | I44: =tkbieu!G85 -> 0
B45: 5 | C45: 10h30-11h15(LT) 10h30-11h30(TH) | D45: =tkbieu!G16 -> 0 | E45: =tkbieu!G30 -> T. CƯƠNG | F45: =tkbieu!G44 -> T. CƯƠNG | G45: =tkbieu!G58 -> T. CƯƠNG | H45: =tkbieu!G72 -> 0 | I45: =tkbieu!G86 -> 0
A47: CHIỀU | B47: 6 | C47: 12h45-13h30 | D47: =tkbieu!G19 -> ĐỒ ÁN | E47: =tkbieu!G33 -> ĐỒ ÁN | F47: =tkbieu!G47 -> ĐỒ ÁN | G47: =tkbieu!G61 -> ĐỒ ÁN | H47: =tkbieu!G75 -> 0 | I47: =tkbieu!G89 -> 0
B48: 7 | C48: 13h30-14h15 | D48: =tkbieu!G20 -> TỐT NGHIỆP | E48: =tkbieu!G34 -> TỐT NGHIỆP | F48: =tkbieu!G48 -> TỐT NGHIỆP | G48: =tkbieu!G62 -> TỐT NGHIỆP | H48: =tkbieu!G76 -> 0 | I48: =tkbieu!G90 -> 0
B49: 8 | C49: 14h45-15h30 | D49: =tkbieu!G21 -> 0 | E49: =tkbieu!G35 -> 0 | F49: =tkbieu!G49 -> 0 | G49: =tkbieu!G63 -> 0 | H49: =tkbieu!G77 -> 0 | I49: =tkbieu!G91 -> 0
B50: 9 | C50: 15h30-16h15 | D50: =tkbieu!G22 -> B003 | E50: =tkbieu!G36 -> B003 | F50: =tkbieu!G50 -> B003 | G50: =tkbieu!G64 -> B003 | H50: =tkbieu!G78 -> 0 | I50: =tkbieu!G92 -> 0
...

Sheet KĐLẠNH
A1: THỜI KHÓA BIỂU KHOA ĐIỆN VÀ ĐIỆN LẠNH
A3: ='KCK-OTO'!A3:I3 -> ÁP DỤNG TỪ NGÀY 02/11 ĐẾN 30/11/2026 | K3: =A3 -> ÁP DỤNG TỪ NGÀY 02/11 ĐẾN 30/11/2026
K4: HỌC GIÁO DỤC QUỐC PHÒNG AN NINH 02/11 ĐẾN 13/11/2026
A5: LỚP: | C5: =tkbieu!M10 -> T25KTML1 | E5: GVCN: | F5: =tkbieu!M9 -> C. THẢO | H5: ĐT: | I5: 090 834 34 96 | K5: LỚP: | M5: =tkbieu!N10 -> C25KTML1 | O5: GVCN: | P5: =tkbieu!N9 -> T. CHƯƠNG | R5: ĐT: | S5: 091 841 10 02
A6: Buổi | B6: Tiết | C6: Giờ dạy | D6: THỨ HAI | E6: THỨ BA | F6: THỨ TƯ | G6: THỨ NĂM | H6: THỨ SÁU | I6: THỨ BẢY | K6: Buổi | L6: Tiết | M6: Giờ dạy | N6: THỨ HAI | O6: THỨ BA | P6: THỨ TƯ | Q6: THỨ NĂM | S6: THỨ SÁU | T6: THỨ BẢY
A7: SÁNG | B7: 1 | C7: 7h00-7h45 | D7: =tkbieu!M12 -> 0 | E7: =tkbieu!M26 -> L.ĐẶT HỆ THỐNG | F7: =tkbieu!M40 -> 0 | G7: =tkbieu!M54 -> ĐIỆN TỬ | H7: =tkbieu!M68 -> 0 | I7: =tkbieu!M82 -> L.ĐẶT HỆ THỐNG | K7: SÁNG | L7: 1 | M7: 7h00-7h45 | N7: =tkbieu!N12 -> 0 | O7: =tkbieu!N26 -> 0 | P7: =tkbieu!N40 -> 0 | Q7: =tkbieu!N54 -> 0 | R7: =tkbieu!O54 -> 0 | S7: =tkbieu!N68 -> 0 | T7: =tkbieu!N82 -> 0
B8: 2 | C8: 7h45-8h30 | D8: =tkbieu!M13 -> 0 | E8: =tkbieu!M27 -> MÁY LẠNH CN | F8: =tkbieu!M41 -> 0 | G8: =tkbieu!M55 -> CHUYÊN NGÀNH | H8: =tkbieu!M69 -> 0 | I8: =tkbieu!M83 -> ĐHKK CỤC BỘ | L8: 2 | M8: 7h45-8h30 | N8: =tkbieu!N13 -> 0 | O8: =tkbieu!N27 -> 0 | P8: =tkbieu!N41 -> 0 | Q8: =tkbieu!N55 -> 0 | R8: =tkbieu!O55 -> 0 | S8: =tkbieu!N69 -> 0 | T8: =tkbieu!N83 -> 0
B9: 3 | C9: 9h00-9h45 | D9: =tkbieu!M14 -> 0 | E9: =tkbieu!M28 -> 0 | F9: =tkbieu!M42 -> 0 | G9: =tkbieu!M56 -> 0 | H9: =tkbieu!M70 -> 0 | I9: =tkbieu!M84 -> 0 | L9: 3 | M9: 9h00-9h45 | N9: =tkbieu!N14 -> 0 | O9: =tkbieu!N28 -> 0 | P9: =tkbieu!N42 -> 0 | Q9: =tkbieu!N56 -> 0 | R9: =tkbieu!O56 -> 0 | S9: =tkbieu!N70 -> 0 | T9: =tkbieu!N84 -> 0
B10: 4 | C10: 9h45-10h30 | D10: =tkbieu!M15 -> 0 | E10: =tkbieu!M29 -> B105 | F10: =tkbieu!M43 -> 0 | G10: =tkbieu!M57 -> A001 | H10: =tkbieu!M71 -> 0 | I10: =tkbieu!M85 -> B016 | L10: 4 | M10: 9h45-10h30 | N10: =tkbieu!N15 -> 0 | O10: =tkbieu!N29 -> 0 | P10: =tkbieu!N43 -> 0 | Q10: =tkbieu!N57 -> 0 | R10: =tkbieu!O57 -> 0 | S10: =tkbieu!N71 -> 0 | T10: =tkbieu!N85 -> 0
B11: 5 | C11: 10h30-11h15(LT) 10h30-11h30(TH) | D11: =tkbieu!M16 -> 0 | E11: =tkbieu!M30 -> T. A. HẢI | F11: =tkbieu!M44 -> 0 | G11: =tkbieu!M58 -> T. TRỌNG | H11: =tkbieu!M72 -> 0 | I11: =tkbieu!M86 -> T. VŨ | L11: 5 | M11: 10h30-11h15(LT) 10h30-11h30(TH) | N11: =tkbieu!N16 -> 0 | O11: =tkbieu!N30 -> 0 | P11: =tkbieu!N44 -> 0 | Q11: =tkbieu!N58 -> 0 | R11: =tkbieu!O58 -> 0 | S11: =tkbieu!N72 -> 0 | T11: =tkbieu!N86 -> 0
A13: CHIỀU | B13: 6 | C13: 12h45-13h30 | D13: =tkbieu!M19 -> VHPT THI | E13: =tkbieu!M33 -> VHPT THI | F13: =tkbieu!M47 -> 0 | G13: =tkbieu!M61 -> VHPT THI | H13: =tkbieu!M75 -> L.ĐẶT HỆ THỐNG | I13: =tkbieu!M89 -> L.ĐẶT HỆ THỐNG | K13: CHIỀU | L13: 6 | M13: 12h45-13h30 | N13: =tkbieu!N19 -> 0 | O13: =tkbieu!N33 -> 0 | P13: =tkbieu!N47 -> 0 | Q13: =tkbieu!N61 -> 0 | R13: =tkbieu!O61 -> 0 | S13: =tkbieu!N75 -> 0 | T13: =tkbieu!N89 -> 0
B14: 7 | C14: 13h30-14h15 | D14: =tkbieu!M20 -> GIỮA HK1 | E14: =tkbieu!M34 -> GIỮA HK1 | F14: =tkbieu!M48 -> 0 | G14: =tkbieu!M62 -> GIỮA HK1 | H14: =tkbieu!M76 -> MÁY LẠNH CN | I14: =tkbieu!M90 -> ĐHKK CỤC BỘ | L14: 7 | M14: 13h30-14h15 | N14: =tkbieu!N20 -> 0 | O14: =tkbieu!N34 -> 0 | P14: =tkbieu!N48 -> 0 | Q14: =tkbieu!N62 -> 0 | R14: =tkbieu!O62 -> 0 | S14: =tkbieu!N76 -> 0 | T14: =tkbieu!N90 -> 0
B15: 8 | C15: 14h45-15h30 | D15: =tkbieu!M21 -> 0 | E15: =tkbieu!M35 -> 0 | F15: =tkbieu!M49 -> 0 | G15: =tkbieu!M63 -> 0 | H15: =tkbieu!M77 -> 0 | I15: =tkbieu!M91 -> 0 | L15: 8 | M15: 14h45-15h30 | N15: =tkbieu!N21 -> 0 | O15: =tkbieu!N35 -> 0 | P15: =tkbieu!N49 -> 0 | Q15: =tkbieu!N63 -> 0 | R15: =tkbieu!O63 -> 0 | S15: =tkbieu!N77 -> 0 | T15: =tkbieu!N91 -> 0
B16: 9 | C16: 15h30-16h15 | D16: =tkbieu!M22 -> 0 | E16: =tkbieu!M36 -> 0 | F16: =tkbieu!M50 -> 0 | G16: =tkbieu!M64 -> 0 | H16: =tkbieu!M78 -> B105 | I16: =tkbieu!M92 -> B016 | L16: 9 | M16: 15h30-16h15 | N16: =tkbieu!N22 -> 0 | O16: =tkbieu!N36 -> 0 | P16: =tkbieu!N50 -> 0 | Q16: =tkbieu!N64 -> 0 | R16: =tkbieu!O64 -> 0 | S16: =tkbieu!N78 -> 0 | T16: =tkbieu!N92 -> 0
B17: 10 | C17: 16h15-17h00(LT) 16h15-17h15(TH) | D17: =tkbieu!M23 -> 0 | E17: =tkbieu!M37 -> 0 | F17: =tkbieu!M51 -> 0 | G17: =tkbieu!M65 -> 0 | H17: =tkbieu!M79 -> T. A. HẢI | I17: =tkbieu!M93 -> T. VŨ | L17: 10 | M17: 16h15-17h00(LT) 16h15-17h15(TH) | N17: =tkbieu!N23 -> 0 | O17: =tkbieu!N37 -> 0 | P17: =tkbieu!N51 -> 0 | Q17: =tkbieu!N65 -> 0 | R17: =tkbieu!O65 -> 0 | S17: =tkbieu!N79 -> 0 | T17: =tkbieu!N93 -> 0
A20: =K3 -> ÁP DỤNG TỪ NGÀY 02/11 ĐẾN 30/11/2026
A21: HỌC GIÁO DỤC QUỐC PHÒNG AN NINH 02/11 ĐẾN 13/11/2026
A22: LỚP: | C22: =tkbieu!P10 -> C25DC1 | E22: GVCN: | F22: =tkbieu!P9 -> T. M. TUẤN | H22: ĐT: | I22: 090 382 82 78
A23: Buổi | B23: Tiết | C23: Giờ dạy | D23: THỨ HAI | E23: THỨ BA | F23: THỨ TƯ | G23: THỨ NĂM | H23: THỨ SÁU | I23: THỨ BẢY
A24: SÁNG | B24: 1 | C24: 7h00-7h45 | D24: =tkbieu!P12 -> 0 | E24: =tkbieu!P26 -> 0 | F24: =tkbieu!P40 -> 0 | G24: =tkbieu!P54 -> 0 | H24: =tkbieu!P68 -> 0 | I24: =tkbieu!P82 -> 0
B25: 2 | C25: 7h45-8h30 | D25: =tkbieu!P13 -> 0 | E25: =tkbieu!P27 -> 0 | F25: =tkbieu!P41 -> 0 | G25: =tkbieu!P55 -> 0 | H25: =tkbieu!P69 -> 0 | I25: =tkbieu!P83 -> 0
B26: 3 | C26: 9h00-9h45 | D26: =tkbieu!P14 -> 0 | E26: =tkbieu!P28 -> 0 | F26: =tkbieu!P42 -> 0 | G26: =tkbieu!P56 -> 0 | H26: =tkbieu!P70 -> 0 | I26: =tkbieu!P84 -> 0
B27: 4 | C27: 9h45-10h30 | D27: =tkbieu!P15 -> 0 | E27: =tkbieu!P29 -> 0 | F27: =tkbieu!P43 -> 0 | G27: =tkbieu!P57 -> 0 | H27: =tkbieu!P71 -> 0 | I27: =tkbieu!P85 -> 0
B28: 5 | C28: 10h30-11h15(LT) 10h30-11h30(TH) | D28: =tkbieu!P16 -> 0 | E28: =tkbieu!P30 -> 0 | F28: =tkbieu!P44 -> 0 | G28: =tkbieu!P58 -> 0 | H28: =tkbieu!P72 -> 0 | I28: =tkbieu!P86 -> 0
A30: CHIỀU | B30: 6 | C30: 12h45-13h30 | D30: =tkbieu!P19 -> 0 | E30: =tkbieu!P33 -> 0 | F30: =tkbieu!P47 -> 0 | G30: =tkbieu!P61 -> 0 | H30: =tkbieu!P75 -> 0 | I30: =tkbieu!P89 -> 0
B31: 7 | C31: 13h30-14h15 | D31: =tkbieu!P20 -> 0 | E31: =tkbieu!P34 -> 0 | F31: =tkbieu!P48 -> 0 | G31: =tkbieu!P62 -> 0 | H31: =tkbieu!P76 -> 0 | I31: =tkbieu!P90 -> 0
B32: 8 | C32: 14h45-15h30 | D32: =tkbieu!P21 -> 0 | E32: =tkbieu!P35 -> 0 | F32: =tkbieu!P49 -> 0 | G32: =tkbieu!P63 -> 0 | H32: =tkbieu!P77 -> 0 | I32: =tkbieu!P91 -> 0
B33: 9 | C33: 15h30-16h15 | D33: =tkbieu!P22 -> 0 | E33: =tkbieu!P36 -> 0 | F33: =tkbieu!P50 -> 0 | G33: =tkbieu!P64 -> 0 | H33: =tkbieu!P78 -> 0 | I33: =tkbieu!P92 -> 0
B34: 10 | C34: 16h15-17h00(LT) 16h15-17h15(TH) | D34: =tkbieu!P23 -> 0 | E34: =tkbieu!P37 -> 0 | F34: =tkbieu!P51 -> 0 | G34: =tkbieu!P65 -> 0 | H34: =tkbieu!P79 -> 0 | I34: =tkbieu!P93 -> 0
A37: =A20 -> ÁP DỤNG TỪ NGÀY 02/11 ĐẾN 30/11/2026 | K37: =A37 -> ÁP DỤNG TỪ NGÀY 02/11 ĐẾN 30/11/2026
A39: LỚP: | C39: =tkbieu!K10 -> C24KTML1 | E39: GVCN: | F39: =tkbieu!K9 -> C. ÂN | H39: ĐT: | I39: 0914 425 402 | K39: LỚP: | M39: =tkbieu!L10 -> C24DC1 | O39: GVCN: | P39: =tkbieu!L9 -> T. LUÂN | R39: ĐT: | S39: 093 887 8642
A40: Buổi | B40: Tiết | C40: Giờ dạy | D40: THỨ HAI | E40: THỨ BA | F40: THỨ TƯ | G40: THỨ NĂM | H40: THỨ SÁU | I40: THỨ BẢY | K40: Buổi | L40: Tiết | M40: Giờ dạy | N40: THỨ HAI | O40: THỨ BA | P40: THỨ TƯ | Q40: THỨ NĂM | R40: THỨ SÁU | S40: THỨ BẢY
A41: SÁNG | B41: 1 | C41: 7h00-7h45 | D41: =tkbieu!K12 -> 0 | E41: =tkbieu!K26 -> TỰ ĐỘNG HÓA | F41: =tkbieu!K40 -> 0 | G41: =tkbieu!K54 -> SD PHẦN MỀM | H41: =tkbieu!K68 -> 0 | I41: =tkbieu!K82 -> 0 | K41: SÁNG | L41: 1 | M41: 7h00-7h45 | N41: =tkbieu!L12 -> 0 | O41: =tkbieu!L26 -> ĐỒ ÁN | P41: =tkbieu!L40 -> ĐỒ ÁN | Q41: =tkbieu!L54 -> KHỞI SỰ | R41: =tkbieu!L68 -> ĐỒ ÁN | S41: =tkbieu!L82 -> KHỞI SỰ
B42: 2 | C42: 7h45-8h30 | D42: =tkbieu!K13 -> 0 | E42: =tkbieu!K27 -> HT LẠNH | F42: =tkbieu!K41 -> 0 | G42: =tkbieu!K55 -> CHUYÊN NGÀNH | H42: =tkbieu!K69 -> 0 | I42: =tkbieu!K83 -> 0 | L42: 2 | M42: 7h45-8h30 | N42: =tkbieu!L13 -> 0 | O42: =tkbieu!L27 -> TỐT NGHIỆP | P42: =tkbieu!L41 -> TỐT NGHIỆP | Q42: =tkbieu!L55 -> DOANH NGHIỆP | R42: =tkbieu!L69 -> TỐT NGHIỆP | S42: =tkbieu!L83 -> DOANH NGHIỆP
B43: 3 | C43: 9h00-9h45 | D43: =tkbieu!K14 -> 0 | E43: =tkbieu!K28 -> 0 | F43: =tkbieu!K42 -> 0 | G43: =tkbieu!K56 -> 0 | H43: =tkbieu!K70 -> 0 | I43: =tkbieu!K84 -> 0 | L43: 3 | M43: 9h00-9h45 | N43: =tkbieu!L14 -> 0 | O43: =tkbieu!L28 -> 0 | P43: =tkbieu!L42 -> 0 | Q43: =tkbieu!L56 -> 0 | R43: =tkbieu!L70 -> 0 | S43: =tkbieu!L84 -> 0
B44: 4 | C44: 9h45-10h30 | D44: =tkbieu!K15 -> 0 | E44: =tkbieu!K29 -> A001 | F44: =tkbieu!K43 -> 0 | G44: =tkbieu!K57 -> B002 | H44: =tkbieu!K71 -> 0 | I44: =tkbieu!K85 -> 0 | L44: 4 | M44: 9h45-10h30 | N44: =tkbieu!L15 -> 0 | O44: =tkbieu!L29 -> A305 | P44: =tkbieu!L43 -> A305 | Q44: =tkbieu!L57 -> A207 | R44: =tkbieu!L71 -> A305 | S44: =tkbieu!L85 -> A210
B45: 5 | C45: 10h30-11h15(LT) 10h30-11h30(TH) | D45: =tkbieu!K16 -> 0 | E45: =tkbieu!K30 -> T. TRỌNG | F45: =tkbieu!K44 -> 0 | G45: =tkbieu!K58 -> T. V. TUẤN | H45: =tkbieu!K72 -> 0 | I45: =tkbieu!K86 -> 0 | L45: 5 | M45: 10h30-11h15(LT) 10h30-11h30(TH) | N45: =tkbieu!L16 -> 0 | O45: =tkbieu!L30 -> T. P. NAM | P45: =tkbieu!L44 -> T. P. NAM | Q45: =tkbieu!L58 -> T. K. LONG | R45: =tkbieu!L72 -> T. P. NAM | S45: =tkbieu!L86 -> T. K. LONG
A47: CHIỀU | B47: 6 | C47: 12h45-13h30 | D47: =tkbieu!K19 -> 0 | E47: =tkbieu!K33 -> TỰ ĐỘNG HÓA | F47: =tkbieu!K47 -> 0 | G47: =tkbieu!K61 -> SD PHẦN MỀM | H47: =tkbieu!K75 -> 0 | I47: =tkbieu!K89 -> 0 | K47: CHIỀU | L47: 6 | M47: 12h45-13h30 | N47: =tkbieu!L19 -> 0 | O47: =tkbieu!L33 -> ĐỒ ÁN | P47: =tkbieu!L47 -> ĐỒ ÁN | Q47: =tkbieu!L61 -> 0 | R47: =tkbieu!L75 -> ĐỒ ÁN | S47: =tkbieu!L89 -> 0
B48: 7 | C48: 13h30-14h15 | D48: =tkbieu!K20 -> 0 | E48: =tkbieu!K34 -> HT LẠNH | F48: =tkbieu!K48 -> 0 | G48: =tkbieu!K62 -> CHUYÊN NGÀNH | H48: =tkbieu!K76 -> 0 | I48: =tkbieu!K90 -> 0 | L48: 7 | M48: 13h30-14h15 | N48: =tkbieu!L20 -> 0 | O48: =tkbieu!L34 -> TỐT NGHIỆP | P48: =tkbieu!L48 -> TỐT NGHIỆP | Q48: =tkbieu!L62 -> 0 | R48: =tkbieu!L76 -> TỐT NGHIỆP | S48: =tkbieu!L90 -> 0
B49: 8 | C49: 14h45-15h30 | D49: =tkbieu!K21 -> 0 | E49: =tkbieu!K35 -> 0 | F49: =tkbieu!K49 -> 0 | G49: =tkbieu!K63 -> 0 | H49: =tkbieu!K77 -> 0 | I49: =tkbieu!K91 -> 0 | L49: 8 | M49: 14h45-15h30 | N49: =tkbieu!L21 -> 0 | O49: =tkbieu!L35 -> 0 | P49: =tkbieu!L49 -> 0 | Q49: =tkbieu!L63 -> 0 | R49: =tkbieu!L77 -> 0 | S49: =tkbieu!L91 -> 0
...

Sheet KCNTT
A1: THỜI KHÓA BIỂU KHOA CÔNG NGHỆ THÔNG TIN
A3: =KĐLẠNH!A3 -> ÁP DỤNG TỪ NGÀY 02/11 ĐẾN 30/11/2026 | L3: =A3 -> ÁP DỤNG TỪ NGÀY 02/11 ĐẾN 30/11/2026
A5: LỚP: | C5: =tkbieu!X10 -> T25TKĐH1 | E5: GVCN: | F5: =tkbieu!X9 -> C. S. MAI | H5: ĐT: | I5: 0935 210 585 | L5: LỚP: | N5: =tkbieu!W10 -> T25UDPM1 | P5: GVCN: | Q5: =tkbieu!W9 -> C. OANH | S5: ĐT: | T5: 0938775055
A6: Buổi | B6: Tiết | C6: Giờ dạy | D6: THỨ HAI | E6: THỨ BA | F6: THỨ TƯ | G6: THỨ NĂM | H6: THỨ SÁU | I6: THỨ BẢY | L6: Buổi | M6: Tiết | N6: Giờ dạy | O6: THỨ HAI | P6: THỨ BA | Q6: THỨ TƯ | R6: THỨ NĂM | S6: THỨ SÁU | T6: THỨ BẢY
A7: SÁNG | B7: 1 | C7: 7h00-7h45 | D7: =tkbieu!X12 -> 0 | E7: =tkbieu!X26 -> THIẾT KẾ | F7: =tkbieu!X40 -> 0 | G7: =tkbieu!X54 -> KỸ THUẬT | H7: =tkbieu!X68 -> 0 | I7: =tkbieu!X82 -> T.KẾ BAO BÌ | L7: SÁNG | M7: 1 | N7: 7h00-7h45 | O7: =tkbieu!W12 -> 0 | P7: =tkbieu!W26 -> 0 | Q7: =tkbieu!W40 -> 0 | R7: =tkbieu!W54 -> T. KẾ GIAO DIỆN | S7: =tkbieu!W68 -> 0 | T7: =tkbieu!W82 -> 0
B8: 2 | C8: 7h45-8h30 | D8: =tkbieu!X13 -> 0 | E8: =tkbieu!X27 -> BANNER | F8: =tkbieu!X41 -> 0 | G8: =tkbieu!X55 -> IN ẤN | H8: =tkbieu!X69 -> 0 | I8: =tkbieu!X83 -> NHÃN MÁC | M8: 2 | N8: 7h45-8h30 | O8: =tkbieu!W13 -> 0 | P8: =tkbieu!W27 -> 0 | Q8: =tkbieu!W41 -> 0 | R8: =tkbieu!W55 -> NGƯỜI DÙNG | S8: =tkbieu!W69 -> 0 | T8: =tkbieu!W83 -> 0
B9: 3 | C9: 9h00-9h45 | D9: =tkbieu!X14 -> 0 | E9: =tkbieu!X28 -> 0 | F9: =tkbieu!X42 -> 0 | G9: =tkbieu!X56 -> 0 | H9: =tkbieu!X70 -> 0 | I9: =tkbieu!X84 -> 0 | M9: 3 | N9: 9h00-9h45 | O9: =tkbieu!W14 -> 0 | P9: =tkbieu!W28 -> 0 | Q9: =tkbieu!W42 -> 0 | R9: =tkbieu!W56 -> 0 | S9: =tkbieu!W70 -> 0 | T9: =tkbieu!W84 -> 0
B10: 4 | C10: 9h45-10h30 | D10: =tkbieu!X15 -> 0 | E10: =tkbieu!X29 -> A101 (PM4) | F10: =tkbieu!X43 -> 0 | G10: =tkbieu!X57 -> A103 (PM6) | H10: =tkbieu!X71 -> 0 | I10: =tkbieu!X85 -> A103 (PM6) | M10: 4 | N10: 9h45-10h30 | O10: =tkbieu!W15 -> 0 | P10: =tkbieu!W29 -> 0 | Q10: =tkbieu!W43 -> 0 | R10: =tkbieu!W57 -> A102-1 (PM5.1) | S10: =tkbieu!W71 -> 0 | T10: =tkbieu!W85 -> 0
B11: 5 | C11: 10h30-11h15(LT) 10h30-11h30(TH) | D11: =tkbieu!X16 -> 0 | E11: =tkbieu!X30 -> T. X. LIÊN | F11: =tkbieu!X44 -> 0 | G11: =tkbieu!X58 -> T. HÀO | H11: =tkbieu!X72 -> 0 | I11: =tkbieu!X86 -> T. PHI | M11: 5 | N11: 10h30-11h15(LT) 10h30-11h30(TH) | O11: =tkbieu!W16 -> 0 | P11: =tkbieu!W30 -> 0 | Q11: =tkbieu!W44 -> 0 | R11: =tkbieu!W58 -> C. HÂN | S11: =tkbieu!W72 -> 0 | T11: =tkbieu!W86 -> 0
A13: CHIỀU | B13: 6 | C13: 12h45-13h30 | D13: =tkbieu!X19 -> VHPT THI | E13: =tkbieu!X33 -> VHPT THI | F13: =tkbieu!X47 -> 0 | G13: =tkbieu!X61 -> VHPT THI | H13: =tkbieu!X75 -> THIẾT KẾ | I13: =tkbieu!X89 -> 0 | L13: CHIỀU | M13: 6 | N13: 12h45-13h30 | O13: =tkbieu!W19 -> VHPT THI | P13: =tkbieu!W33 -> VHPT THI | Q13: =tkbieu!W47 -> 0 | R13: =tkbieu!W61 -> VHPT THI | S13: =tkbieu!W75 -> KỸ THUẬT | T13: =tkbieu!W89 -> X.DỰNG & Q.TRỊ
B14: 7 | C14: 13h30-14h15 | D14: =tkbieu!X20 -> GIỮA HK1 | E14: =tkbieu!X34 -> GIỮA HK1 | F14: =tkbieu!X48 -> 0 | G14: =tkbieu!X62 -> GIỮA HK1 | H14: =tkbieu!X76 -> QUẢNG CÁO | I14: =tkbieu!X90 -> 0 | M14: 7 | N14: 13h30-14h15 | O14: =tkbieu!W20 -> GIỮA HK1 | P14: =tkbieu!W34 -> GIỮA HK1 | Q14: =tkbieu!W48 -> 0 | R14: =tkbieu!W62 -> GIỮA HK1 | S14: =tkbieu!W76 -> SEO WEB | T14: =tkbieu!W90 -> WEBSITE
B15: 8 | C15: 14h45-15h30 | D15: =tkbieu!X21 -> 0 | E15: =tkbieu!X35 -> 0 | F15: =tkbieu!X49 -> 0 | G15: =tkbieu!X63 -> 0 | H15: =tkbieu!X77 -> 0 | I15: =tkbieu!X91 -> 0 | M15: 8 | N15: 14h45-15h30 | O15: =tkbieu!W21 -> 0 | P15: =tkbieu!W35 -> 0 | Q15: =tkbieu!W49 -> 0 | R15: =tkbieu!W63 -> 0 | S15: =tkbieu!W77 -> 0 | T15: =tkbieu!W91 -> 0
B16: 9 | C16: 15h30-16h15 | D16: =tkbieu!X22 -> 0 | E16: =tkbieu!X36 -> 0 | F16: =tkbieu!X50 -> 0 | G16: =tkbieu!X64 -> 0 | H16: =tkbieu!X78 -> A101 (PM4) | I16: =tkbieu!X92 -> 0 | M16: 9 | N16: 15h30-16h15 | O16: =tkbieu!W22 -> 0 | P16: =tkbieu!W36 -> 0 | Q16: =tkbieu!W50 -> 0 | R16: =tkbieu!W64 -> 0 | S16: =tkbieu!W78 -> A109 (PM2) | T16: =tkbieu!W92 -> A112 (PM1)
B17: 10 | C17: 16h15-17h00(LT) 16h15-17h15(TH) | D17: =tkbieu!X23 -> 0 | E17: =tkbieu!X37 -> 0 | F17: =tkbieu!X51 -> 0 | G17: =tkbieu!X65 -> 0 | H17: =tkbieu!X79 -> C. HÀ | I17: =tkbieu!X93 -> 0 | M17: 10 | N17: 16h15-17h00(LT) 16h15-17h15(TH) | O17: =tkbieu!W23 -> 0 | P17: =tkbieu!W37 -> 0 | Q17: =tkbieu!W51 -> 0 | R17: =tkbieu!W65 -> 0 | S17: =tkbieu!W79 -> T. DUY | T17: =tkbieu!W93 -> T. VÂN
A20: =A3 -> ÁP DỤNG TỪ NGÀY 02/11 ĐẾN 30/11/2026 | L20: =L3 -> ÁP DỤNG TỪ NGÀY 02/11 ĐẾN 30/11/2026
A21: HỌC GIÁO DỤC QUỐC PHÒNG AN NINH 02/11 ĐẾN 13/11/2026 | L21: HỌC GIÁO DỤC QUỐC PHÒNG AN NINH 02/11 ĐẾN 07/11/2026
A22: LỚP: | C22: =tkbieu!Y10 -> C25UDPM1 | E22: GVCN: | F22: =tkbieu!Y9 -> C. OANH | H22: ĐT: | I22: 0938775055 | L22: LỚP: | N22: =tkbieu!Z10 -> C25TKĐH(LT) | P22: GVCN: | Q22: =tkbieu!Z9 -> C. T. LINH | S22: ĐT: | T22: 0983626852
A23: Buổi | B23: Tiết | C23: Giờ dạy | D23: THỨ HAI | E23: THỨ BA | F23: THỨ TƯ | G23: THỨ NĂM | H23: THỨ SÁU | I23: THỨ BẢY | L23: Buổi | M23: Tiết | N23: Giờ dạy | O23: THỨ HAI | P23: THỨ BA | Q23: THỨ TƯ | R23: THỨ NĂM | S23: THỨ SÁU | T23: THỨ BẢY
A24: SÁNG | B24: 1 | C24: 7h00-7h45 | D24: =tkbieu!Y12 -> 0 | E24: =tkbieu!Y26 -> 0 | F24: =tkbieu!Y40 -> 0 | G24: =tkbieu!Y54 -> 0 | H24: =tkbieu!Y68 -> 0 | I24: =tkbieu!Y82 -> 0 | L24: SÁNG | M24: 1 | N24: 7h00-7h45 | O24: =tkbieu!Z12 -> 0 | P24: =tkbieu!Z26 -> 0 | Q24: =tkbieu!Z40 -> 0 | R24: =tkbieu!Z54 -> 0 | S24: =tkbieu!Z68 -> 0 | T24: =tkbieu!Z82 -> 0
B25: 2 | C25: 7h45-8h30 | D25: =tkbieu!Y13 -> 0 | E25: =tkbieu!Y27 -> 0 | F25: =tkbieu!Y41 -> 0 | G25: =tkbieu!Y55 -> 0 | H25: =tkbieu!Y69 -> 0 | I25: =tkbieu!Y83 -> 0 | M25: 2 | N25: 7h45-8h30 | O25: =tkbieu!Z13 -> 0 | P25: =tkbieu!Z27 -> 0 | Q25: =tkbieu!Z41 -> 0 | R25: =tkbieu!Z55 -> 0 | S25: =tkbieu!Z69 -> 0 | T25: =tkbieu!Z83 -> 0
B26: 3 | C26: 9h00-9h45 | D26: =tkbieu!Y14 -> 0 | E26: =tkbieu!Y28 -> 0 | F26: =tkbieu!Y42 -> 0 | G26: =tkbieu!Y56 -> 0 | H26: =tkbieu!Y70 -> 0 | I26: =tkbieu!Y84 -> 0 | M26: 3 | N26: 9h00-9h45 | O26: =tkbieu!Z14 -> 0 | P26: =tkbieu!Z28 -> 0 | Q26: =tkbieu!Z42 -> 0 | R26: =tkbieu!Z56 -> 0 | S26: =tkbieu!Z70 -> 0 | T26: =tkbieu!Z84 -> 0
B27: 4 | C27: 9h45-10h30 | D27: =tkbieu!Y15 -> 0 | E27: =tkbieu!Y29 -> 0 | F27: =tkbieu!Y43 -> 0 | G27: =tkbieu!Y57 -> 0 | H27: =tkbieu!Y71 -> 0 | I27: =tkbieu!Y85 -> 0 | M27: 4 | N27: 9h45-10h30 | O27: =tkbieu!Z15 -> 0 | P27: =tkbieu!Z29 -> 0 | Q27: =tkbieu!Z43 -> 0 | R27: =tkbieu!Z57 -> 0 | S27: =tkbieu!Z71 -> 0 | T27: =tkbieu!Z85 -> 0
B28: 5 | C28: 10h30-11h15(LT) 10h30-11h30(TH) | D28: =tkbieu!Y16 -> 0 | E28: =tkbieu!Y30 -> 0 | F28: =tkbieu!Y44 -> 0 | G28: =tkbieu!Y58 -> 0 | H28: =tkbieu!Y72 -> 0 | I28: =tkbieu!Y86 -> 0 | M28: 5 | N28: 10h30-11h15(LT) 10h30-11h30(TH) | O28: =tkbieu!Z16 -> 0 | P28: =tkbieu!Z30 -> 0 | Q28: =tkbieu!Z44 -> 0 | R28: =tkbieu!Z58 -> 0 | S28: =tkbieu!Z72 -> 0 | T28: =tkbieu!Z86 -> 0
A30: CHIỀU | B30: 6 | C30: 12h45-13h30 | D30: =tkbieu!Y19 -> 0 | E30: =tkbieu!Y33 -> 0 | F30: =tkbieu!Y47 -> 0 | G30: =tkbieu!Y61 -> 0 | H30: =tkbieu!Y75 -> 0 | I30: =tkbieu!Y89 -> 0 | L30: CHIỀU | M30: 6 | N30: 12h45-13h30 | O30: =tkbieu!Z19 -> 0 | P30: =tkbieu!Z33 -> 0 | Q30: =tkbieu!Z47 -> 0 | R30: =tkbieu!Z61 -> 0 | S30: =tkbieu!Z75 -> 0 | T30: =tkbieu!Z89 -> 0
B31: 7 | C31: 13h30-14h15 | D31: =tkbieu!Y20 -> 0 | E31: =tkbieu!Y34 -> 0 | F31: =tkbieu!Y48 -> 0 | G31: =tkbieu!Y62 -> 0 | H31: =tkbieu!Y76 -> 0 | I31: =tkbieu!Y90 -> 0 | M31: 7 | N31: 13h30-14h15 | O31: =tkbieu!Z20 -> 0 | P31: =tkbieu!Z34 -> 0 | Q31: =tkbieu!Z48 -> 0 | R31: =tkbieu!Z62 -> 0 | S31: =tkbieu!Z76 -> 0 | T31: =tkbieu!Z90 -> 0
B32: 8 | C32: 14h45-15h30 | D32: =tkbieu!Y21 -> 0 | E32: =tkbieu!Y35 -> 0 | F32: =tkbieu!Y49 -> 0 | G32: =tkbieu!Y63 -> 0 | H32: =tkbieu!Y77 -> 0 | I32: =tkbieu!Y91 -> 0 | M32: 8 | N32: 14h45-15h30 | O32: =tkbieu!Z21 -> 0 | P32: =tkbieu!Z35 -> 0 | Q32: =tkbieu!Z49 -> 0 | R32: =tkbieu!Z63 -> 0 | S32: =tkbieu!Z77 -> 0 | T32: =tkbieu!Z91 -> 0
B33: 9 | C33: 15h30-16h15 | D33: =tkbieu!Y22 -> 0 | E33: =tkbieu!Y36 -> 0 | F33: =tkbieu!Y50 -> 0 | G33: =tkbieu!Y64 -> 0 | H33: =tkbieu!Y78 -> 0 | I33: =tkbieu!Y92 -> 0 | M33: 9 | N33: 15h30-16h15 | O33: =tkbieu!Z22 -> 0 | P33: =tkbieu!Z36 -> 0 | Q33: =tkbieu!Z50 -> 0 | R33: =tkbieu!Z64 -> 0 | S33: =tkbieu!Z78 -> 0 | T33: =tkbieu!Z92 -> 0
B34: 10 | C34: 16h15-17h00(LT) 16h15-17h15(TH) | D34: =tkbieu!Y23 -> 0 | E34: =tkbieu!Y37 -> 0 | F34: =tkbieu!Y51 -> 0 | G34: =tkbieu!Y65 -> 0 | H34: =tkbieu!Y79 -> 0 | I34: =tkbieu!Y93 -> 0 | M34: 10 | N34: 16h15-17h00(LT) 16h15-17h15(TH) | O34: =tkbieu!Z23 -> 0 | P34: =tkbieu!Z37 -> 0 | Q34: =tkbieu!Z51 -> 0 | R34: =tkbieu!Z65 -> 0 | S34: =tkbieu!Z79 -> 0 | T34: =tkbieu!Z93 -> 0
A37: =#REF! -> #REF! | L37: =A37 -> #REF!
A39: LỚP: | C39: =tkbieu!S10 -> T24TKĐH1 | E39: GVCN: | F39: =tkbieu!S9 -> T. T. TÀI | H39: ĐT: | L39: LỚP: | N39: =tkbieu!T10 -> T24TKĐH2 | P39: GVCN: | Q39: =tkbieu!T9 -> C. HỒNG | S39: ĐT: | T39: 0986 943 862
A40: Buổi | B40: Tiết | C40: Giờ dạy | D40: THỨ HAI | E40: THỨ BA | F40: THỨ TƯ | G40: THỨ NĂM | H40: THỨ SÁU | I40: THỨ BẢY | L40: Buổi | M40: Tiết | N40: Giờ dạy | O40: THỨ HAI | P40: THỨ BA | Q40: THỨ TƯ | R40: THỨ NĂM | S40: THỨ SÁU | T40: THỨ BẢY
A41: SÁNG | B41: 1 | C41: 7h00-7h45 | D41: =tkbieu!S12 -> 0 | E41: =tkbieu!S26 -> HỌC VHPT | F41: =tkbieu!S40 -> HỌC VHPT | G41: =tkbieu!S54 -> HỌC VHPT | H41: =tkbieu!S68 -> HỌC VHPT | I41: =tkbieu!S82 -> 0 | L41: SÁNG | M41: 1 | N41: 7h00-7h45 | O41: =tkbieu!T12 -> 0 | P41: =tkbieu!T26 -> HỌC VHPT | Q41: =tkbieu!T40 -> HỌC VHPT | R41: =tkbieu!T54 -> HỌC VHPT | S41: =tkbieu!T68 -> HỌC VHPT | T41: =tkbieu!T82 -> 0
B42: 2 | C42: 7h45-8h30 | D42: =tkbieu!S13 -> 0 | E42: =tkbieu!S27 -> THEO TKB | F42: =tkbieu!S41 -> THEO TKB | G42: =tkbieu!S55 -> THEO TKB | H42: =tkbieu!S69 -> THEO TKB | I42: =tkbieu!S83 -> 0 | M42: 2 | N42: 7h45-8h30 | O42: =tkbieu!T13 -> 0 | P42: =tkbieu!T27 -> THEO TKB | Q42: =tkbieu!T41 -> THEO TKB | R42: =tkbieu!T55 -> THEO TKB | S42: =tkbieu!T69 -> THEO TKB | T42: =tkbieu!T83 -> 0
B43: 3 | C43: 9h00-9h45 | D43: =tkbieu!S14 -> 0 | E43: =tkbieu!S28 -> TTGDTX | F43: =tkbieu!S42 -> TTGDTX | G43: =tkbieu!S56 -> TTGDTX | H43: =tkbieu!S70 -> TTGDTX | I43: =tkbieu!S84 -> 0 | M43: 3 | N43: 9h00-9h45 | O43: =tkbieu!T14 -> 0 | P43: =tkbieu!T28 -> TTGDTX | Q43: =tkbieu!T42 -> TTGDTX | R43: =tkbieu!T56 -> TTGDTX | S43: =tkbieu!T70 -> TTGDTX | T43: =tkbieu!T84 -> 0
B44: 4 | C44: 9h45-10h30 | D44: =tkbieu!S15 -> 0 | E44: =tkbieu!S29 -> 0 | F44: =tkbieu!S43 -> 0 | G44: =tkbieu!S57 -> 0 | H44: =tkbieu!S71 -> 0 | I44: =tkbieu!S85 -> 0 | M44: 4 | N44: 9h45-10h30 | O44: =tkbieu!T15 -> 0 | P44: =tkbieu!T29 -> 0 | Q44: =tkbieu!T43 -> 0 | R44: =tkbieu!T57 -> 0 | S44: =tkbieu!T71 -> 0 | T44: =tkbieu!T85 -> 0
B45: 5 | C45: 10h30-11h15(LT) 10h30-11h30(TH) | D45: =tkbieu!S16 -> 0 | E45: =tkbieu!S30 -> 0 | F45: =tkbieu!S44 -> 0 | G45: =tkbieu!S58 -> 0 | H45: =tkbieu!S72 -> 0 | I45: =tkbieu!S86 -> 0 | M45: 5 | N45: 10h30-11h15(LT) 10h30-11h30(TH) | O45: =tkbieu!T16 -> 0 | P45: =tkbieu!T30 -> 0 | Q45: =tkbieu!T44 -> 0 | R45: =tkbieu!T58 -> 0 | S45: =tkbieu!T72 -> 0 | T45: =tkbieu!T86 -> 0
A47: CHIỀU | B47: 6 | C47: 12h45-13h30 | D47: =tkbieu!S19 -> 0 | E47: =tkbieu!S33 -> 0 | F47: =tkbieu!S47 -> 0 | G47: =tkbieu!S61 -> 0 | H47: =tkbieu!S75 -> 0 | I47: =tkbieu!S89 -> 0 | L47: CHIỀU | M47: 6 | N47: 12h45-13h30 | O47: =tkbieu!T19 -> 0 | P47: =tkbieu!T33 -> 0 | Q47: =tkbieu!T47 -> 0 | R47: =tkbieu!T61 -> 0 | S47: =tkbieu!T75 -> 0 | T47: =tkbieu!T89 -> 0
B48: 7 | C48: 13h30-14h15 | D48: =tkbieu!S20 -> 0 | E48: =tkbieu!S34 -> 0 | F48: =tkbieu!S48 -> 0 | G48: =tkbieu!S62 -> 0 | H48: =tkbieu!S76 -> 0 | I48: =tkbieu!S90 -> 0 | M48: 7 | N48: 13h30-14h15 | O48: =tkbieu!T20 -> 0 | P48: =tkbieu!T34 -> 0 | Q48: =tkbieu!T48 -> 0 | R48: =tkbieu!T62 -> 0 | S48: =tkbieu!T76 -> 0 | T48: =tkbieu!T90 -> 0
B49: 8 | C49: 14h45-15h30 | D49: =tkbieu!S21 -> 0 | E49: =tkbieu!S35 -> 0 | F49: =tkbieu!S49 -> 0 | G49: =tkbieu!S63 -> 0 | H49: =tkbieu!S77 -> 0 | I49: =tkbieu!S91 -> 0 | M49: 8 | N49: 14h45-15h30 | O49: =tkbieu!T21 -> 0 | P49: =tkbieu!T35 -> 0 | Q49: =tkbieu!T49 -> 0 | R49: =tkbieu!T63 -> 0 | S49: =tkbieu!T77 -> 0 | T49: =tkbieu!T91 -> 0
B50: 9 | C50: 15h30-16h15 | D50: =tkbieu!S22 -> 0 | E50: =tkbieu!S36 -> 0 | F50: =tkbieu!S50 -> 0 | G50: =tkbieu!S64 -> 0 | H50: =tkbieu!S78 -> 0 | I50: =tkbieu!S92 -> 0 | M50: 9 | N50: 15h30-16h15 | O50: =tkbieu!T22 -> 0 | P50: =tkbieu!T36 -> 0 | Q50: =tkbieu!T50 -> 0 | R50: =tkbieu!T64 -> 0 | S50: =tkbieu!T78 -> 0 | T50: =tkbieu!T92 -> 0
...

Sheet 02.11
A1: LỊCH THEO DÕI PHÒNG HỌC: 02/11/2026
A2: Tổng cộng: 16 phòng lý thuyết LỚP NGÀY
A3: Sức chứa | C3: 40 | D3: 50 | E3: 50 | F3: 50 | G3: 50 | H3: 50 | I3: 50 | J3: 50 | K3: 50 | L3: 50 | M3: 50 | N3: 40 | O3: 30 (16) | P3: 30 (18)
A4: PHÒNG | C4: 004 | D4: 104 | E4: 201 | F4: 202 | G4: 203 | H4: 204 | I4: 205 | J4: 206 | K4: 207 | L4: 208 | M4: HT1A | N4: HT1B | O4: HT2A | P4: HT2B
A5: Số hiệu phòng mới | C5: A004 | D5: A104 | E5: A207 | F5: A208 | G5: A209 | H5: A210 | I5: A201 | J5: A202 | K5: A203 | L5: A204 | M5: A212 | N5: A211 | O5: C001 | P5: C002
C6: 1 | D6: 2 | E6: 3 | F6: 4 | G6: 5 | H6: 6 | I6: 7 | J6: 8 | K6: 9 | L6: 10 | M6: 11 | N6: 12 | O6: 13 | P6: 14
A7: Thiết bị | C7: 1 camera 2 quạt TT | D7: 1 Tivi 1 camera 4 quạt TT | E7: 1 Tivi 1 camera 5 quạt TT | F7: 1 Tivi 1 camera 4 quạt TT | G7: 1 Tivi 1 camera 4 quạt TT | H7: 1 Tivi 1 camera 3 quạt TT | I7: 1 Tivi 1 camera phòng AV | J7: 1 camera phòng AV | K7: 1 Tivi 1 camera 6 quạt TT | L7: 1 Tivi 1 camera 5 quạt TT | M7: Màn chiếu 1 camera (Bảng ĐT) | N7: 1 camera | O7: 1 Tivi 1 camera 4 quạt TT | P7: 1 Tivi 1 camera 4 quạt TT
A8: Hai 02/11 | B8: Sáng | C8: L12 | D8: L12 | G8: C. Q. PHƯƠNG | H8: =[1]tkbieu!R16 -> T. C. HOÀNG | K8: L11 | L8: L11
B9: Chiều | F9: L10 | G9: L10 | K9: L11 | L9: L11
A10: Ba 03/11 | B10: Sáng | C10: L12 | D10: L12 | E10: C. L. PHƯƠNG | G10: T. Y. LONG
B11: Chiều | F11: L10 | G11: L10
A12: Tư 04/11 | B12: Sáng | C12: L12 | D12: L12 | F12: T. C. HOÀNG | K12: L11 | L12: L11
B13: Chiều | F13: L10 | G13: L10 | H13: C. MI | K13: L11 | L13: L11
A14: Năm 05/11 | B14: Sáng | C14: L12 | D14: L12 | E14: =tkbieu!L58 -> T. K. LONG | F14: C. NGUYỆT | G14: T. QUANG
B15: Chiều | F15: L10 | G15: L10
A16: Sáu 06/11 | B16: Sáng | C16: L12 | D16: L12 | E16: T. V. HẢI | G16: C. T. TRANG | K16: L11 | L16: L11
B17: Chiều | E17: =tkbieu!I79 -> T. QUÂN | F17: L10 | G17: L10
A18: Bảy 07/11 | B18: Sáng | F18: C. THẢO | G18: C. S. MAI | H18: =tkbieu!L86 -> T. K. LONG
B19: Chiều
A20: Chủ Nhật 12/7 | B20: Sáng
B21: Chiều
E25: Tối thứ 2, 4: học AV language link phòng A209

Sheet Data
D1: ÁP DỤNG TỪ NGÀY 26/09/2011
A2: T.THỊNH | B2: 0908301262 | D2: ÁP DỤNG TỪ NGÀY 03/10/2011
A3: ĐAN | B3: 0947775181 | D3: ÁP DỤNG TỪ NGÀY 10/10/2011 | K3: T.Nghiệp
A4: C.TÚ | B4: 0914135548 | D4: ÁP DỤNG TỪ NGÀY 17/10/2011 | M4: =MID(K3,3,13) -> Nghiệp
A5: trong nghĩa | B5: 0902933664 | C5: trongnghia8881@yahoo.com.vn | D5: ÁP DỤNG TỪ NGÀY 24/10/2011 | M5: =VLOOKUP(MID(K3,3,13),B10:C39,2,0) -> #N/A
D6: ÁP DỤNG TỪ NGÀY 31/10/2011
D7: ÁP DỤNG TỪ NGÀY 07/11/2011
A8: Giáo viên CN | D8: ÁP DỤNG TỪ NGÀY 14/11/2011 | H8: KHOA CƠ KHÍ
A9: Họ và tên | B9: Tên | C9: Số điện thoại | D9: ÁP DỤNG TỪ NGÀY 21/11/2011 | G9: 1 | H9: CÁC P.PHÁP | I9: NGUYÊN LÝ | J9: GIA CÔNG | K9: PHAY | L9: LẬP TRÌNH | M9: GIA CÔNG | O9: LĂN NHÁM,
A10: Phạm Ngọc Thanh | B10: Thanh | C10: 0938011994 | D10: ÁP DỤNG TỪ NGÀY 28/11/2011 | G10: 2 | H10: G.CÔNG MỚI | I10: CT MÁY | J10: TRÊN MP CNC | K10: CƠ BẢN | L10: TIỆN CNC | M10: TRÊN MÁY MÀI PHẲNG | N10: VẬT LIỆU | O10: LĂN ÉP
A11: Nguyễn Trí Cường | B11: Cường | C11: 0908451597 | D11: ÁP DỤNG TỪ NGÀY 05/12/2011 | G11: 3 | N11: CƠ KHÍ | O11: AD: 28/11
A12: Nguyễn Tấn Tài | B12: Tài | C12: 0913829320 | D12: ÁP DỤNG TỪ NGÀY 12/12/2011 | G12: 4 | H12: X.CK | I12: P.108B | J12: P.CNC | K12: X.TIỆN | L12: P.MT | M12: X.TIỆN | N12: P.204 | O12: X.TIỆN
A13: Đặng Thị Tuyết Mai | B13: Mai | C13: 01698706075 | D13: ÁP DỤNG TỪ NGÀY 19/12/2011 | G13: 5 | H13: C.HƯƠNG | I13: C.HƯƠNG | J13: C.THƯ | K13: T.HỶ | L13: C.THƯ | M13: T.QUỐC | N13: C.HIỀN | O13: T.CƯƠNG
A14: Huỳnh Xuân Nghiệp | B14: Nghiệp | C14: 0932574398 | D14: ÁP DỤNG TỪ NGÀY 26/12/2011 | G14: 6
A15: Phan Vũ Nguyên Khương | B15: Khương | C15: 0982341432 | D15: ÁP DỤNG TỪ NGÀY 02/01/2012 | G15: 7 | H15: KHÍ NÉN | I15: TIỆN REN | J15: BÀO | K15: TIỆN | L15: NGUYÊN LÝ | M15: SỨC BỀN | N15: VẼ KT | O15: CƠ | P15: TIỆN | Q15: PHAY | R15: LẬP TRÌNH
A16: Nguyễn Thanh Xuân | B16: Xuân | C16: 0932733896 | D16: ÁP DỤNG TỪ NGÀY 09/01/2012 | G16: 8 | H16: THỦY LỰC | I16: TAM GIÁC | J16: NÂNG CAO | K16: CƠ BẢN | L16: CẮT | M16: VẬT LIỆU | O16: LÝ THUYẾT | P16: N. CAO | Q16: BÁNH RĂNG | R16: TIỆN CNC
A17: Nghiêm Thị | B17: Thoa | C17: 0942846334 | D17: ÁP DỤNG TỪ NGÀY 16/01/2012 | G17: 9 | K17: AD: 31/10 | M17: P. | N17: P. | O17: P. | P17: X.TIỆN | Q17: X.TIỆN | R17: P.MT
A18: Phan Thị Bảo Vy | B18: B.Vy | C18: 0903960582 | D18: ÁP DỤNG TỪ NGÀY 23/01/2012 | G18: 10 | H18: X.KNTL | I18: X.TIỆN | J18: X.TIỆN | K18: X.TIỆN | L18: P. 108B | M18: T.TRƯƠNG | N18: T.QUỐC | O18: T.TRƯƠNG | P18: T.CƯƠNG | Q18: T.HỶ | R18: T.TUẤN
A19: Nguyễn Công Hoan | B19: Hoan | C19: 0935319022 | D19: ÁP DỤNG TỪ NGÀY 30/01/2012 | G19: 11 | H19: T.NAM | I19: C.CƯƠNG | J19: T.HỶ | K19: T.TUẤN | L19: T.QUỐC
A20: Ngô Vũ Quỳnh Anh | B20: Q.Anh | C20: 0977517367 | D20: ÁP DỤNG TỪ NGÀY 06/02/2012 | G20: 12
A21: Phan Thị Đăng Thư | B21: Thư | C21: 0903373645 | D21: ÁP DỤNG TỪ NGÀY 13/02/2012
A22: Lê Lân | B22: Lân | C22: 0937542279 | D22: ÁP DỤNG TỪ NGÀY 20/02/2012
A23: Nguyễn Văn Dương | B23: Dương | C23: 0907591215 | D23: ÁP DỤNG TỪ NGÀY 27/02/2012 | H23: KHOA Ô TÔ
A24: Đồng Tấn Lập | B24: Lập | C24: 0913628988 | D24: ÁP DỤNG TỪ NGÀY 05/03/2012 | G24: 1 | H24: SC -BD | I24: SC -BD | J24: SC -BD | K24: SC -BD | L24: SC - BD | M24: SC -BD | N24: SC -BD | O24: SC BD | P24: THIẾT BỊ | Q24: KỸ THUẬT | R24: KỸ THUẬT | S24: SC BD | U24: X.OTO 1
A25: Nguyễn Văn Hoàng | B25: Hoàng | C25: 0908230864 | D25: ÁP DỤNG TỪ NGÀY 12/03/2012 | G25: 2 | H25: HỆ THỐNG | I25: HỆ THỐNG | J25: HỆ THỐNG | K25: HỆ THỐNG | L25: HỆ THỐNG | M25: HỆ THỐNG | N25: HỆ THỐNG | O25: HỆ THỐNG | P25: ĐO KIỂM | Q25: CHUNG | R25: CHUNG | S25: HỆ THỐNG | U25: X.OTO 2
A26: Nguyễn Thị Oanh | B26: Oanh | C26: 0985516982 | D26: ÁP DỤNG TỪ NGÀY 19/03/2012 | G26: 3 | H26: NLĐCX | I26: PHANH | J26: T.ĐỘNG | K26: PHANH | L26: T.ĐỘNG | M26: T.ĐỘNG | N26: KĐ - ĐL | O26: BT - LM | P26: CHẨN ĐOÁN | Q26: Ô TÔ | R26: Ô TÔ | S26: TR. ĐỘNG
A27: Đinh Thị Huyền Diệu | B27: Diệu | C27: 01268622124 | D27: ÁP DỤNG TỪ NGÀY 26/03/2012 | G27: 4 | H27: X.OTO1 | I27: X.ÔTÔ 2 | J27: P.001 | K27: X.OTO1 | L27: X.OTO1 | M27: X.OTO2 | N27: X.OTO1 | O27: P.001 | P27: P.003 | Q27: X.OTO1 | R27: X.OTO2 | S27: X.OTO2
A28: Lý Siều Hải | B28: Hải | C28: 0908870554 | D28: ÁP DỤNG TỪ NGÀY 02/04/2012 | G28: 5 | H28: T.THƯƠNG | I28: T.DƯƠNG | J28: T.DƯƠNG | K28: T.LÂN | L28: T.LÂN | M28: T.LÂN | N28: T.TẦN | O28: T.KHÁNH | P28: T.KHÁNH | Q28: T. HÀ | R28: T.TRÍ | S28: T.TRÍ
A29: Bùi Mai Hoàng Thảo | B29: Thảo | C29: 0908343496 | D29: ÁP DỤNG TỪ NGÀY 09/04/2012 | G29: 6
A30: Nguyễn Đình Tần | B30: Tần | C30: 0937648567 | D30: ÁP DỤNG TỪ NGÀY 16/04/2012 | G30: 7 | H30: SC - BD | I30: SC-BD | K30: SC -BD | L30: SC - BD | M30: SC -BD | N30: SC - BD | O30: SC - BD | Q30: KỸ THUẬT
A31: Trần Quản Quốc | B31: Quốc | C31: 0907748318 | D31: ÁP DỤNG TỪ NGÀY 23/04/2012 | G31: 8 | H31: HỆ THỐNG | I31: HỆ THỐNG | K31: HỆ THỐNG | L31: HỆ THỐNG | M31: HỆ THỐNG | N31: HỆ THỐNG | O31: HỆ THỐNG | Q31: CHUNG
A32: Trần Thanh Phong | B32: Phong | C32: 0903654143 | D32: ÁP DỤNG TỪ NGÀY 30/04/2012 | G32: 9 | H32: BT - LM | I32: PHANH | K32: PHANH | L32: T.ĐỘNG | M32: T.ĐỘNG | N32: ĐK - ĐL | O32: BT - LM | Q32: Ô TÔ
A33: Nguyễn Hiệp | B33: Hiệp | C33: 0938231264 | D33: ÁP DỤNG TỪ NGÀY 07/05/2012 | G33: 10 | H33: P.001 | I33: X.ÔTÔ 2 | K33: X.OTO1 | L33: X.OTO1 | M33: X.OTO2 | N33: X.OTO1 | O33: P.001 | Q33: X.OTO1
A34: Nguyễn Thái Bình | B34: Bình | C34: 0918396785 | D34: ÁP DỤNG TỪ NGÀY 14/05/2012 | G34: 11 | H34: T.KHÁNH | I34: T.DƯƠNG | K34: T.LÂN | L34: T.LÂN | M34: T.LÂN | N34: T.TẦN | O34: T.KHÁNH | Q34: T. HÀ
A35: Nguyễn Mạnh Dũng | B35: Dũng | C35: 0919220544 | D35: ÁP DỤNG TỪ NGÀY 21/05/2012 | G35: 12
A36: Phạm Ngọc Cương | B36: Cương | C36: 0903375234 | D36: ÁP DỤNG TỪ NGÀY 28/05/2012
A37: Trần Văn Được | B37: Được | C37: 0903628303 | D37: ÁP DỤNG TỪ NGÀY 04/06/2012 | H37: KHOA CƠ BẢN
A38: Đặng Xuân Mạnh | B38: Mạnh | C38: 0973233579 | D38: ÁP DỤNG TỪ NGÀY 11/06/2012 | G38: 1 | H38: VĂN 5 | I38: ANH VĂN | J38: LÝ 3 | K38: VĂN 3 | L38: TOÁN 5 | M38: GDTC | N38: TOÁN 3 | O38: HÓA 5 | P38: HÓA 3 | Q38: TOÁN 5 | R38: SHCN | S38: GDTC | T38: HÓA | U38: PHÁP | V38: PHÁP | W38: HÓA | X38: PHÁP
A39: Nguyễn Lê Thái | B39: Thái | C39: 0946059100 | D39: ÁP DỤNG TỪ NGÀY 18/06/2012 | G39: 2 | H39: P.202 | I39: C. NGÀNH | J39: P.202 | K39: P.202 | M39: S.TRƯỜNG | O39: P.206 | P39: P.204 | R39: P.203 | T39: CƠ BẢN | U39: LUẬT | V39: LUẬT | W39: P.201 | X39: LUẬT
A40: Lê Hoàng Thanh Vy | B40: T.Vy | C40: 0907589632 | D40: ÁP DỤNG TỪ NGÀY 25/06/2012 | G40: 3 | H40: C.HẰNG | J40: C.YẾN | K40: C.CHUNG | M40: T.ĐAN | O40: C.HẠNH | P40: C.HOA | R40: GDTC | U40: P.1 | V40: P. | W40: C.HOA | X40: P.
...
