Workbook

Sheet tkbieu
D7: SỈ SỐ | E7: 14 | F7: 11 | G7: 12 | J7: 17 | K7: 10 | L7: 15 | M7: 13 | N7: 17 | P7: 13 | Q7: 6 | R7: 18 | S7: 15 | T7: 16 | U7: 12 | V7: 19 | W7: 6 | X7: 19 | Y7: 6 | Z7: 7 | AA7: Tổng số | AB7: =SUM(E7:V7) -> 208
D8: KHOA | E8: KHOA CƠ KHÍ ÔTÔ | K8: KHOA ĐIỆN VÀ ĐIỆN LẠNH | Q8: KHOA CÔNG NGHỆ THÔNG TIN
A9: GVCN | C9: TIẾT | D9: GIỜ | E9: T. HUY | F9: C. T. TRANG | G9: T. V. V. HOÀNG | H9: T. LÂN | I9: T. LÂN | J9: T. Y. LONG | K9: C. ÂN | L9: T. LUÂN | M9: C. THẢO | N9: T. CHƯƠNG | O9: T. CHƯƠNG | P9: T. M. TUẤN | Q9: T. HIỆP | R9: C. Q. PHƯƠNG | S9: T. T. TÀI | T9: C. HỒNG | U9: T. THÀNH | V9: C. T. OANH | W9: C. OANH | X9: C. S. MAI | Y9: C. OANH | Z9: C. T. LINH | AA9: GIỜ DẠY | AB9: TIẾT | AC9: GVCN
A10: LỚP | D10: DẠY | E10: T24OTO1 | F10: T24OTO2 | G10: C24CK1 | H10: T25OTO1 (N1) | I10: T25OTO1 (N2) | J10: C25CK1 | K10: C24KTML1 | L10: C24DC1 | M10: T25KTML1 | N10: C25KTML1 | O10: C25KTML1 | P10: C25DC1 | Q10: C24LRMT1 | R10: T24UDPM1 | S10: T24TKĐH1 | T10: T24TKĐH2 | U10: C24UDPM1 | V10: C24TKĐH1 | W10: T25UDPM1 | X10: T25TKĐH1 | Y10: C25UDPM1 | Z10: C25TKĐH(LT) | AD10: LỚP | AG10: =COUNTA(G10:Q10) -> 11
A11: THỨ HAI 02/11 | B11: BẮT ĐẦU & KẾT THÚC TIẾN ĐỘ | AD11: THỨ HAI
B12: SÁNG | C12: 1 | D12: 7h00-7h45 | E12: HỌC VHPT | F12: HỌC VHPT | AA12: 7h00-7h45 | AB12: 1
C13: 2 | D13: 7h45-8h30 | E13: THEO TKB | F13: THEO TKB | AA13: 7h45-8h30 | AB13: 2
C14: 3 | D14: 9h00-9h45 | E14: TTGDTX | F14: TTGDTX | AA14: 9h00-9h45 | AB14: 3
C15: 4 | D15: 9h45-10h30 | AA15: 9h45-10h30 | AB15: 4 | AG15: =COUNTA(E15:Q15) -> 0
C16: 5 | D16: 10h30-11h15 | AA16: 10h30-11h15 | AB16: 5 | AG16: =COUNTA(E16:Q16) -> 0
AA17: 11h00-11h45 | AB17: 6
B18: BẮT ĐẦU & KẾT THÚC TIẾN ĐỘ | G18: 14/9- | J18: 16/11- | Q18: 05/10- | AA18: KẾT THÚC TIẾN ĐỘ
B19: CHIỀU | C19: 6 | D19: 12h45-13h30 | G19: ĐỒ ÁN | H19: VHPT THI | I19: VHPT THI | J19: PHAY, BÀO MP// | M19: VHPT THI | Q19: LẮP ĐẶT HT | W19: VHPT THI | X19: VHPT THI | AA19: 12h45-13h30 | AB19: 6 | AC19: CHIỀU
C20: 7 | D20: 13h30-14h15 | G20: TỐT NGHIỆP | H20: GIỮA HK1 | I20: GIỮA HK1 | J20: VG GÓC,BẬC,RÃNH | M20: GIỮA HK1 | Q20: CCTV | W20: GIỮA HK1 | X20: GIỮA HK1 | AA20: 13h30-14h15 | AB20: 7
C21: 8 | D21: 14h45-15h30 | J21: AD TỪ 16/11 | AA21: 14h45-15h30 | AB21: 8
C22: 9 | D22: 15h30-16h15 | G22: B003 | Q22: A302 | AA22: 15h30-16h15 | AB22: 9 | AG22: =COUNTA(E22:Q22) -> 2
C23: 10 | D23: 16h15-17h00 | G23: T. CƯƠNG | J23: T. Y. LONG | Q23: T. NHỰT | AA23: 16h15-17h00 | AB23: 10 | AG23: =COUNTA(E23:Q23) -> 3
AA24: 5h00-5h45 | AB24: 12
A25: THỨ BA 03/11 | B25: BẮT ĐẦU & KẾT THÚC TIẾN ĐỘ | G25: 14/9- | H25: 07/9- | I25: 21/9- | J25: 16/11- | K25: 24/8- | L25: 24/8- | Q25: 22/9- | U25: 21/9- | V25: 07/9- | X25: 21/9- | AA25: KẾT THÚC TIẾN ĐỘ | AD25: THỨ BA
B26: SÁNG | C26: 1 | D26: 7h00-7h45 | E26: HỌC VHPT | F26: HỌC VHPT | G26: ĐỒ ÁN | H26: BD&SC HT | I26: BD&SC KHUNG | J26: ĐO KIỂM SP | K26: TỰ ĐỘNG HÓA | L26: ĐỒ ÁN | M26: L.ĐẶT HỆ THỐNG | Q26: ĐỒ ÁN | R26: HỌC VHPT | S26: HỌC VHPT | T26: HỌC VHPT | U26: CS DỮ LIỆU | V26: ỨNG DỤNG CN AI | X26: THIẾT KẾ | AA26: 7h00-7h45 | AB26: 1 | AC26: SÁNG
C27: 2 | D27: 7h45-8h30 | E27: THEO TKB | F27: THEO TKB | G27: TỐT NGHIỆP | H27: ĐIỆN Ô TÔ | I27: GẦM Ô TÔ 1 | J27: CƠ KHÍ | K27: HT LẠNH | L27: TỐT NGHIỆP | M27: MÁY LẠNH CN | Q27: TỐT NGHIỆP | R27: THEO TKB | S27: THEO TKB | T27: THEO TKB | U27: NOSWL | V27: TRG THIẾT KẾ | X27: BANNER | AA27: 7h45-8h30 | AB27: 2
C28: 3 | D28: 9h00-9h45 | E28: TTGDTX | F28: TTGDTX | H28: 03/11 THI 9H00 | J28: AD TỪ 16/11 | R28: TTGDTX | S28: TTGDTX | T28: TTGDTX | AA28: 9h00-9h45 | AB28: 3
C29: 4 | D29: 9h45-10h30 | G29: B003 | H29: B007 | I29: B012 | K29: A001 | L29: A305 | M29: B105 | Q29: A312 | U29: A112 (PM1) | V29: A109 (PM2) | X29: A101 (PM4) | AA29: 9h45-10h30 | AB29: 4 | AG29: =COUNTA(E29:Q29) -> 7
C30: 5 | D30: 10h30-11h15 | G30: T. CƯƠNG | H30: T. LÂN - T. SƠN | I30: T. V. KHÁNH | J30: T. THUẤN | K30: T. TRỌNG | L30: T. P. NAM | M30: T. A. HẢI | Q30: T. HIẾU | U30: T. VÂN | V30: C. T. OANH | X30: T. X. LIÊN | AA30: 10h30-11h15 | AB30: 5 | AG30: =COUNTA(E30:Q30) -> 8
AA31: 11h00-11h45 | AB31: 6
B32: BẮT ĐẦU & KẾT THÚC TIẾN ĐỘ | G32: 14/9- | J32: 16/11- | K32: 24/8- | L32: 24/8- | Q32: 22/9- | U32: 21/9- | V32: 03/9- | AA32: KẾT THÚC TIẾN ĐỘ
B33: CHIỀU | C33: 6 | D33: 12h45-13h30 | G33: ĐỒ ÁN | H33: VHPT THI | I33: VHPT THI | J33: ĐO KIỂM SP | K33: TỰ ĐỘNG HÓA | L33: ĐỒ ÁN | M33: VHPT THI | Q33: ĐỒ ÁN | U33: CS DỮ LIỆU | V33: XÂY DỰNG | W33: VHPT THI | X33: VHPT THI | AA33: 12h45-13h30 | AB33: 6 | AC33: CHIỀU
C34: 7 | D34: 13h30-14h15 | G34: TỐT NGHIỆP | H34: GIỮA HK1 | I34: GIỮA HK1 | J34: CƠ KHÍ | K34: HT LẠNH | L34: TỐT NGHIỆP | M34: GIỮA HK1 | Q34: TỐT NGHIỆP | U34: NOSWL | V34: PORTFOLIO | W34: GIỮA HK1 | X34: GIỮA HK1 | AA34: 13h30-14h15 | AB34: 7
C35: 8 | D35: 14h45-15h30 | J35: AD TỪ 16/11 | AA35: 14h45-15h30 | AB35: 8
C36: 9 | D36: 15h30-16h15 | G36: B003 | K36: A001 | L36: A305 | Q36: A312 | U36: A112 (PM1) | V36: A109 (PM2) | AA36: 15h30-16h15 | AB36: 9 | AG36: =COUNTA(E36:Q36) -> 4
C37: 5 | D37: 10h30-11h15 | G37: T. CƯƠNG | J37: T. THUẤN | K37: T. TRỌNG | L37: T. P. NAM | Q37: T. HIẾU | U37: T. VÂN | V37: C. S. MAI | AA37: 10h30-11h15 | AB37: 5 | AG37: =COUNTA(E37:Q37) -> 5
AA38: 5h00-5h45 | AB38: 12
A39: THỨ TƯ 04/11 | B39: BẮT ĐẦU & KẾT THÚC TIẾN ĐỘ | G39: 14/9- | L39: 24/8- | Q39: 05/10- | U39: 14/9- | AA39: KẾT THÚC TIẾN ĐỘ | AD39: THỨ TƯ
B40: SÁNG | C40: 1 | D40: 7h00-7h45 | E40: HỌC VHPT | F40: HỌC VHPT | G40: ĐỒ ÁN | L40: ĐỒ ÁN | Q40: LẮP ĐẶT HT | R40: HỌC VHPT | S40: HỌC VHPT | T40: HỌC VHPT | U40: LẬP TRÌNH T.BỊ | AA40: 7h00-7h45 | AB40: 1 | AC40: SÁNG
C41: 2 | D41: 7h45-8h30 | E41: THEO TKB | F41: THEO TKB | G41: TỐT NGHIỆP | L41: TỐT NGHIỆP | Q41: CCTV | R41: THEO TKB | S41: THEO TKB | T41: THEO TKB | U41: DI ĐỘNG | AA41: 7h45-8h30 | AB41: 2
C42: 3 | D42: 9h00-9h45 | E42: TTGDTX | F42: TTGDTX | R42: TTGDTX | S42: TTGDTX | T42: TTGDTX | AA42: 9h00-9h45 | AB42: 3
C43: 4 | D43: 9h45-10h30 | G43: B003 | L43: A305 | Q43: A302 | U43: A112 (PM1) | AA43: 9h45-10h30 | AB43: 4 | AG43: =COUNTA(E43:Q43) -> 3
C44: 5 | D44: 10h30-11h15 | G44: T. CƯƠNG | L44: T. P. NAM | Q44: T. NHỰT | U44: T. TÀI | AA44: 10h30-11h15 | AB44: 5 | AG44: =COUNTA(E44:Q44) -> 3
AA45: 11h00-11h45 | AB45: 6
B46: BẮT ĐẦU & KẾT THÚC TIẾN ĐỘ | G46: 14/9- | L46: 24/8- | Q46: 05/10- | AA46: KẾT THÚC TIẾN ĐỘ
B47: CHIỀU | C47: 6 | D47: 12h45-13h30 | G47: ĐỒ ÁN | L47: ĐỒ ÁN | Q47: LẮP ĐẶT HT | AA47: 12h45-13h30 | AB47: 6 | AC47: CHIỀU
C48: 7 | D48: 13h30-14h15 | G48: TỐT NGHIỆP | L48: TỐT NGHIỆP | Q48: CCTV | AA48: 13h30-14h15 | AB48: 7
C49: 8 | D49: 14h45-15h30 | AA49: 14h45-15h30 | AB49: 8
C50: 9 | D50: 15h30-16h15 | G50: B003 | L50: A305 | Q50: A302 | AA50: 15h30-16h15 | AB50: 9 | AG50: =COUNTA(E50:Q50) -> 3
C51: 10 | D51: 16h15-17h00 | G51: T. CƯƠNG | L51: T. P. NAM | Q51: T. NHỰT | AA51: 16h15-17h00 | AB51: 10 | AG51: =COUNTA(E51:Q51) -> 3
AA52: 5h00-5h45 | AB52: 12
A53: THỨ NĂM 05/11 | B53: BẮT ĐẦU & KẾT THÚC TIẾN ĐỘ | G53: 14/9- | H53: 07/9- | I53: 21/9- | J53: 16/11- | K53: 24/8- | L53: 14/9- | M53: 24/8- | Q53: 03/9- | W53: 03/9- | X53: 03/9- | AA53: KẾT THÚC TIẾN ĐỘ | AD53: THỨ NĂM
B54: SÁNG | C54: 1 | D54: 7h00-7h45 | E54: HỌC VHPT | F54: HỌC VHPT | G54: ĐỒ ÁN | H54: BD&SC KHUNG | I54: BD&SC HT | J54: KHAI TRIỂN | K54: SD PHẦN MỀM | L54: KHỞI SỰ | M54: ĐIỆN TỬ | Q54: HỆ Q.TRỊ | R54: HỌC VHPT | S54: HỌC VHPT | T54: HỌC VHPT | W54: T. KẾ GIAO DIỆN | X54: KỸ THUẬT | AA54: 7h00-7h45 | AB54: 1 | AC54: SÁNG
C55: 2 | D55: 7h45-8h30 | E55: THEO TKB | F55: THEO TKB | G55: TỐT NGHIỆP | H55: GẦM Ô TÔ 1 | I55: PHANH | J55: HÌNH GÒ | K55: CHUYÊN NGÀNH | L55: DOANH NGHIỆP | M55: CHUYÊN NGÀNH | Q55: CƠ SỞ DỮ LIỆU | R55: THEO TKB | S55: THEO TKB | T55: THEO TKB | W55: NGƯỜI DÙNG | X55: IN ẤN | AA55: 7h45-8h30 | AB55: 2
C56: 3 | D56: 9h00-9h45 | E56: TTGDTX | F56: TTGDTX | J56: AD TỪ 16/11 | R56: TTGDTX | S56: TTGDTX | T56: TTGDTX | AA56: 9h00-9h45 | AB56: 3
C57: 4 | D57: 9h45-10h30 | G57: B003 | H57: B007 | I57: B012 | K57: B002 | L57: A207 | M57: A001 | Q57: A102 (PM5) | W57: A102-1 (PM5.1) | X57: A103 (PM6) | AA57: 9h45-10h30 | AB57: 4 | AG57: =COUNTA(E57:Q57) -> 7
C58: 5 | D58: 10h30-11h15 | G58: T. CƯƠNG | H58: T. V. HẢI | I58: T. KHÁNH | J58: T. TRƯƠNG | K58: T. V. TUẤN | L58: T. K. LONG | M58: T. TRỌNG | Q58: T. TÔN | W58: C. HÂN | X58: T. HÀO | AA58: 10h30-11h15 | AB58: 5 | AG58: =COUNTA(E58:Q58) -> 8
AA59: 11h00-11h45 | AB59: 6
B60: BẮT ĐẦU & KẾT THÚC TIẾN ĐỘ | G60: 14/9- | J60: 16/11- | K60: 24/8- | Q60: 03/9- | AA60: KẾT THÚC TIẾN ĐỘ
B61: CHIỀU | C61: 6 | D61: 12h45-13h30 | G61: ĐỒ ÁN | H61: VHPT THI | I61: VHPT THI | J61: KHAI TRIỂN | K61: SD PHẦN MỀM | M61: VHPT THI | Q61: HỆ Q.TRỊ | W61: VHPT THI | X61: VHPT THI | AA61: 12h45-13h30 | AB61: 6 | AC61: CHIỀU
C62: 7 | D62: 13h30-14h15 | G62: TỐT NGHIỆP | H62: GIỮA HK1 | I62: GIỮA HK1 | J62: HÌNH GÒ | K62: CHUYÊN NGÀNH | M62: GIỮA HK1 | Q62: CƠ SỞ DỮ LIỆU | W62: GIỮA HK1 | X62: GIỮA HK1 | AA62: 13h30-14h15 | AB62: 7
C63: 8 | D63: 14h45-15h30 | J63: AD TỪ 16/11 | AA63: 14h45-15h30 | AB63: 8
C64: 9 | D64: 15h30-16h15 | G64: B003 | K64: B002 | Q64: A102 (PM5) | AA64: 15h30-16h15 | AB64: 9 | AG64: =COUNTA(E64:Q64) -> 3
C65: 10 | D65: 16h15-17h00 | G65: T. CƯƠNG | J65: T. TRƯƠNG | K65: T. V. TUẤN | Q65: T. TÔN | AA65: 16h15-17h00 | AB65: 10 | AG65: =COUNTA(E65:Q65) -> 4
AA66: 5h00-5h45 | AB66: 12
A67: THỨ SÁU 06/11 | B67: BẮT ĐẦU & KẾT THÚC TIẾN ĐỘ | J67: 16/11- | L67: 24/8- | Q67: 22/9- | U67: 14/9- | AA67: KẾT THÚC TIẾN ĐỘ | AD67: THỨ SÁU
B68: SÁNG | C68: 1 | D68: 7h00-7h45 | E68: HỌC VHPT | F68: HỌC VHPT | J68: CÔNG NGHỆ | L68: ĐỒ ÁN | Q68: ĐỒ ÁN | R68: HỌC VHPT | S68: HỌC VHPT | T68: HỌC VHPT | U68: LẬP TRÌNH T.BỊ | AA68: 7h00-7h45 | AB68: 1 | AC68: SÁNG
C69: 2 | D69: 7h45-8h30 | E69: THEO TKB | F69: THEO TKB | J69: CHẾ TẠO MÁY | L69: TỐT NGHIỆP | Q69: TỐT NGHIỆP | R69: THEO TKB | S69: THEO TKB | T69: THEO TKB | U69: DI ĐỘNG | AA69: 7h45-8h30 | AB69: 2
C70: 3 | D70: 9h00-9h45 | E70: TTGDTX | F70: TTGDTX | J70: AD TỪ 16/11 | R70: TTGDTX | S70: TTGDTX | T70: TTGDTX | AA70: 9h00-9h45 | AB70: 3
C71: f | D71: 9h45-10h30 | L71: A305 | Q71: A312 | U71: A112 (PM1) | AA71: 9h45-10h30 | AB71: 4 | AG71: =COUNTA(E71:Q71) -> 2
D72: 10h30-11h15 | J72: T. TẤN HẢI | L72: T. P. NAM | Q72: T. HIẾU | U72: T. TÀI | AA72: 10h30-11h15 | AB72: 5 | AG72: =COUNTA(E72:Q72) -> 3
C73: 6 | D73: 11h00-11h45 | AA73: 11h00-11h45 | AB73: 6
B74: BẮT ĐẦU & KẾT THÚC TIẾN ĐỘ | H74: 07/9- | I74: 07/9- | J74: 16/11- | L74: 24/8- | Q74: 22/9- | V74: 21/9- | W74: 03/9- | X74: 21/9- | AA74: KẾT THÚC TIẾN ĐỘ
B75: CHIỀU | C75: 6 | D75: 12h45-13h30 | H75: TIẾNG ANH CN | I75: TIẾNG ANH CN | J75: CÔNG NGHỆ | L75: ĐỒ ÁN | M75: L.ĐẶT HỆ THỐNG | Q75: ĐỒ ÁN | V75: XDHT NHẬN DIỆN | W75: KỸ THUẬT | X75: THIẾT KẾ | AA75: 12h45-13h30 | AB75: 6 | AC75: CHIỀU
C76: 7 | D76: 13h30-14h15 | H76: CÔNG NGHỆ Ô TÔ | I76: CÔNG NGHỆ Ô TÔ | J76: CHẾ TẠO MÁY | L76: TỐT NGHIỆP | M76: MÁY LẠNH CN | Q76: TỐT NGHIỆP | V76: THƯƠNG HIỆU | W76: SEO WEB | X76: QUẢNG CÁO | AA76: 13h30-14h15 | AB76: 7
C77: 8 | D77: 14h45-15h30 | J77: AD TỪ 16/11 | AA77: 14h45-15h30 | AB77: 8
C78: 9 | D78: 15h30-16h15 | H78: A207 | I78: A207 | L78: A305 | M78: B105 | Q78: A312 | V78: A103 (PM6) | W78: A109 (PM2) | X78: A101 (PM4) | AA78: 15h30-16h15 | AB78: 9 | AG78: =COUNTA(E78:Q78) -> 5
C79: 10 | D79: 16h15-17h00 | H79: T. QUÂN | I79: T. QUÂN | J79: T. TẤN HẢI | L79: T. P. NAM | M79: T. A. HẢI | Q79: T. HIẾU | V79: C. NGỌC | W79: T. DUY | X79: C. HÀ | AA79: 16h15-17h00 | AB79: 10 | AG79: =COUNTA(E79:Q79) -> 6
C80: 12 | D80: 5h00-5h45 | AA80: 5h00-5h45 | AB80: 12
A81: THỨ BẢY 07/11 | B81: BẮT ĐẦU & KẾT THÚC TIẾN ĐỘ | I81: 02/11- | L81: 14/9- | M81: 12/10- | Q81: 05/10- | U81: 14/9- | X81: 03/9- | AA81: KẾT THÚC TIẾN ĐỘ | AD81: THỨ BẢY
B82: SÁNG | C82: 1 | D82: 7h00-7h45 | I82: BD&SC HT ĐK | L82: KHỞI SỰ | M82: L.ĐẶT HỆ THỐNG | Q82: LẮP ĐẶT HT | U82: LẬP TRÌNH T.BỊ | X82: T.KẾ BAO BÌ | AA82: 7h00-7h45 | AB82: 1 | AC82: SÁNG
C83: 2 | D83: 7h45-8h30 | I83: ĐỘNG CƠ XĂNG | L83: DOANH NGHIỆP | M83: ĐHKK CỤC BỘ | Q83: CCTV | U83: DI ĐỘNG | X83: NHÃN MÁC | AA83: 7h45-8h30 | AB83: 2
C84: 3 | D84: 9h00-9h45 | AA84: 9h00-9h45 | AB84: 3
C85: 4 | D85: 9h45-10h30 | I85: B007 | L85: A210 | M85: B016 | Q85: A312 | U85: A112 (PM1) | X85: A103 (PM6) | AA85: 9h45-10h30 | AB85: 4 | AG85: =COUNTA(E85:Q85) -> 4
C86: 5 | D86: 10h30-11h15 | I86: T. HUY | L86: T. K. LONG | M86: T. VŨ | Q86: T. NHỰT | U86: T. TÀI | X86: T. PHI | AA86: 10h30-11h15 | AB86: 5 | AG86: =COUNTA(E86:Q86) -> 4
AA87: 11h00-11h45 | AB87: 6
B88: BẮT ĐẦU & KẾT THÚC TIẾN ĐỘ | I88: 02/11- | M88: 12/10- | Q88: 05/10- | W88: 07/9- | AA88: KẾT THÚC TIẾN ĐỘ
B89: CHIỀU | C89: 6 | D89: 12h45-13h30 | I89: BD&SC HT ĐK | M89: L.ĐẶT HỆ THỐNG | Q89: LẮP ĐẶT HT | W89: X.DỰNG & Q.TRỊ | AA89: 12h45-13h30 | AB89: 6 | AC89: CHIỀU
C90: 7 | D90: 13h30-14h15 | I90: ĐỘNG CƠ XĂNG | M90: ĐHKK CỤC BỘ | Q90: CCTV | W90: WEBSITE | AA90: 13h30-14h15 | AB90: 7
C91: 8 | D91: 14h45-15h30 | AA91: 14h45-15h30 | AB91: 8
C92: 9 | D92: 15h30-16h15 | I92: B007 | M92: B016 | Q92: A302 | W92: A112 (PM1) | AA92: 15h30-16h15 | AB92: 9 | AG92: =COUNTA(E92:Q92) -> 3
C93: 10 | D93: 16h15-17h00 | I93: T. HUY | M93: T. VŨ | Q93: T. NHỰT | W93: T. VÂN | AA93: 16h15-17h00 | AB93: 10 | AG93: =COUNTA(E93:Q93) -> 3
C94: 12 | D94: 5h00-5h45 | AA94: 5h00-5h45 | AB94: 12
A95: CHỦ NHẬT 21/08 | B95: BẮT ĐẦU & KẾT THÚC TIẾN ĐỘ | V95: 26/02- | AA95: KẾT THÚC TIẾN ĐỘ | AD95: CHỦ NHẬT
B96: SÁNG | C96: 1 | D96: 7h00-7h45 | V96: T.KẾ BỘ NHẬN | AA96: 7h00-7h45 | AB96: 1 | AC96: SÁNG
C97: 2 | D97: 7h45-8h30 | V97: DẠNG TH | AA97: 7h45-8h30 | AB97: 2
C98: 3 | D98: 9h00-9h45 | AA98: 9h00-9h45 | AB98: 3
C99: 4 | D99: 9h45-10h30 | V99: A109 (PM2) | AA99: 9h45-10h30 | AB99: 4
C100: 5 | D100: 10h30-11h15 | V100: C. V. ANH | AA100: 10h30-11h15 | AB100: 5 | AG100: =COUNTA(G100:P100) -> 0
C101: 6 | D101: 11h00-11h45 | AA101: 11h00-11h45 | AB101: 6
B102: BẮT ĐẦU & KẾT THÚC TIẾN ĐỘ | AA102: KẾT THÚC TIẾN ĐỘ
B103: CHIỀU | C103: 6 | D103: 12h45-13h30 | AA103: 12h45-13h30 | AB103: 7 | AC103: CHIỀU
C104: 7 | D104: 13h30-14h15 | AA104: 13h30-14h15 | AB104: 8
C105: 8 | D105: 14h45-15h30 | AA105: 14h45-15h30 | AB105: 9
C106: 9 | D106: 15h30-16h15 | AA106: 15h30-16h15 | AB106: 10
...

Sheet KCK-OTO
A1: THỜI KHÓA BIỂU KHOA CƠ KHÍ - Ô TÔ
A3: ÁP DỤNG TỪ NGÀY 02/11 ĐẾN 30/11/2026 | K3: =A3 -> ÁP DỤNG TỪ NGÀY 02/11 ĐẾN 30/11/2026
A5: LỚP: | C5: =tkbieu!H10 -> T25OTO1 (N1) | E5: GVCN: | F5: =tkbieu!H9 -> T. LÂN | H5: ĐT: | I5: 0937 542 279 | K5: LỚP: | M5: =tkbieu!I10 -> T25OTO1 (N2) | O5: GVCN: | P5: =tkbieu!I9 -> T. LÂN | R5: ĐT: | S5: 0937 542 279
A6: Buổi | B6: Tiết | C6: Giờ dạy | D6: THỨ HAI | E6: THỨ BA | F6: THỨ TƯ | G6: THỨ NĂM | H6: THỨ SÁU | I6: THỨ BẢY | K6: Buổi | L6: Tiết | M6: Giờ dạy | N6: THỨ HAI | O6: THỨ BA | P6: THỨ TƯ | Q6: THỨ NĂM | R6: THỨ SÁU | S6: THỨ BẢY
A7: SÁNG | B7: 1 | C7: 7h00-7h45 | D7: =tkbieu!H12 -> 0 | E7: =tkbieu!H26 -> BD&SC HT | F7: =tkbieu!H40 -> 0 | G7: =tkbieu!H54 -> BD&SC KHUNG | H7: =tkbieu!H68 -> 0 | I7: =tkbieu!H82 -> 0 | K7: SÁNG | L7: 1 | M7: 7h00-7h45 | N7: =tkbieu!I12 -> 0 | O7: =tkbieu!I26 -> BD&SC KHUNG | P7: =tkbieu!I40 -> 0 | Q7: =tkbieu!I54 -> BD&SC HT | R7: =tkbieu!I68 -> 0 | S7: =tkbieu!I82 -> BD&SC HT ĐK
B8: 2 | C8: 7h45-8h30 | D8: =tkbieu!H13 -> 0 | E8: =tkbieu!H27 -> ĐIỆN Ô TÔ | F8: =tkbieu!H41 -> 0 | G8: =tkbieu!H55 -> GẦM Ô TÔ 1 | H8: =tkbieu!H69 -> 0 | I8: =tkbieu!H83 -> 0 | L8: 2 | M8: 7h45-8h30 | N8: =tkbieu!I13 -> 0 | O8: =tkbieu!I27 -> GẦM Ô TÔ 1 | P8: =tkbieu!I41 -> 0 | Q8: =tkbieu!I55 -> PHANH | R8: =tkbieu!I69 -> 0 | S8: =tkbieu!I83 -> ĐỘNG CƠ XĂNG
B9: 3 | C9: 9h00-9h45 | D9: =tkbieu!H14 -> 0 | E9: =tkbieu!H28 -> 03/11 THI 9H00 | F9: =tkbieu!H42 -> 0 | G9: =tkbieu!H56 -> 0 | H9: =tkbieu!H70 -> 0 | I9: =tkbieu!H84 -> 0 | L9: 3 | M9: 9h00-9h45 | N9: =tkbieu!I14 -> 0 | O9: =tkbieu!I28 -> 0 | P9: =tkbieu!I42 -> 0 | Q9: =tkbieu!I56 -> 0 | R9: =tkbieu!I70 -> 0 | S9: =tkbieu!I84 -> 0
B10: 4 | C10: 9h45-10h30 | D10: =tkbieu!H15 -> 0 | E10: =tkbieu!H29 -> B007 | F10: =tkbieu!H43 -> 0 | G10: =tkbieu!H57 -> B007 | H10: =tkbieu!H71 -> 0 | I10: =tkbieu!H85 -> 0 | L10: 4 | M10: 9h45-10h30 | N10: =tkbieu!I15 -> 0 | O10: =tkbieu!I29 -> B012 | P10: =tkbieu!I43 -> 0 | Q10: =tkbieu!I57 -> B012 | R10: =tkbieu!I71 -> 0 | S10: =tkbieu!I85 -> B007
B11: 5 | C11: 10h30-11h15(LT) 10h30-11h30(TH) | D11: =tkbieu!H16 -> 0 | E11: =tkbieu!H30 -> T. LÂN - T. SƠN | F11: =tkbieu!H44 -> 0 | G11: =tkbieu!H58 -> T. V. HẢI | H11: =tkbieu!H72 -> 0 | I11: =tkbieu!H86 -> 0 | L11: 5 | M11: 10h30-11h15(LT) 10h30-11h30(TH) | N11: =tkbieu!I16 -> 0 | O11: =tkbieu!I30 -> T. V. KHÁNH | P11: =tkbieu!I44 -> 0 | Q11: =tkbieu!I58 -> T. KHÁNH | R11: =tkbieu!I72 -> 0 | S11: =tkbieu!I86 -> T. HUY
A13: CHIỀU | B13: 6 | C13: 12h45-13h30 | D13: =tkbieu!H19 -> VHPT THI | E13: =tkbieu!H33 -> VHPT THI | F13: =tkbieu!H47 -> 0 | G13: =tkbieu!H61 -> VHPT THI | H13: =tkbieu!H75 -> TIẾNG ANH CN | I13: =tkbieu!H89 -> 0 | K13: CHIỀU | L13: 6 | M13: 12h45-13h30 | N13: =tkbieu!I19 -> VHPT THI | O13: =tkbieu!I33 -> VHPT THI | P13: =tkbieu!I47 -> 0 | Q13: =tkbieu!I61 -> VHPT THI | R13: =tkbieu!I75 -> TIẾNG ANH CN | S13: =tkbieu!I89 -> BD&SC HT ĐK
B14: 7 | C14: 13h30-14h15 | D14: =tkbieu!H20 -> GIỮA HK1 | E14: =tkbieu!H34 -> GIỮA HK1 | F14: =tkbieu!H48 -> 0 | G14: =tkbieu!H62 -> GIỮA HK1 | H14: =tkbieu!H76 -> CÔNG NGHỆ Ô TÔ | I14: =tkbieu!H90 -> 0 | L14: 7 | M14: 13h30-14h15 | N14: =tkbieu!I20 -> GIỮA HK1 | O14: =tkbieu!I34 -> GIỮA HK1 | P14: =tkbieu!I48 -> 0 | Q14: =tkbieu!I62 -> GIỮA HK1 | R14: =tkbieu!I76 -> CÔNG NGHỆ Ô TÔ | S14: =tkbieu!I90 -> ĐỘNG CƠ XĂNG
B15: 8 | C15: 14h45-15h30 | D15: =tkbieu!H21 -> 0 | E15: =tkbieu!H35 -> 0 | F15: =tkbieu!H49 -> 0 | G15: =tkbieu!H63 -> 0 | H15: =tkbieu!H77 -> 0 | I15: =tkbieu!H91 -> 0 | L15: 8 | M15: 14h45-15h30 | N15: =tkbieu!I21 -> 0 | O15: =tkbieu!I35 -> 0 | P15: =tkbieu!I49 -> 0 | Q15: =tkbieu!I63 -> 0 | R15: =tkbieu!I77 -> 0 | S15: =tkbieu!I91 -> 0
B16: 9 | C16: 15h30-16h15 | D16: =tkbieu!H22 -> 0 | E16: =tkbieu!H36 -> 0 | F16: =tkbieu!H50 -> 0 | G16: =tkbieu!H64 -> 0 | H16: =tkbieu!H78 -> A207 | I16: =tkbieu!H92 -> 0 | L16: 9 | M16: 15h30-16h15 | N16: =tkbieu!I22 -> 0 | O16: =tkbieu!I36 -> 0 | P16: =tkbieu!I50 -> 0 | Q16: =tkbieu!I64 -> 0 | R16: =tkbieu!I78 -> A207 | S16: =tkbieu!I92 -> B007
B17: 10 | C17: 16h15-17h00(LT) 16h15-17h15(TH) | D17: =tkbieu!H23 -> 0 | E17: =tkbieu!H37 -> 0 | F17: =tkbieu!H51 -> 0 | G17: =tkbieu!H65 -> 0 | H17: =tkbieu!H79 -> T. QUÂN | I17: =tkbieu!H93 -> 0 | L17: 10 | M17: 16h15-17h00(LT) 16h15-17h15(TH) | N17: =tkbieu!I23 -> 0 | O17: =tkbieu!I37 -> 0 | P17: =tkbieu!I51 -> 0 | Q17: =tkbieu!I65 -> 0 | R17: =tkbieu!I79 -> T. QUÂN | S17: =tkbieu!I93 -> T. HUY
A20: =A3 -> ÁP DỤNG TỪ NGÀY 02/11 ĐẾN 30/11/2026
A21: HỌC GIÁO DỤC QUỐC PHÒNG AN NINH 02/11 ĐẾN 13/11/2026
A22: LỚP: | C22: =tkbieu!J10 -> C25CK1 | E22: GVCN: | F22: =tkbieu!J9 -> T. Y. LONG | H22: ĐT: | I22: 0963884115
A23: Buổi | B23: Tiết | C23: Giờ dạy | D23: THỨ HAI | E23: THỨ BA | F23: THỨ TƯ | G23: THỨ NĂM | H23: THỨ SÁU | I23: THỨ BẢY
A24: SÁNG | B24: 1 | C24: 7h00-7h45 | D24: =tkbieu!J12 -> 0 | E24: =tkbieu!J26 -> ĐO KIỂM SP | F24: =tkbieu!J40 -> 0 | G24: =tkbieu!J54 -> KHAI TRIỂN | H24: =tkbieu!J68 -> CÔNG NGHỆ | I24: =tkbieu!J82 -> 0
B25: 2 | C25: 7h45-8h30 | D25: =tkbieu!J13 -> 0 | E25: =tkbieu!J27 -> CƠ KHÍ | F25: =tkbieu!J41 -> 0 | G25: =tkbieu!J55 -> HÌNH GÒ | H25: =tkbieu!J69 -> CHẾ TẠO MÁY | I25: =tkbieu!J83 -> 0
B26: 3 | C26: 9h00-9h45 | D26: =tkbieu!J14 -> 0 | E26: =tkbieu!J28 -> AD TỪ 16/11 | F26: =tkbieu!J42 -> 0 | G26: =tkbieu!J56 -> AD TỪ 16/11 | H26: =tkbieu!J70 -> AD TỪ 16/11 | I26: =tkbieu!J84 -> 0
B27: 4 | C27: 9h45-10h30 | D27: =tkbieu!J15 -> 0 | E27: =tkbieu!J29 -> 0 | F27: =tkbieu!J43 -> 0 | G27: =tkbieu!J57 -> 0 | H27: =tkbieu!J71 -> 0 | I27: =tkbieu!J85 -> 0
B28: 5 | C28: 10h30-11h15(LT) 10h30-11h30(TH) | D28: =tkbieu!J16 -> 0 | E28: =tkbieu!J30 -> T. THUẤN | F28: =tkbieu!J44 -> 0 | G28: =tkbieu!J58 -> T. TRƯƠNG | H28: =tkbieu!J72 -> T. TẤN HẢI | I28: =tkbieu!J86 -> 0
A30: CHIỀU | B30: 6 | C30: 12h45-13h30 | D30: =tkbieu!J19 -> PHAY, BÀO MP// | E30: =tkbieu!J33 -> ĐO KIỂM SP | F30: =tkbieu!J47 -> 0 | G30: =tkbieu!J61 -> KHAI TRIỂN | H30: =tkbieu!J75 -> CÔNG NGHỆ | I30: =tkbieu!J89 -> 0
B31: 7 | C31: 13h30-14h15 | D31: =tkbieu!J20 -> VG GÓC,BẬC,RÃNH | E31: =tkbieu!J34 -> CƠ KHÍ | F31: =tkbieu!J48 -> 0 | G31: =tkbieu!J62 -> HÌNH GÒ | H31: =tkbieu!J76 -> CHẾ TẠO MÁY | I31: =tkbieu!J90 -> 0
B32: 8 | C32: 14h45-15h30 | D32: =tkbieu!J21 -> AD TỪ 16/11 | E32: =tkbieu!J35 -> AD TỪ 16/11 | F32: =tkbieu!J49 -> 0 | G32: =tkbieu!J63 -> AD TỪ 16/11 | H32: =tkbieu!J77 -> AD TỪ 16/11 | I32: =tkbieu!J91 -> 0
B33: 9 | C33: 15h30-16h15 | D33: =tkbieu!J22 -> 0 | E33: =tkbieu!J36 -> 0 | F33: =tkbieu!J50 -> 0 | G33: =tkbieu!J64 -> 0 | H33: =tkbieu!J78 -> 0 | I33: =tkbieu!J92 -> 0
B34: 10 | C34: 16h15-17h00(LT) 16h15-17h15(TH) | D34: =tkbieu!J23 -> T. Y. LONG | E34: =tkbieu!J37 -> T. THUẤN | F34: =tkbieu!J51 -> 0 | G34: =tkbieu!J65 -> T. TRƯƠNG | H34: =tkbieu!J79 -> T. TẤN HẢI | I34: =tkbieu!J93 -> 0
A37: =A20 -> ÁP DỤNG TỪ NGÀY 02/11 ĐẾN 30/11/2026
A39: LỚP: | C39: =tkbieu!G10 -> C24CK1 | E39: GVCN: | F39: =tkbieu!G9 -> T. V. V. HOÀNG | H39: ĐT: | I39: 0913 849 594
A40: Buổi | B40: Tiết | C40: Giờ dạy | D40: THỨ HAI | E40: THỨ BA | F40: THỨ TƯ | G40: THỨ NĂM | H40: THỨ SÁU | I40: THỨ BẢY
A41: SÁNG | B41: 1 | C41: 7h00-7h45 | D41: =tkbieu!G12 -> 0 | E41: =tkbieu!G26 -> ĐỒ ÁN | F41: =tkbieu!G40 -> ĐỒ ÁN | G41: =tkbieu!G54 -> ĐỒ ÁN | H41: =tkbieu!G68 -> 0 | I41: =tkbieu!G82 -> 0
B42: 2 | C42: 7h45-8h30 | D42: =tkbieu!G13 -> 0 | E42: =tkbieu!G27 -> TỐT NGHIỆP | F42: =tkbieu!G41 -> TỐT NGHIỆP | G42: =tkbieu!G55 -> TỐT NGHIỆP | H42: =tkbieu!G69 -> 0 | I42: =tkbieu!G83 -> 0
B43: 3 | C43: 9h00-9h45 | D43: =tkbieu!G14 -> 0 | E43: =tkbieu!G28 -> 0 | F43: =tkbieu!G42 -> 0 | G43: =tkbieu!G56 -> 0 | H43: =tkbieu!G70 -> 0 | I43: =tkbieu!G84 -> 0
B44: 4 | C44: 9h45-10h30 | D44: =tkbieu!G15 -> 0 | E44: =tkbieu!G29 -> B003 | F44: =tkbieu!G43 -> B003 | G44: =tkbieu!G57 -> B003 | H44: =tkbieu!G71 -> 0 | I44: =tkbieu!G85 -> 0
B45: 5 | C45: 10h30-11h15(LT) 10h30-11h30(TH) | D45: =tkbieu!G16 -> 0 | E45: =tkbieu!G30 -> T. CƯƠNG | F45: =tkbieu!G44 -> T. CƯƠNG | G45: =tkbieu!G58 -> T. CƯƠNG | H45: =tkbieu!G72 -> 0 | I45: =tkbieu!G86 -> 0
A47: CHIỀU | B47: 6 | C47: 12h45-13h30 | D47: =tkbieu!G19 -> ĐỒ ÁN | E47: =tkbieu!G33 -> ĐỒ ÁN | F47: =tkbieu!G47 -> ĐỒ ÁN | G47: =tkbieu!G61 -> ĐỒ ÁN | H47: =tkbieu!G75 -> 0 | I47: =tkbieu!G89 -> 0
B48: 7 | C48: 13h30-14h15 | D48: =tkbieu!G20 -> TỐT NGHIỆP | E48: =tkbieu!G34 -> TỐT NGHIỆP | F48: =tkbieu!G48 -> TỐT NGHIỆP | G48: =tkbieu!G62 -> TỐT NGHIỆP | H48: =tkbieu!G76 -> 0 | I48: =tkbieu!G90 -> 0
B49: 8 | C49: 14h45-15h30 | D49: =tkbieu!G21 -> 0 | E49: =tkbieu!G35 -> 0 | F49: =tkbieu!G49 -> 0 | G49: =tkbieu!G63 -> 0 | H49: =tkbieu!G77 -> 0 | I49: =tkbieu!G91 -> 0
B50: 9 | C50: 15h30-16h15 | D50: =tkbieu!G22 -> B003 | E50: =tkbieu!G36 -> B003 | F50: =tkbieu!G50 -> B003 | G50: =tkbieu!G64 -> B003 | H50: =tkbieu!G78 -> 0 | I50: =tkbieu!G92 -> 0
B51: 10 | C51: 16h15-17h00(LT) 16h15-17h15(TH) | D51: =tkbieu!G23 -> T. CƯƠNG | E51: =tkbieu!G37 -> T. CƯƠNG | F51: =tkbieu!G51 -> T. CƯƠNG | G51: =tkbieu!G65 -> T. CƯƠNG | H51: =tkbieu!G79 -> 0 | I51: =tkbieu!G93 -> 0
A54: Lưu ý:
A55: Thời gian học: Một giờ dạy thực hành/tích hợp là 60 phút, Một giờ dạy lý thuyết/trực tuyến là 45 phút
B56: Ca sáng: Giờ lý thuyết: Từ 7h00(T1) – 8h30 - ra chơi - 9h00 – 11h15(T5), Giờ thực hành: Từ 7h00(T1) – 8h30 - ra chơi - 9h00 – 11h30 (T4)
B57: Ca chiều: Giờ lý thuyết: Từ 12h45 (T6) – 14h15 - ra chơi - 14h45 – 17h00 (T10), Giờ thực hành: Từ 12h45 (T5) – 14h15 - ra chơi - 14h45 – 17h15 (T8)
B58: Ca tối: Từ 17h45 – 19h15 - ra chơi - 19h30 – 21h00

Sheet KĐLẠNH
A1: THỜI KHÓA BIỂU KHOA ĐIỆN VÀ ĐIỆN LẠNH
A3: ='KCK-OTO'!A3:I3 -> ÁP DỤNG TỪ NGÀY 02/11 ĐẾN 30/11/2026 | K3: =A3 -> ÁP DỤNG TỪ NGÀY 02/11 ĐẾN 30/11/2026
K4: HỌC GIÁO DỤC QUỐC PHÒNG AN NINH 02/11 ĐẾN 13/11/2026
A5: LỚP: | C5: =tkbieu!M10 -> T25KTML1 | E5: GVCN: | F5: =tkbieu!M9 -> C. THẢO | H5: ĐT: | I5: 090 834 34 96 | K5: LỚP: | M5: =tkbieu!N10 -> C25KTML1 | O5: GVCN: | P5: =tkbieu!N9 -> T. CHƯƠNG | R5: ĐT: | S5: 091 841 10 02
A6: Buổi | B6: Tiết | C6: Giờ dạy | D6: THỨ HAI | E6: THỨ BA | F6: THỨ TƯ | G6: THỨ NĂM | H6: THỨ SÁU | I6: THỨ BẢY | K6: Buổi | L6: Tiết | M6: Giờ dạy | N6: THỨ HAI | O6: THỨ BA | P6: THỨ TƯ | Q6: THỨ NĂM | S6: THỨ SÁU | T6: THỨ BẢY
A7: SÁNG | B7: 1 | C7: 7h00-7h45 | D7: =tkbieu!M12 -> 0 | E7: =tkbieu!M26 -> L.ĐẶT HỆ THỐNG | F7: =tkbieu!M40 -> 0 | G7: =tkbieu!M54 -> ĐIỆN TỬ | H7: =tkbieu!M68 -> 0 | I7: =tkbieu!M82 -> L.ĐẶT HỆ THỐNG | K7: SÁNG | L7: 1 | M7: 7h00-7h45 | N7: =tkbieu!N12 -> 0 | O7: =tkbieu!N26 -> 0 | P7: =tkbieu!N40 -> 0 | Q7: =tkbieu!N54 -> 0 | R7: =tkbieu!O54 -> 0 | S7: =tkbieu!N68 -> 0 | T7: =tkbieu!N82 -> 0
B8: 2 | C8: 7h45-8h30 | D8: =tkbieu!M13 -> 0 | E8: =tkbieu!M27 -> MÁY LẠNH CN | F8: =tkbieu!M41 -> 0 | G8: =tkbieu!M55 -> CHUYÊN NGÀNH | H8: =tkbieu!M69 -> 0 | I8: =tkbieu!M83 -> ĐHKK CỤC BỘ | L8: 2 | M8: 7h45-8h30 | N8: =tkbieu!N13 -> 0 | O8: =tkbieu!N27 -> 0 | P8: =tkbieu!N41 -> 0 | Q8: =tkbieu!N55 -> 0 | R8: =tkbieu!O55 -> 0 | S8: =tkbieu!N69 -> 0 | T8: =tkbieu!N83 -> 0
B9: 3 | C9: 9h00-9h45 | D9: =tkbieu!M14 -> 0 | E9: =tkbieu!M28 -> 0 | F9: =tkbieu!M42 -> 0 | G9: =tkbieu!M56 -> 0 | H9: =tkbieu!M70 -> 0 | I9: =tkbieu!M84 -> 0 | L9: 3 | M9: 9h00-9h45 | N9: =tkbieu!N14 -> 0 | O9: =tkbieu!N28 -> 0 | P9: =tkbieu!N42 -> 0 | Q9: =tkbieu!N56 -> 0 | R9: =tkbieu!O56 -> 0 | S9: =tkbieu!N70 -> 0 | T9: =tkbieu!N84 -> 0
B10: 4 | C10: 9h45-10h30 | D10: =tkbieu!M15 -> 0 | E10: =tkbieu!M29 -> B105 | F10: =tkbieu!M43 -> 0 | G10: =tkbieu!M57 -> A001 | H10: =tkbieu!M71 -> 0 | I10: =tkbieu!M85 -> B016 | L10: 4 | M10: 9h45-10h30 | N10: =tkbieu!N15 -> 0 | O10: =tkbieu!N29 -> 0 | P10: =tkbieu!N43 -> 0 | Q10: =tkbieu!N57 -> 0 | R10: =tkbieu!O57 -> 0 | S10: =tkbieu!N71 -> 0 | T10: =tkbieu!N85 -> 0
B11: 5 | C11: 10h30-11h15(LT) 10h30-11h30(TH) | D11: =tkbieu!M16 -> 0 | E11: =tkbieu!M30 -> T. A. HẢI | F11: =tkbieu!M44 -> 0 | G11: =tkbieu!M58 -> T. TRỌNG | H11: =tkbieu!M72 -> 0 | I11: =tkbieu!M86 -> T. VŨ | L11: 5 | M11: 10h30-11h15(LT) 10h30-11h30(TH) | N11: =tkbieu!N16 -> 0 | O11: =tkbieu!N30 -> 0 | P11: =tkbieu!N44 -> 0 | Q11: =tkbieu!N58 -> 0 | R11: =tkbieu!O58 -> 0 | S11: =tkbieu!N72 -> 0 | T11: =tkbieu!N86 -> 0
A13: CHIỀU | B13: 6 | C13: 12h45-13h30 | D13: =tkbieu!M19 -> VHPT THI | E13: =tkbieu!M33 -> VHPT THI | F13: =tkbieu!M47 -> 0 | G13: =tkbieu!M61 -> VHPT THI | H13: =tkbieu!M75 -> L.ĐẶT HỆ THỐNG | I13: =tkbieu!M89 -> L.ĐẶT HỆ THỐNG | K13: CHIỀU | L13: 6 | M13: 12h45-13h30 | N13: =tkbieu!N19 -> 0 | O13: =tkbieu!N33 -> 0 | P13: =tkbieu!N47 -> 0 | Q13: =tkbieu!N61 -> 0 | R13: =tkbieu!O61 -> 0 | S13: =tkbieu!N75 -> 0 | T13: =tkbieu!N89 -> 0
B14: 7 | C14: 13h30-14h15 | D14: =tkbieu!M20 -> GIỮA HK1 | E14: =tkbieu!M34 -> GIỮA HK1 | F14: =tkbieu!M48 -> 0 | G14: =tkbieu!M62 -> GIỮA HK1 | H14: =tkbieu!M76 -> MÁY LẠNH CN | I14: =tkbieu!M90 -> ĐHKK CỤC BỘ | L14: 7 | M14: 13h30-14h15 | N14: =tkbieu!N20 -> 0 | O14: =tkbieu!N34 -> 0 | P14: =tkbieu!N48 -> 0 | Q14: =tkbieu!N62 -> 0 | R14: =tkbieu!O62 -> 0 | S14: =tkbieu!N76 -> 0 | T14: =tkbieu!N90 -> 0
B15: 8 | C15: 14h45-15h30 | D15: =tkbieu!M21 -> 0 | E15: =tkbieu!M35 -> 0 | F15: =tkbieu!M49 -> 0 | G15: =tkbieu!M63 -> 0 | H15: =tkbieu!M77 -> 0 | I15: =tkbieu!M91 -> 0 | L15: 8 | M15: 14h45-15h30 | N15: =tkbieu!N21 -> 0 | O15: =tkbieu!N35 -> 0 | P15: =tkbieu!N49 -> 0 | Q15: =tkbieu!N63 -> 0 | R15: =tkbieu!O63 -> 0 | S15: =tkbieu!N77 -> 0 | T15: =tkbieu!N91 -> 0
B16: 9 | C16: 15h30-16h15 | D16: =tkbieu!M22 -> 0 | E16: =tkbieu!M36 -> 0 | F16: =tkbieu!M50 -> 0 | G16: =tkbieu!M64 -> 0 | H16: =tkbieu!M78 -> B105 | I16: =tkbieu!M92 -> B016 | L16: 9 | M16: 15h30-16h15 | N16: =tkbieu!N22 -> 0 | O16: =tkbieu!N36 -> 0 | P16: =tkbieu!N50 -> 0 | Q16: =tkbieu!N64 -> 0 | R16: =tkbieu!O64 -> 0 | S16: =tkbieu!N78 -> 0 | T16: =tkbieu!N92 -> 0
B17: 10 | C17: 16h15-17h00(LT) 16h15-17h15(TH) | D17: =tkbieu!M23 -> 0 | E17: =tkbieu!M37 -> 0 | F17: =tkbieu!M51 -> 0 | G17: =tkbieu!M65 -> 0 | H17: =tkbieu!M79 -> T. A. HẢI | I17: =tkbieu!M93 -> T. VŨ | L17: 10 | M17: 16h15-17h00(LT) 16h15-17h15(TH) | N17: =tkbieu!N23 -> 0 | O17: =tkbieu!N37 -> 0 | P17: =tkbieu!N51 -> 0 | Q17: =tkbieu!N65 -> 0 | R17: =tkbieu!O65 -> 0 | S17: =tkbieu!N79 -> 0 | T17: =tkbieu!N93 -> 0
A20: =K3 -> ÁP DỤNG TỪ NGÀY 02/11 ĐẾN 30/11/2026
A21: HỌC GIÁO DỤC QUỐC PHÒNG AN NINH 02/11 ĐẾN 13/11/2026
A22: LỚP: | C22: =tkbieu!P10 -> C25DC1 | E22: GVCN: | F22: =tkbieu!P9 -> T. M. TUẤN | H22: ĐT: | I22: 090 382 82 78
A23: Buổi | B23: Tiết | C23: Giờ dạy | D23: THỨ HAI | E23: THỨ BA | F23: THỨ TƯ | G23: THỨ NĂM | H23: THỨ SÁU | I23: THỨ BẢY
A24: SÁNG | B24: 1 | C24: 7h00-7h45 | D24: =tkbieu!P12 -> 0 | E24: =tkbieu!P26 -> 0 | F24: =tkbieu!P40 -> 0 | G24: =tkbieu!P54 -> 0 | H24: =tkbieu!P68 -> 0 | I24: =tkbieu!P82 -> 0
B25: 2 | C25: 7h45-8h30 | D25: =tkbieu!P13 -> 0 | E25: =tkbieu!P27 -> 0 | F25: =tkbieu!P41 -> 0 | G25: =tkbieu!P55 -> 0 | H25: =tkbieu!P69 -> 0 | I25: =tkbieu!P83 -> 0
B26: 3 | C26: 9h00-9h45 | D26: =tkbieu!P14 -> 0 | E26: =tkbieu!P28 -> 0 | F26: =tkbieu!P42 -> 0 | G26: =tkbieu!P56 -> 0 | H26: =tkbieu!P70 -> 0 | I26: =tkbieu!P84 -> 0
B27: 4 | C27: 9h45-10h30 | D27: =tkbieu!P15 -> 0 | E27: =tkbieu!P29 -> 0 | F27: =tkbieu!P43 -> 0 | G27: =tkbieu!P57 -> 0 | H27: =tkbieu!P71 -> 0 | I27: =tkbieu!P85 -> 0
B28: 5 | C28: 10h30-11h15(LT) 10h30-11h30(TH) | D28: =tkbieu!P16 -> 0 | E28: =tkbieu!P30 -> 0 | F28: =tkbieu!P44 -> 0 | G28: =tkbieu!P58 -> 0 | H28: =tkbieu!P72 -> 0 | I28: =tkbieu!P86 -> 0
A30: CHIỀU | B30: 6 | C30: 12h45-13h30 | D30: =tkbieu!P19 -> 0 | E30: =tkbieu!P33 -> 0 | F30: =tkbieu!P47 -> 0 | G30: =tkbieu!P61 -> 0 | H30: =tkbieu!P75 -> 0 | I30: =tkbieu!P89 -> 0
B31: 7 | C31: 13h30-14h15 | D31: =tkbieu!P20 -> 0 | E31: =tkbieu!P34 -> 0 | F31: =tkbieu!P48 -> 0 | G31: =tkbieu!P62 -> 0 | H31: =tkbieu!P76 -> 0 | I31: =tkbieu!P90 -> 0
B32: 8 | C32: 14h45-15h30 | D32: =tkbieu!P21 -> 0 | E32: =tkbieu!P35 -> 0 | F32: =tkbieu!P49 -> 0 | G32: =tkbieu!P63 -> 0 | H32: =tkbieu!P77 -> 0 | I32: =tkbieu!P91 -> 0
B33: 9 | C33: 15h30-16h15 | D33: =tkbieu!P22 -> 0 | E33: =tkbieu!P36 -> 0 | F33: =tkbieu!P50 -> 0 | G33: =tkbieu!P64 -> 0 | H33: =tkbieu!P78 -> 0 | I33: =tkbieu!P92 -> 0
B34: 10 | C34: 16h15-17h00(LT) 16h15-17h15(TH) | D34: =tkbieu!P23 -> 0 | E34: =tkbieu!P37 -> 0 | F34: =tkbieu!P51 -> 0 | G34: =tkbieu!P65 -> 0 | H34: =tkbieu!P79 -> 0 | I34: =tkbieu!P93 -> 0
A37: =A20 -> ÁP DỤNG TỪ NGÀY 02/11 ĐẾN 30/11/2026 | K37: =A37 -> ÁP DỤNG TỪ NGÀY 02/11 ĐẾN 30/11/2026
A39: LỚP: | C39: =tkbieu!K10 -> C24KTML1 | E39: GVCN: | F39: =tkbieu!K9 -> C. ÂN | H39: ĐT: | I39: 0914 425 402 | K39: LỚP: | M39: =tkbieu!L10 -> C24DC1 | O39: GVCN: | P39: =tkbieu!L9 -> T. LUÂN | R39: ĐT: | S39: 093 887 8642
A40: Buổi | B40: Tiết | C40: Giờ dạy | D40: THỨ HAI | E40: THỨ BA | F40: THỨ TƯ | G40: THỨ NĂM | H40: THỨ SÁU | I40: THỨ BẢY | K40: Buổi | L40: Tiết | M40: Giờ dạy | N40: THỨ HAI | O40: THỨ BA | P40: THỨ TƯ | Q40: THỨ NĂM | R40: THỨ SÁU | S40: THỨ BẢY
A41: SÁNG | B41: 1 | C41: 7h00-7h45 | D41: =tkbieu!K12 -> 0 | E41: =tkbieu!K26 -> TỰ ĐỘNG HÓA | F41: =tkbieu!K40 -> 0 | G41: =tkbieu!K54 -> SD PHẦN MỀM | H41: =tkbieu!K68 -> 0 | I41: =tkbieu!K82 -> 0 | K41: SÁNG | L41: 1 | M41: 7h00-7h45 | N41: =tkbieu!L12 -> 0 | O41: =tkbieu!L26 -> ĐỒ ÁN | P41: =tkbieu!L40 -> ĐỒ ÁN | Q41: =tkbieu!L54 -> KHỞI SỰ | R41: =tkbieu!L68 -> ĐỒ ÁN | S41: =tkbieu!L82 -> KHỞI SỰ
B42: 2 | C42: 7h45-8h30 | D42: =tkbieu!K13 -> 0 | E42: =tkbieu!K27 -> HT LẠNH | F42: =tkbieu!K41 -> 0 | G42: =tkbieu!K55 -> CHUYÊN NGÀNH | H42: =tkbieu!K69 -> 0 | I42: =tkbieu!K83 -> 0 | L42: 2 | M42: 7h45-8h30 | N42: =tkbieu!L13 -> 0 | O42: =tkbieu!L27 -> TỐT NGHIỆP | P42: =tkbieu!L41 -> TỐT NGHIỆP | Q42: =tkbieu!L55 -> DOANH NGHIỆP | R42: =tkbieu!L69 -> TỐT NGHIỆP | S42: =tkbieu!L83 -> DOANH NGHIỆP
B43: 3 | C43: 9h00-9h45 | D43: =tkbieu!K14 -> 0 | E43: =tkbieu!K28 -> 0 | F43: =tkbieu!K42 -> 0 | G43: =tkbieu!K56 -> 0 | H43: =tkbieu!K70 -> 0 | I43: =tkbieu!K84 -> 0 | L43: 3 | M43: 9h00-9h45 | N43: =tkbieu!L14 -> 0 | O43: =tkbieu!L28 -> 0 | P43: =tkbieu!L42 -> 0 | Q43: =tkbieu!L56 -> 0 | R43: =tkbieu!L70 -> 0 | S43: =tkbieu!L84 -> 0
B44: 4 | C44: 9h45-10h30 | D44: =tkbieu!K15 -> 0 | E44: =tkbieu!K29 -> A001 | F44: =tkbieu!K43 -> 0 | G44: =tkbieu!K57 -> B002 | H44: =tkbieu!K71 -> 0 | I44: =tkbieu!K85 -> 0 | L44: 4 | M44: 9h45-10h30 | N44: =tkbieu!L15 -> 0 | O44: =tkbieu!L29 -> A305 | P44: =tkbieu!L43 -> A305 | Q44: =tkbieu!L57 -> A207 | R44: =tkbieu!L71 -> A305 | S44: =tkbieu!L85 -> A210
B45: 5 | C45: 10h30-11h15(LT) 10h30-11h30(TH) | D45: =tkbieu!K16 -> 0 | E45: =tkbieu!K30 -> T. TRỌNG | F45: =tkbieu!K44 -> 0 | G45: =tkbieu!K58 -> T. V. TUẤN | H45: =tkbieu!K72 -> 0 | I45: =tkbieu!K86 -> 0 | L45: 5 | M45: 10h30-11h15(LT) 10h30-11h30(TH) | N45: =tkbieu!L16 -> 0 | O45: =tkbieu!L30 -> T. P. NAM | P45: =tkbieu!L44 -> T. P. NAM | Q45: =tkbieu!L58 -> T. K. LONG | R45: =tkbieu!L72 -> T. P. NAM | S45: =tkbieu!L86 -> T. K. LONG
A47: CHIỀU | B47: 6 | C47: 12h45-13h30 | D47: =tkbieu!K19 -> 0 | E47: =tkbieu!K33 -> TỰ ĐỘNG HÓA | F47: =tkbieu!K47 -> 0 | G47: =tkbieu!K61 -> SD PHẦN MỀM | H47: =tkbieu!K75 -> 0 | I47: =tkbieu!K89 -> 0 | K47: CHIỀU | L47: 6 | M47: 12h45-13h30 | N47: =tkbieu!L19 -> 0 | O47: =tkbieu!L33 -> ĐỒ ÁN | P47: =tkbieu!L47 -> ĐỒ ÁN | Q47: =tkbieu!L61 -> 0 | R47: =tkbieu!L75 -> ĐỒ ÁN | S47: =tkbieu!L89 -> 0
B48: 7 | C48: 13h30-14h15 | D48: =tkbieu!K20 -> 0 | E48: =tkbieu!K34 -> HT LẠNH | F48: =tkbieu!K48 -> 0 | G48: =tkbieu!K62 -> CHUYÊN NGÀNH | H48: =tkbieu!K76 -> 0 | I48: =tkbieu!K90 -> 0 | L48: 7 | M48: 13h30-14h15 | N48: =tkbieu!L20 -> 0 | O48: =tkbieu!L34 -> TỐT NGHIỆP | P48: =tkbieu!L48 -> TỐT NGHIỆP | Q48: =tkbieu!L62 -> 0 | R48: =tkbieu!L76 -> TỐT NGHIỆP | S48: =tkbieu!L90 -> 0
B49: 8 | C49: 14h45-15h30 | D49: =tkbieu!K21 -> 0 | E49: =tkbieu!K35 -> 0 | F49: =tkbieu!K49 -> 0 | G49: =tkbieu!K63 -> 0 | H49: =tkbieu!K77 -> 0 | I49: =tkbieu!K91 -> 0 | L49: 8 | M49: 14h45-15h30 | N49: =tkbieu!L21 -> 0 | O49: =tkbieu!L35 -> 0 | P49: =tkbieu!L49 -> 0 | Q49: =tkbieu!L63 -> 0 | R49: =tkbieu!L77 -> 0 | S49: =tkbieu!L91 -> 0
B50: 9 | C50: 15h30-16h15 | D50: =tkbieu!K22 -> 0 | E50: =tkbieu!K36 -> A001 | F50: =tkbieu!K50 -> 0 | G50: =tkbieu!K64 -> B002 | H50: =tkbieu!K78 -> 0 | I50: =tkbieu!K92 -> 0 | L50: 9 | M50: 15h30-16h15 | N50: =tkbieu!L22 -> 0 | O50: =tkbieu!L36 -> A305 | P50: =tkbieu!L50 -> A305 | Q50: =tkbieu!L64 -> 0 | R50: =tkbieu!L78 -> A305 | S50: =tkbieu!L92 -> 0
B51: 10 | C51: 16h15-17h00(LT) 16h15-17h15(TH) | D51: =tkbieu!K23 -> 0 | E51: =tkbieu!K37 -> T. TRỌNG | F51: =tkbieu!K51 -> 0 | G51: =tkbieu!K65 -> T. V. TUẤN | H51: =tkbieu!K79 -> 0 | I51: =tkbieu!K93 -> 0 | L51: 10 | M51: 16h15-17h00(LT) 16h15-17h15(TH) | N51: =tkbieu!L23 -> 0 | O51: =tkbieu!L37 -> T. P. NAM | P51: =tkbieu!L51 -> T. P. NAM | Q51: =tkbieu!L65 -> 0 | R51: =tkbieu!L79 -> T. P. NAM | S51: =tkbieu!L93 -> 0
A54: Lưu ý:
A55: Thời gian học: Một giờ dạy thực hành/tích hợp là 60 phút, Một giờ dạy lý thuyết/trực tuyến là 45 phút
B56: Ca sáng: Giờ lý thuyết: Từ 7h00(T1) – 8h30 - ra chơi - 9h00 – 11h15(T5), Giờ thực hành: Từ 7h00(T1) – 8h30 - ra chơi - 9h00 – 11h30 (T4)
B57: Ca chiều: Giờ lý thuyết: Từ 12h45 (T6) – 14h15 - ra chơi - 14h45 – 17h00 (T10), Giờ thực hành: Từ 12h45 (T5) – 14h15 - ra chơi - 14h45 – 17h15 (T8)
B58: Ca tối: Từ 17h45 – 19h15 - ra chơi - 19h30 – 21h00

Sheet KCNTT
A1: THỜI KHÓA BIỂU KHOA CÔNG NGHỆ THÔNG TIN
A3: =KĐLẠNH!A3 -> ÁP DỤNG TỪ NGÀY 02/11 ĐẾN 30/11/2026 | L3: =A3 -> ÁP DỤNG TỪ NGÀY 02/11 ĐẾN 30/11/2026
A5: LỚP: | C5: =tkbieu!X10 -> T25TKĐH1 | E5: GVCN: | F5: =tkbieu!X9 -> C. S. MAI | H5: ĐT: | I5: 0935 210 585 | L5: LỚP: | N5: =tkbieu!W10 -> T25UDPM1 | P5: GVCN: | Q5: =tkbieu!W9 -> C. OANH | S5: ĐT: | T5: 0938775055
A6: Buổi | B6: Tiết | C6: Giờ dạy | D6: THỨ HAI | E6: THỨ BA | F6: THỨ TƯ | G6: THỨ NĂM | H6: THỨ SÁU | I6: THỨ BẢY | L6: Buổi | M6: Tiết | N6: Giờ dạy | O6: THỨ HAI | P6: THỨ BA | Q6: THỨ TƯ | R6: THỨ NĂM | S6: THỨ SÁU | T6: THỨ BẢY
A7: SÁNG | B7: 1 | C7: 7h00-7h45 | D7: =tkbieu!X12 -> 0 | E7: =tkbieu!X26 -> THIẾT KẾ | F7: =tkbieu!X40 -> 0 | G7: =tkbieu!X54 -> KỸ THUẬT | H7: =tkbieu!X68 -> 0 | I7: =tkbieu!X82 -> T.KẾ BAO BÌ | L7: SÁNG | M7: 1 | N7: 7h00-7h45 | O7: =tkbieu!W12 -> 0 | P7: =tkbieu!W26 -> 0 | Q7: =tkbieu!W40 -> 0 | R7: =tkbieu!W54 -> T. KẾ GIAO DIỆN | S7: =tkbieu!W68 -> 0 | T7: =tkbieu!W82 -> 0
B8: 2 | C8: 7h45-8h30 | D8: =tkbieu!X13 -> 0 | E8: =tkbieu!X27 -> BANNER | F8: =tkbieu!X41 -> 0 | G8: =tkbieu!X55 -> IN ẤN | H8: =tkbieu!X69 -> 0 | I8: =tkbieu!X83 -> NHÃN MÁC | M8: 2 | N8: 7h45-8h30 | O8: =tkbieu!W13 -> 0 | P8: =tkbieu!W27 -> 0 | Q8: =tkbieu!W41 -> 0 | R8: =tkbieu!W55 -> NGƯỜI DÙNG | S8: =tkbieu!W69 -> 0 | T8: =tkbieu!W83 -> 0
B9: 3 | C9: 9h00-9h45 | D9: =tkbieu!X14 -> 0 | E9: =tkbieu!X28 -> 0 | F9: =tkbieu!X42 -> 0 | G9: =tkbieu!X56 -> 0 | H9: =tkbieu!X70 -> 0 | I9: =tkbieu!X84 -> 0 | M9: 3 | N9: 9h00-9h45 | O9: =tkbieu!W14 -> 0 | P9: =tkbieu!W28 -> 0 | Q9: =tkbieu!W42 -> 0 | R9: =tkbieu!W56 -> 0 | S9: =tkbieu!W70 -> 0 | T9: =tkbieu!W84 -> 0
B10: 4 | C10: 9h45-10h30 | D10: =tkbieu!X15 -> 0 | E10: =tkbieu!X29 -> A101 (PM4) | F10: =tkbieu!X43 -> 0 | G10: =tkbieu!X57 -> A103 (PM6) | H10: =tkbieu!X71 -> 0 | I10: =tkbieu!X85 -> A103 (PM6) | M10: 4 | N10: 9h45-10h30 | O10: =tkbieu!W15 -> 0 | P10: =tkbieu!W29 -> 0 | Q10: =tkbieu!W43 -> 0 | R10: =tkbieu!W57 -> A102-1 (PM5.1) | S10: =tkbieu!W71 -> 0 | T10: =tkbieu!W85 -> 0
B11: 5 | C11: 10h30-11h15(LT) 10h30-11h30(TH) | D11: =tkbieu!X16 -> 0 | E11: =tkbieu!X30 -> T. X. LIÊN | F11: =tkbieu!X44 -> 0 | G11: =tkbieu!X58 -> T. HÀO | H11: =tkbieu!X72 -> 0 | I11: =tkbieu!X86 -> T. PHI | M11: 5 | N11: 10h30-11h15(LT) 10h30-11h30(TH) | O11: =tkbieu!W16 -> 0 | P11: =tkbieu!W30 -> 0 | Q11: =tkbieu!W44 -> 0 | R11: =tkbieu!W58 -> C. HÂN | S11: =tkbieu!W72 -> 0 | T11: =tkbieu!W86 -> 0
A13: CHIỀU | B13: 6 | C13: 12h45-13h30 | D13: =tkbieu!X19 -> VHPT THI | E13: =tkbieu!X33 -> VHPT THI | F13: =tkbieu!X47 -> 0 | G13: =tkbieu!X61 -> VHPT THI | H13: =tkbieu!X75 -> THIẾT KẾ | I13: =tkbieu!X89 -> 0 | L13: CHIỀU | M13: 6 | N13: 12h45-13h30 | O13: =tkbieu!W19 -> VHPT THI | P13: =tkbieu!W33 -> VHPT THI | Q13: =tkbieu!W47 -> 0 | R13: =tkbieu!W61 -> VHPT THI | S13: =tkbieu!W75 -> KỸ THUẬT | T13: =tkbieu!W89 -> X.DỰNG & Q.TRỊ
B14: 7 | C14: 13h30-14h15 | D14: =tkbieu!X20 -> GIỮA HK1 | E14: =tkbieu!X34 -> GIỮA HK1 | F14: =tkbieu!X48 -> 0 | G14: =tkbieu!X62 -> GIỮA HK1 | H14: =tkbieu!X76 -> QUẢNG CÁO | I14: =tkbieu!X90 -> 0 | M14: 7 | N14: 13h30-14h15 | O14: =tkbieu!W20 -> GIỮA HK1 | P14: =tkbieu!W34 -> GIỮA HK1 | Q14: =tkbieu!W48 -> 0 | R14: =tkbieu!W62 -> GIỮA HK1 | S14: =tkbieu!W76 -> SEO WEB | T14: =tkbieu!W90 -> WEBSITE
B15: 8 | C15: 14h45-15h30 | D15: =tkbieu!X21 -> 0 | E15: =tkbieu!X35 -> 0 | F15: =tkbieu!X49 -> 0 | G15: =tkbieu!X63 -> 0 | H15: =tkbieu!X77 -> 0 | I15: =tkbieu!X91 -> 0 | M15: 8 | N15: 14h45-15h30 | O15: =tkbieu!W21 -> 0 | P15: =tkbieu!W35 -> 0 | Q15: =tkbieu!W49 -> 0 | R15: =tkbieu!W63 -> 0 | S15: =tkbieu!W77 -> 0 | T15: =tkbieu!W91 -> 0
B16: 9 | C16: 15h30-16h15 | D16: =tkbieu!X22 -> 0 | E16: =tkbieu!X36 -> 0 | F16: =tkbieu!X50 -> 0 | G16: =tkbieu!X64 -> 0 | H16: =tkbieu!X78 -> A101 (PM4) | I16: =tkbieu!X92 -> 0 | M16: 9 | N16: 15h30-16h15 | O16: =tkbieu!W22 -> 0 | P16: =tkbieu!W36 -> 0 | Q16: =tkbieu!W50 -> 0 | R16: =tkbieu!W64 -> 0 | S16: =tkbieu!W78 -> A109 (PM2) | T16: =tkbieu!W92 -> A112 (PM1)
B17: 10 | C17: 16h15-17h00(LT) 16h15-17h15(TH) | D17: =tkbieu!X23 -> 0 | E17: =tkbieu!X37 -> 0 | F17: =tkbieu!X51 -> 0 | G17: =tkbieu!X65 -> 0 | H17: =tkbieu!X79 -> C. HÀ | I17: =tkbieu!X93 -> 0 | M17: 10 | N17: 16h15-17h00(LT) 16h15-17h15(TH) | O17: =tkbieu!W23 -> 0 | P17: =tkbieu!W37 -> 0 | Q17: =tkbieu!W51 -> 0 | R17: =tkbieu!W65 -> 0 | S17: =tkbieu!W79 -> T. DUY | T17: =tkbieu!W93 -> T. VÂN
A20: =A3 -> ÁP DỤNG TỪ NGÀY 02/11 ĐẾN 30/11/2026 | L20: =L3 -> ÁP DỤNG TỪ NGÀY 02/11 ĐẾN 30/11/2026
A21: HỌC GIÁO DỤC QUỐC PHÒNG AN NINH 02/11 ĐẾN 13/11/2026 | L21: HỌC GIÁO DỤC QUỐC PHÒNG AN NINH 02/11 ĐẾN 07/11/2026
A22: LỚP: | C22: =tkbieu!Y10 -> C25UDPM1 | E22: GVCN: | F22: =tkbieu!Y9 -> C. OANH | H22: ĐT: | I22: 0938775055 | L22: LỚP: | N22: =tkbieu!Z10 -> C25TKĐH(LT) | P22: GVCN: | Q22: =tkbieu!Z9 -> C. T. LINH | S22: ĐT: | T22: 0983626852
A23: Buổi | B23: Tiết | C23: Giờ dạy | D23: THỨ HAI | E23: THỨ BA | F23: THỨ TƯ | G23: THỨ NĂM | H23: THỨ SÁU | I23: THỨ BẢY | L23: Buổi | M23: Tiết | N23: Giờ dạy | O23: THỨ HAI | P23: THỨ BA | Q23: THỨ TƯ | R23: THỨ NĂM | S23: THỨ SÁU | T23: THỨ BẢY
A24: SÁNG | B24: 1 | C24: 7h00-7h45 | D24: =tkbieu!Y12 -> 0 | E24: =tkbieu!Y26 -> 0 | F24: =tkbieu!Y40 -> 0 | G24: =tkbieu!Y54 -> 0 | H24: =tkbieu!Y68 -> 0 | I24: =tkbieu!Y82 -> 0 | L24: SÁNG | M24: 1 | N24: 7h00-7h45 | O24: =tkbieu!Z12 -> 0 | P24: =tkbieu!Z26 -> 0 | Q24: =tkbieu!Z40 -> 0 | R24: =tkbieu!Z54 -> 0 | S24: =tkbieu!Z68 -> 0 | T24: =tkbieu!Z82 -> 0
B25: 2 | C25: 7h45-8h30 | D25: =tkbieu!Y13 -> 0 | E25: =tkbieu!Y27 -> 0 | F25: =tkbieu!Y41 -> 0 | G25: =tkbieu!Y55 -> 0 | H25: =tkbieu!Y69 -> 0 | I25: =tkbieu!Y83 -> 0 | M25: 2 | N25: 7h45-8h30 | O25: =tkbieu!Z13 -> 0 | P25: =tkbieu!Z27 -> 0 | Q25: =tkbieu!Z41 -> 0 | R25: =tkbieu!Z55 -> 0 | S25: =tkbieu!Z69 -> 0 | T25: =tkbieu!Z83 -> 0
B26: 3 | C26: 9h00-9h45 | D26: =tkbieu!Y14 -> 0 | E26: =tkbieu!Y28 -> 0 | F26: =tkbieu!Y42 -> 0 | G26: =tkbieu!Y56 -> 0 | H26: =tkbieu!Y70 -> 0 | I26: =tkbieu!Y84 -> 0 | M26: 3 | N26: 9h00-9h45 | O26: =tkbieu!Z14 -> 0 | P26: =tkbieu!Z28 -> 0 | Q26: =tkbieu!Z42 -> 0 | R26: =tkbieu!Z56 -> 0 | S26: =tkbieu!Z70 -> 0 | T26: =tkbieu!Z84 -> 0
B27: 4 | C27: 9h45-10h30 | D27: =tkbieu!Y15 -> 0 | E27: =tkbieu!Y29 -> 0 | F27: =tkbieu!Y43 -> 0 | G27: =tkbieu!Y57 -> 0 | H27: =tkbieu!Y71 -> 0 | I27: =tkbieu!Y85 -> 0 | M27: 4 | N27: 9h45-10h30 | O27: =tkbieu!Z15 -> 0 | P27: =tkbieu!Z29 -> 0 | Q27: =tkbieu!Z43 -> 0 | R27: =tkbieu!Z57 -> 0 | S27: =tkbieu!Z71 -> 0 | T27: =tkbieu!Z85 -> 0
B28: 5 | C28: 10h30-11h15(LT) 10h30-11h30(TH) | D28: =tkbieu!Y16 -> 0 | E28: =tkbieu!Y30 -> 0 | F28: =tkbieu!Y44 -> 0 | G28: =tkbieu!Y58 -> 0 | H28: =tkbieu!Y72 -> 0 | I28: =tkbieu!Y86 -> 0 | M28: 5 | N28: 10h30-11h15(LT) 10h30-11h30(TH) | O28: =tkbieu!Z16 -> 0 | P28: =tkbieu!Z30 -> 0 | Q28: =tkbieu!Z44 -> 0 | R28: =tkbieu!Z58 -> 0 | S28: =tkbieu!Z72 -> 0 | T28: =tkbieu!Z86 -> 0
A30: CHIỀU | B30: 6 | C30: 12h45-13h30 | D30: =tkbieu!Y19 -> 0 | E30: =tkbieu!Y33 -> 0 | F30: =tkbieu!Y47 -> 0 | G30: =tkbieu!Y61 -> 0 | H30: =tkbieu!Y75 -> 0 | I30: =tkbieu!Y89 -> 0 | L30: CHIỀU | M30: 6 | N30: 12h45-13h30 | O30: =tkbieu!Z19 -> 0 | P30: =tkbieu!Z33 -> 0 | Q30: =tkbieu!Z47 -> 0 | R30: =tkbieu!Z61 -> 0 | S30: =tkbieu!Z75 -> 0 | T30: =tkbieu!Z89 -> 0
B31: 7 | C31: 13h30-14h15 | D31: =tkbieu!Y20 -> 0 | E31: =tkbieu!Y34 -> 0 | F31: =tkbieu!Y48 -> 0 | G31: =tkbieu!Y62 -> 0 | H31: =tkbieu!Y76 -> 0 | I31: =tkbieu!Y90 -> 0 | M31: 7 | N31: 13h30-14h15 | O31: =tkbieu!Z20 -> 0 | P31: =tkbieu!Z34 -> 0 | Q31: =tkbieu!Z48 -> 0 | R31: =tkbieu!Z62 -> 0 | S31: =tkbieu!Z76 -> 0 | T31: =tkbieu!Z90 -> 0
B32: 8 | C32: 14h45-15h30 | D32: =tkbieu!Y21 -> 0 | E32: =tkbieu!Y35 -> 0 | F32: =tkbieu!Y49 -> 0 | G32: =tkbieu!Y63 -> 0 | H32: =tkbieu!Y77 -> 0 | I32: =tkbieu!Y91 -> 0 | M32: 8 | N32: 14h45-15h30 | O32: =tkbieu!Z21 -> 0 | P32: =tkbieu!Z35 -> 0 | Q32: =tkbieu!Z49 -> 0 | R32: =tkbieu!Z63 -> 0 | S32: =tkbieu!Z77 -> 0 | T32: =tkbieu!Z91 -> 0
B33: 9 | C33: 15h30-16h15 | D33: =tkbieu!Y22 -> 0 | E33: =tkbieu!Y36 -> 0 | F33: =tkbieu!Y50 -> 0 | G33: =tkbieu!Y64 -> 0 | H33: =tkbieu!Y78 -> 0 | I33: =tkbieu!Y92 -> 0 | M33: 9 | N33: 15h30-16h15 | O33: =tkbieu!Z22 -> 0 | P33: =tkbieu!Z36 -> 0 | Q33: =tkbieu!Z50 -> 0 | R33: =tkbieu!Z64 -> 0 | S33: =tkbieu!Z78 -> 0 | T33: =tkbieu!Z92 -> 0
B34: 10 | C34: 16h15-17h00(LT) 16h15-17h15(TH) | D34: =tkbieu!Y23 -> 0 | E34: =tkbieu!Y37 -> 0 | F34: =tkbieu!Y51 -> 0 | G34: =tkbieu!Y65 -> 0 | H34: =tkbieu!Y79 -> 0 | I34: =tkbieu!Y93 -> 0 | M34: 10 | N34: 16h15-17h00(LT) 16h15-17h15(TH) | O34: =tkbieu!Z23 -> 0 | P34: =tkbieu!Z37 -> 0 | Q34: =tkbieu!Z51 -> 0 | R34: =tkbieu!Z65 -> 0 | S34: =tkbieu!Z79 -> 0 | T34: =tkbieu!Z93 -> 0
A37: =#REF! -> #REF! | L37: =A37 -> #REF!
A39: LỚP: | C39: =tkbieu!S10 -> T24TKĐH1 | E39: GVCN: | F39: =tkbieu!S9 -> T. T. TÀI | H39: ĐT: | L39: LỚP: | N39: =tkbieu!T10 -> T24TKĐH2 | P39: GVCN: | Q39: =tkbieu!T9 -> C. HỒNG | S39: ĐT: | T39: 0986 943 862
A40: Buổi | B40: Tiết | C40: Giờ dạy | D40: THỨ HAI | E40: THỨ BA | F40: THỨ TƯ | G40: THỨ NĂM | H40: THỨ SÁU | I40: THỨ BẢY | L40: Buổi | M40: Tiết | N40: Giờ dạy | O40: THỨ HAI | P40: THỨ BA | Q40: THỨ TƯ | R40: THỨ NĂM | S40: THỨ SÁU | T40: THỨ BẢY
A41: SÁNG | B41: 1 | C41: 7h00-7h45 | D41: =tkbieu!S12 -> 0 | E41: =tkbieu!S26 -> HỌC VHPT | F41: =tkbieu!S40 -> HỌC VHPT | G41: =tkbieu!S54 -> HỌC VHPT | H41: =tkbieu!S68 -> HỌC VHPT | I41: =tkbieu!S82 -> 0 | L41: SÁNG | M41: 1 | N41: 7h00-7h45 | O41: =tkbieu!T12 -> 0 | P41: =tkbieu!T26 -> HỌC VHPT | Q41: =tkbieu!T40 -> HỌC VHPT | R41: =tkbieu!T54 -> HỌC VHPT | S41: =tkbieu!T68 -> HỌC VHPT | T41: =tkbieu!T82 -> 0
B42: 2 | C42: 7h45-8h30 | D42: =tkbieu!S13 -> 0 | E42: =tkbieu!S27 -> THEO TKB | F42: =tkbieu!S41 -> THEO TKB | G42: =tkbieu!S55 -> THEO TKB | H42: =tkbieu!S69 -> THEO TKB | I42: =tkbieu!S83 -> 0 | M42: 2 | N42: 7h45-8h30 | O42: =tkbieu!T13 -> 0 | P42: =tkbieu!T27 -> THEO TKB | Q42: =tkbieu!T41 -> THEO TKB | R42: =tkbieu!T55 -> THEO TKB | S42: =tkbieu!T69 -> THEO TKB | T42: =tkbieu!T83 -> 0
B43: 3 | C43: 9h00-9h45 | D43: =tkbieu!S14 -> 0 | E43: =tkbieu!S28 -> TTGDTX | F43: =tkbieu!S42 -> TTGDTX | G43: =tkbieu!S56 -> TTGDTX | H43: =tkbieu!S70 -> TTGDTX | I43: =tkbieu!S84 -> 0 | M43: 3 | N43: 9h00-9h45 | O43: =tkbieu!T14 -> 0 | P43: =tkbieu!T28 -> TTGDTX | Q43: =tkbieu!T42 -> TTGDTX | R43: =tkbieu!T56 -> TTGDTX | S43: =tkbieu!T70 -> TTGDTX | T43: =tkbieu!T84 -> 0
B44: 4 | C44: 9h45-10h30 | D44: =tkbieu!S15 -> 0 | E44: =tkbieu!S29 -> 0 | F44: =tkbieu!S43 -> 0 | G44: =tkbieu!S57 -> 0 | H44: =tkbieu!S71 -> 0 | I44: =tkbieu!S85 -> 0 | M44: 4 | N44: 9h45-10h30 | O44: =tkbieu!T15 -> 0 | P44: =tkbieu!T29 -> 0 | Q44: =tkbieu!T43 -> 0 | R44: =tkbieu!T57 -> 0 | S44: =tkbieu!T71 -> 0 | T44: =tkbieu!T85 -> 0
B45: 5 | C45: 10h30-11h15(LT) 10h30-11h30(TH) | D45: =tkbieu!S16 -> 0 | E45: =tkbieu!S30 -> 0 | F45: =tkbieu!S44 -> 0 | G45: =tkbieu!S58 -> 0 | H45: =tkbieu!S72 -> 0 | I45: =tkbieu!S86 -> 0 | M45: 5 | N45: 10h30-11h15(LT) 10h30-11h30(TH) | O45: =tkbieu!T16 -> 0 | P45: =tkbieu!T30 -> 0 | Q45: =tkbieu!T44 -> 0 | R45: =tkbieu!T58 -> 0 | S45: =tkbieu!T72 -> 0 | T45: =tkbieu!T86 -> 0
A47: CHIỀU | B47: 6 | C47: 12h45-13h30 | D47: =tkbieu!S19 -> 0 | E47: =tkbieu!S33 -> 0 | F47: =tkbieu!S47 -> 0 | G47: =tkbieu!S61 -> 0 | H47: =tkbieu!S75 -> 0 | I47: =tkbieu!S89 -> 0 | L47: CHIỀU | M47: 6 | N47: 12h45-13h30 | O47: =tkbieu!T19 -> 0 | P47: =tkbieu!T33 -> 0 | Q47: =tkbieu!T47 -> 0 | R47: =tkbieu!T61 -> 0 | S47: =tkbieu!T75 -> 0 | T47: =tkbieu!T89 -> 0
B48: 7 | C48: 13h30-14h15 | D48: =tkbieu!S20 -> 0 | E48: =tkbieu!S34 -> 0 | F48: =tkbieu!S48 -> 0 | G48: =tkbieu!S62 -> 0 | H48: =tkbieu!S76 -> 0 | I48: =tkbieu!S90 -> 0 | M48: 7 | N48: 13h30-14h15 | O48: =tkbieu!T20 -> 0 | P48: =tkbieu!T34 -> 0 | Q48: =tkbieu!T48 -> 0 | R48: =tkbieu!T62 -> 0 | S48: =tkbieu!T76 -> 0 | T48: =tkbieu!T90 -> 0
B49: 8 | C49: 14h45-15h30 | D49: =tkbieu!S21 -> 0 | E49: =tkbieu!S35 -> 0 | F49: =tkbieu!S49 -> 0 | G49: =tkbieu!S63 -> 0 | H49: =tkbieu!S77 -> 0 | I49: =tkbieu!S91 -> 0 | M49: 8 | N49: 14h45-15h30 | O49: =tkbieu!T21 -> 0 | P49: =tkbieu!T35 -> 0 | Q49: =tkbieu!T49 -> 0 | R49: =tkbieu!T63 -> 0 | S49: =tkbieu!T77 -> 0 | T49: =tkbieu!T91 -> 0
B50: 9 | C50: 15h30-16h15 | D50: =tkbieu!S22 -> 0 | E50: =tkbieu!S36 -> 0 | F50: =tkbieu!S50 -> 0 | G50: =tkbieu!S64 -> 0 | H50: =tkbieu!S78 -> 0 | I50: =tkbieu!S92 -> 0 | M50: 9 | N50: 15h30-16h15 | O50: =tkbieu!T22 -> 0 | P50: =tkbieu!T36 -> 0 | Q50: =tkbieu!T50 -> 0 | R50: =tkbieu!T64 -> 0 | S50: =tkbieu!T78 -> 0 | T50: =tkbieu!T92 -> 0
B51: 10 | C51: 16h15-17h00(LT) 16h15-17h15(TH) | D51: =tkbieu!S23 -> 0 | E51: =tkbieu!S37 -> 0 | F51: =tkbieu!S51 -> 0 | G51: =tkbieu!S65 -> 0 | H51: =tkbieu!S79 -> 0 | I51: =tkbieu!S93 -> 0 | M51: 10 | N51: 16h15-17h00(LT) 16h15-17h15(TH) | O51: =tkbieu!T23 -> 0 | P51: =tkbieu!T37 -> 0 | Q51: =tkbieu!T51 -> 0 | R51: =tkbieu!T65 -> 0 | S51: =tkbieu!T79 -> 0 | T51: =tkbieu!T93 -> 0
A54: =A37 -> #REF!
A56: LỚP: | C56: =tkbieu!R10 -> T24UDPM1 | E56: GVCN: | F56: =tkbieu!R9 -> C. Q. PHƯƠNG | H56: ĐT: | I56: 093 8813 926
A57: Buổi | B57: Tiết | C57: Giờ dạy | D57: THỨ HAI | E57: THỨ BA | F57: THỨ TƯ | G57: THỨ NĂM | H57: THỨ SÁU | I57: THỨ BẢY
A58: SÁNG | B58: 1 | C58: 7h00-7h45 | D58: =tkbieu!R12 -> 0 | E58: =tkbieu!R26 -> HỌC VHPT | F58: =tkbieu!R40 -> HỌC VHPT | G58: =tkbieu!R54 -> HỌC VHPT | H58: =tkbieu!R68 -> HỌC VHPT | I58: =tkbieu!R82 -> 0
B59: 2 | C59: 7h45-8h30 | D59: =tkbieu!R13 -> 0 | E59: =tkbieu!R27 -> THEO TKB | F59: =tkbieu!R41 -> THEO TKB | G59: =tkbieu!R55 -> THEO TKB | H59: =tkbieu!R69 -> THEO TKB | I59: =tkbieu!R83 -> 0
B60: 3 | C60: 9h00-9h45 | D60: =tkbieu!R14 -> 0 | E60: =tkbieu!R28 -> TTGDTX | F60: =tkbieu!R42 -> TTGDTX | G60: =tkbieu!R56 -> TTGDTX | H60: =tkbieu!R70 -> TTGDTX | I60: =tkbieu!R84 -> 0
B61: 4 | C61: 9h45-10h30 | D61: =tkbieu!R15 -> 0 | E61: =tkbieu!R29 -> 0 | F61: =tkbieu!R43 -> 0 | G61: =tkbieu!R57 -> 0 | H61: =tkbieu!R71 -> 0 | I61: =tkbieu!R85 -> 0
B62: 5 | C62: 10h30-11h15(LT) 10h30-11h30(TH) | D62: =tkbieu!R16 -> 0 | E62: =tkbieu!R30 -> 0 | F62: =tkbieu!R44 -> 0 | G62: =tkbieu!R58 -> 0 | H62: =tkbieu!R72 -> 0 | I62: =tkbieu!R86 -> 0
A64: CHIỀU | B64: 6 | C64: 12h45-13h30 | D64: =tkbieu!R19 -> 0 | E64: =tkbieu!R33 -> 0 | F64: =tkbieu!R47 -> 0 | G64: =tkbieu!R61 -> 0 | H64: =tkbieu!R75 -> 0 | I64: =tkbieu!R89 -> 0
B65: 7 | C65: 13h30-14h15 | D65: =tkbieu!R20 -> 0 | E65: =tkbieu!R34 -> 0 | F65: =tkbieu!R48 -> 0 | G65: =tkbieu!R62 -> 0 | H65: =tkbieu!R76 -> 0 | I65: =tkbieu!R90 -> 0
B66: 8 | C66: 14h45-15h30 | D66: =tkbieu!R21 -> 0 | E66: =tkbieu!R35 -> 0 | F66: =tkbieu!R49 -> 0 | G66: =tkbieu!R63 -> 0 | H66: =tkbieu!R77 -> 0 | I66: =tkbieu!R91 -> 0
B67: 9 | C67: 15h30-16h15 | D67: =tkbieu!R22 -> 0 | E67: =tkbieu!R36 -> 0 | F67: =tkbieu!R50 -> 0 | G67: =tkbieu!R64 -> 0 | H67: =tkbieu!R78 -> 0 | I67: =tkbieu!R92 -> 0
B68: 10 | C68: 16h15-17h00(LT) 16h15-17h15(TH) | D68: =tkbieu!R23 -> 0 | E68: =tkbieu!R37 -> 0 | F68: =tkbieu!R51 -> 0 | G68: =tkbieu!R65 -> 0 | H68: =tkbieu!R79 -> 0 | I68: =tkbieu!R93 -> 0
A71: =A3 -> ÁP DỤNG TỪ NGÀY 02/11 ĐẾN 30/11/2026 | L71: =A71 -> ÁP DỤNG TỪ NGÀY 02/11 ĐẾN 30/11/2026
A73: LỚP: | C73: =tkbieu!U10 -> C24UDPM1 | E73: GVCN: | F73: =tkbieu!U9 -> T. THÀNH | H73: ĐT: | I73: 0908 111 678 | L73: LỚP: | N73: =tkbieu!V10 -> C24TKĐH1 | P73: GVCN: | Q73: =tkbieu!V9 -> C. T. OANH | S73: ĐT: | T73: 0985 516 982
A74: Buổi | B74: Tiết | C74: Giờ dạy | D74: THỨ HAI | E74: THỨ BA | F74: THỨ TƯ | G74: THỨ NĂM | H74: THỨ SÁU | I74: THỨ BẢY | L74: Buổi | M74: Tiết | N74: Giờ dạy | O74: THỨ HAI | P74: THỨ BA | Q74: THỨ TƯ | R74: THỨ NĂM | S74: THỨ SÁU | T74: THỨ BẢY
A75: SÁNG | B75: 1 | C75: 7h00-7h45 | D75: =tkbieu!U12 -> 0 | E75: =tkbieu!U26 -> CS DỮ LIỆU | F75: =tkbieu!U40 -> LẬP TRÌNH T.BỊ | G75: =tkbieu!U54 -> 0 | H75: =tkbieu!U68 -> LẬP TRÌNH T.BỊ | I75: =tkbieu!U82 -> LẬP TRÌNH T.BỊ | L75: SÁNG | M75: 1 | N75: 7h00-7h45 | O75: =tkbieu!V12 -> 0 | P75: =tkbieu!V26 -> ỨNG DỤNG CN AI | Q75: =tkbieu!V40 -> 0 | R75: =tkbieu!V54 -> 0 | S75: =tkbieu!V68 -> 0 | T75: =tkbieu!V82 -> 0
B76: 2 | C76: 7h45-8h30 | D76: =tkbieu!U13 -> 0 | E76: =tkbieu!U27 -> NOSWL | F76: =tkbieu!U41 -> DI ĐỘNG | G76: =tkbieu!U55 -> 0 | H76: =tkbieu!U69 -> DI ĐỘNG | I76: =tkbieu!U83 -> DI ĐỘNG | M76: 2 | N76: 7h45-8h30 | O76: =tkbieu!V13 -> 0 | P76: =tkbieu!V27 -> TRG THIẾT KẾ | Q76: =tkbieu!V41 -> 0 | R76: =tkbieu!V55 -> 0 | S76: =tkbieu!V69 -> 0 | T76: =tkbieu!V83 -> 0
B77: 3 | C77: 9h00-9h45 | D77: =tkbieu!U14 -> 0 | E77: =tkbieu!U28 -> 0 | F77: =tkbieu!U42 -> 0 | G77: =tkbieu!U56 -> 0 | H77: =tkbieu!U70 -> 0 | I77: =tkbieu!U84 -> 0 | M77: 3 | N77: 9h00-9h45 | O77: =tkbieu!V14 -> 0 | P77: =tkbieu!V28 -> 0 | Q77: =tkbieu!V42 -> 0 | R77: =tkbieu!V56 -> 0 | S77: =tkbieu!V70 -> 0 | T77: =tkbieu!V84 -> 0
B78: 4 | C78: 9h45-10h30 | D78: =tkbieu!U15 -> 0 | E78: =tkbieu!U29 -> A112 (PM1) | F78: =tkbieu!U43 -> A112 (PM1) | G78: =tkbieu!U57 -> 0 | H78: =tkbieu!U71 -> A112 (PM1) | I78: =tkbieu!U85 -> A112 (PM1) | M78: 4 | N78: 9h45-10h30 | O78: =tkbieu!V15 -> 0 | P78: =tkbieu!V29 -> A109 (PM2) | Q78: =tkbieu!V43 -> 0 | R78: =tkbieu!V57 -> 0 | S78: =tkbieu!V71 -> 0 | T78: =tkbieu!V85 -> 0
B79: 5 | C79: 10h30-11h15(LT) 10h30-11h30(TH) | D79: =tkbieu!U16 -> 0 | E79: =tkbieu!U30 -> T. VÂN | F79: =tkbieu!U44 -> T. TÀI | G79: =tkbieu!U58 -> 0 | H79: =tkbieu!U72 -> T. TÀI | I79: =tkbieu!U86 -> T. TÀI | M79: 5 | N79: 10h30-11h15(LT) 10h30-11h30(TH) | O79: =tkbieu!V16 -> 0 | P79: =tkbieu!V30 -> C. T. OANH | Q79: =tkbieu!V44 -> 0 | R79: =tkbieu!V58 -> 0 | S79: =tkbieu!V72 -> 0 | T79: =tkbieu!V86 -> 0
A81: CHIỀU | B81: 6 | C81: 12h45-13h30 | D81: =tkbieu!U19 -> 0 | E81: =tkbieu!U33 -> CS DỮ LIỆU | F81: =tkbieu!U47 -> 0 | G81: =tkbieu!U61 -> 0 | H81: =tkbieu!U75 -> 0 | I81: =tkbieu!U89 -> 0 | L81: CHIỀU | M81: 6 | N81: 12h45-13h30 | O81: =tkbieu!V19 -> 0 | P81: =tkbieu!V33 -> XÂY DỰNG | Q81: =tkbieu!V47 -> 0 | R81: =tkbieu!V61 -> 0 | S81: =tkbieu!V75 -> XDHT NHẬN DIỆN | T81: =tkbieu!V89 -> 0
B82: 7 | C82: 13h30-14h15 | D82: =tkbieu!U20 -> 0 | E82: =tkbieu!U34 -> NOSWL | F82: =tkbieu!U48 -> 0 | G82: =tkbieu!U62 -> 0 | H82: =tkbieu!U76 -> 0 | I82: =tkbieu!U90 -> 0 | M82: 7 | N82: 13h30-14h15 | O82: =tkbieu!V20 -> 0 | P82: =tkbieu!V34 -> PORTFOLIO | Q82: =tkbieu!V48 -> 0 | R82: =tkbieu!V62 -> 0 | S82: =tkbieu!V76 -> THƯƠNG HIỆU | T82: =tkbieu!V90 -> 0
B83: 8 | C83: 14h45-15h30 | D83: =tkbieu!U21 -> 0 | E83: =tkbieu!U35 -> 0 | F83: =tkbieu!U49 -> 0 | G83: =tkbieu!U63 -> 0 | H83: =tkbieu!U77 -> 0 | I83: =tkbieu!U91 -> 0 | M83: 8 | N83: 14h45-15h30 | O83: =tkbieu!V21 -> 0 | P83: =tkbieu!V35 -> 0 | Q83: =tkbieu!V49 -> 0 | R83: =tkbieu!V63 -> 0 | S83: =tkbieu!V77 -> 0 | T83: =tkbieu!V91 -> 0
B84: 9 | C84: 15h30-16h15 | D84: =tkbieu!U22 -> 0 | E84: =tkbieu!U36 -> A112 (PM1) | F84: =tkbieu!U50 -> 0 | G84: =tkbieu!U64 -> 0 | H84: =tkbieu!U78 -> 0 | I84: =tkbieu!U92 -> 0 | M84: 9 | N84: 15h30-16h15 | O84: =tkbieu!V22 -> 0 | P84: =tkbieu!V36 -> A109 (PM2) | Q84: =tkbieu!V50 -> 0 | R84: =tkbieu!V64 -> 0 | S84: =tkbieu!V78 -> A103 (PM6) | T84: =tkbieu!V92 -> 0
B85: 10 | C85: 16h15-17h00(LT) 16h15-17h15(TH) | D85: =tkbieu!U23 -> 0 | E85: =tkbieu!U37 -> T. VÂN | F85: =tkbieu!U51 -> 0 | G85: =tkbieu!U65 -> 0 | H85: =tkbieu!U79 -> 0 | I85: =tkbieu!U93 -> 0 | M85: 10 | N85: 16h15-17h00(LT) 16h15-17h15(TH) | O85: =tkbieu!V23 -> 0 | P85: =tkbieu!V37 -> C. S. MAI | Q85: =tkbieu!V51 -> 0 | R85: =tkbieu!V65 -> 0 | S85: =tkbieu!V79 -> C. NGỌC | T85: =tkbieu!V93 -> 0
A88: =A71 -> ÁP DỤNG TỪ NGÀY 02/11 ĐẾN 30/11/2026
A90: LỚP: | C90: =tkbieu!Q10 -> C24LRMT1 | E90: GVCN: | F90: =tkbieu!Q9 -> T. HIỆP | H90: ĐT: | I90: 0938 231 264
A91: Buổi | B91: Tiết | C91: Giờ dạy | D91: THỨ HAI | E91: THỨ BA | F91: THỨ TƯ | G91: THỨ NĂM | H91: THỨ SÁU | I91: THỨ BẢY
A92: SÁNG | B92: 1 | C92: 7h00-7h45 | D92: =tkbieu!Q12 -> 0 | E92: =tkbieu!Q26 -> ĐỒ ÁN | F92: =tkbieu!Q40 -> LẮP ĐẶT HT | G92: =tkbieu!Q54 -> HỆ Q.TRỊ | H92: =tkbieu!Q68 -> ĐỒ ÁN | I92: =tkbieu!Q82 -> LẮP ĐẶT HT
B93: 2 | C93: 7h45-8h30 | D93: =tkbieu!Q13 -> 0 | E93: =tkbieu!Q27 -> TỐT NGHIỆP | F93: =tkbieu!Q41 -> CCTV | G93: =tkbieu!Q55 -> CƠ SỞ DỮ LIỆU | H93: =tkbieu!Q69 -> TỐT NGHIỆP | I93: =tkbieu!Q83 -> CCTV
B94: 3 | C94: 9h00-9h45 | D94: =tkbieu!Q14 -> 0 | E94: =tkbieu!Q28 -> 0 | F94: =tkbieu!Q42 -> 0 | G94: =tkbieu!Q56 -> 0 | H94: =tkbieu!Q70 -> 0 | I94: =tkbieu!Q84 -> 0
B95: 4 | C95: 9h45-10h30 | D95: =tkbieu!Q15 -> 0 | E95: =tkbieu!Q29 -> A312 | F95: =tkbieu!Q43 -> A302 | G95: =tkbieu!Q57 -> A102 (PM5) | H95: =tkbieu!Q71 -> A312 | I95: =tkbieu!Q85 -> A312
B96: 5 | C96: 10h30-11h15(LT) 10h30-11h30(TH) | D96: =tkbieu!Q16 -> 0 | E96: =tkbieu!Q30 -> T. HIẾU | F96: =tkbieu!Q44 -> T. NHỰT | G96: =tkbieu!Q58 -> T. TÔN | H96: =tkbieu!Q72 -> T. HIẾU | I96: =tkbieu!Q86 -> T. NHỰT
A98: CHIỀU | B98: 6 | C98: 12h45-13h30 | D98: =tkbieu!Q19 -> LẮP ĐẶT HT | E98: =tkbieu!Q33 -> ĐỒ ÁN | F98: =tkbieu!Q47 -> LẮP ĐẶT HT | G98: =tkbieu!Q61 -> HỆ Q.TRỊ | H98: =tkbieu!Q75 -> ĐỒ ÁN | I98: =tkbieu!Q89 -> LẮP ĐẶT HT
B99: 7 | C99: 13h30-14h15 | D99: =tkbieu!Q20 -> CCTV | E99: =tkbieu!Q34 -> TỐT NGHIỆP | F99: =tkbieu!Q48 -> CCTV | G99: =tkbieu!Q62 -> CƠ SỞ DỮ LIỆU | H99: =tkbieu!Q76 -> TỐT NGHIỆP | I99: =tkbieu!Q90 -> CCTV
B100: 8 | C100: 14h45-15h30 | D100: =tkbieu!Q21 -> 0 | E100: =tkbieu!Q35 -> 0 | F100: =tkbieu!Q49 -> 0 | G100: =tkbieu!Q63 -> 0 | H100: =tkbieu!Q77 -> 0 | I100: =tkbieu!Q91 -> 0
B101: 9 | C101: 15h30-16h15 | D101: =tkbieu!Q22 -> A302 | E101: =tkbieu!Q36 -> A312 | F101: =tkbieu!Q50 -> A302 | G101: =tkbieu!Q64 -> A102 (PM5) | H101: =tkbieu!Q78 -> A312 | I101: =tkbieu!Q92 -> A302
B102: 10 | C102: 16h15-17h00(LT) 16h15-17h15(TH) | D102: =tkbieu!Q23 -> T. NHỰT | E102: =tkbieu!Q37 -> T. HIẾU | F102: =tkbieu!Q51 -> T. NHỰT | G102: =tkbieu!Q65 -> T. TÔN | H102: =tkbieu!Q79 -> T. HIẾU | I102: =tkbieu!Q93 -> T. NHỰT
A105: Lưu ý:
A106: Thời gian học: Một giờ dạy thực hành/tích hợp là 60 phút, Một giờ dạy lý thuyết/trực tuyến là 45 phút
B107: Ca sáng: Giờ lý thuyết: Từ 7h00(T1) – 8h30 - ra chơi - 9h00 – 11h15(T5), Giờ thực hành: Từ 7h00(T1) – 8h30 - ra chơi - 9h00 – 11h30 (T4)
B108: Ca chiều: Giờ lý thuyết: Từ 12h45 (T6) – 14h15 - ra chơi - 14h45 – 17h00 (T10), Giờ thực hành: Từ 12h45 (T5) – 14h15 - ra chơi - 14h45 – 17h15 (T8)
B109: Ca tối: Từ 17h45 – 19h15 - ra chơi - 19h30 – 21h00

Sheet 02.11
A1: LỊCH THEO DÕI PHÒNG HỌC: 02/11/2026
A2: Tổng cộng: 16 phòng lý thuyết LỚP NGÀY
A3: Sức chứa | C3: 40 | D3: 50 | E3: 50 | F3: 50 | G3: 50 | H3: 50 | I3: 50 | J3: 50 | K3: 50 | L3: 50 | M3: 50 | N3: 40 | O3: 30 (16) | P3: 30 (18)
A4: PHÒNG | C4: 004 | D4: 104 | E4: 201 | F4: 202 | G4: 203 | H4: 204 | I4: 205 | J4: 206 | K4: 207 | L4: 208 | M4: HT1A | N4: HT1B | O4: HT2A | P4: HT2B
A5: Số hiệu phòng mới | C5: A004 | D5: A104 | E5: A207 | F5: A208 | G5: A209 | H5: A210 | I5: A201 | J5: A202 | K5: A203 | L5: A204 | M5: A212 | N5: A211 | O5: C001 | P5: C002
C6: 1 | D6: 2 | E6: 3 | F6: 4 | G6: 5 | H6: 6 | I6: 7 | J6: 8 | K6: 9 | L6: 10 | M6: 11 | N6: 12 | O6: 13 | P6: 14
A7: Thiết bị | C7: 1 camera 2 quạt TT | D7: 1 Tivi 1 camera 4 quạt TT | E7: 1 Tivi 1 camera 5 quạt TT | F7: 1 Tivi 1 camera 4 quạt TT | G7: 1 Tivi 1 camera 4 quạt TT | H7: 1 Tivi 1 camera 3 quạt TT | I7: 1 Tivi 1 camera phòng AV | J7: 1 camera phòng AV | K7: 1 Tivi 1 camera 6 quạt TT | L7: 1 Tivi 1 camera 5 quạt TT | M7: Màn chiếu 1 camera (Bảng ĐT) | N7: 1 camera | O7: 1 Tivi 1 camera 4 quạt TT | P7: 1 Tivi 1 camera 4 quạt TT
A8: Hai 02/11 | B8: Sáng | C8: L12 | D8: L12 | G8: C. Q. PHƯƠNG | H8: =[1]tkbieu!R16 -> T. C. HOÀNG | K8: L11 | L8: L11
B9: Chiều | F9: L10 | G9: L10 | K9: L11 | L9: L11
A10: Ba 03/11 | B10: Sáng | C10: L12 | D10: L12 | E10: C. L. PHƯƠNG | G10: T. Y. LONG
B11: Chiều | F11: L10 | G11: L10
A12: Tư 04/11 | B12: Sáng | C12: L12 | D12: L12 | F12: T. C. HOÀNG | K12: L11 | L12: L11
B13: Chiều | F13: L10 | G13: L10 | H13: C. MI | K13: L11 | L13: L11
A14: Năm 05/11 | B14: Sáng | C14: L12 | D14: L12 | E14: =tkbieu!L58 -> T. K. LONG | F14: C. NGUYỆT | G14: T. QUANG
B15: Chiều | F15: L10 | G15: L10
A16: Sáu 06/11 | B16: Sáng | C16: L12 | D16: L12 | E16: T. V. HẢI | G16: C. T. TRANG | K16: L11 | L16: L11
B17: Chiều | E17: =tkbieu!I79 -> T. QUÂN | F17: L10 | G17: L10
A18: Bảy 07/11 | B18: Sáng | F18: C. THẢO | G18: C. S. MAI | H18: =tkbieu!L86 -> T. K. LONG
B19: Chiều
A20: Chủ Nhật 12/7 | B20: Sáng
B21: Chiều
E25: Tối thứ 2, 4: học AV language link phòng A209

Sheet Data
D1: ÁP DỤNG TỪ NGÀY 26/09/2011
A2: T.THỊNH | B2: 0908301262 | D2: ÁP DỤNG TỪ NGÀY 03/10/2011
A3: ĐAN | B3: 0947775181 | D3: ÁP DỤNG TỪ NGÀY 10/10/2011 | K3: T.Nghiệp
A4: C.TÚ | B4: 0914135548 | D4: ÁP DỤNG TỪ NGÀY 17/10/2011 | M4: =MID(K3,3,13) -> Nghiệp
A5: trong nghĩa | B5: 0902933664 | C5: trongnghia8881@yahoo.com.vn | D5: ÁP DỤNG TỪ NGÀY 24/10/2011 | M5: =VLOOKUP(MID(K3,3,13),B10:C39,2,0) -> #N/A
D6: ÁP DỤNG TỪ NGÀY 31/10/2011
D7: ÁP DỤNG TỪ NGÀY 07/11/2011
A8: Giáo viên CN | D8: ÁP DỤNG TỪ NGÀY 14/11/2011 | H8: KHOA CƠ KHÍ
A9: Họ và tên | B9: Tên | C9: Số điện thoại | D9: ÁP DỤNG TỪ NGÀY 21/11/2011 | G9: 1 | H9: CÁC P.PHÁP | I9: NGUYÊN LÝ | J9: GIA CÔNG | K9: PHAY | L9: LẬP TRÌNH | M9: GIA CÔNG | O9: LĂN NHÁM,
A10: Phạm Ngọc Thanh | B10: Thanh | C10: 0938011994 | D10: ÁP DỤNG TỪ NGÀY 28/11/2011 | G10: 2 | H10: G.CÔNG MỚI | I10: CT MÁY | J10: TRÊN MP CNC | K10: CƠ BẢN | L10: TIỆN CNC | M10: TRÊN MÁY MÀI PHẲNG | N10: VẬT LIỆU | O10: LĂN ÉP
A11: Nguyễn Trí Cường | B11: Cường | C11: 0908451597 | D11: ÁP DỤNG TỪ NGÀY 05/12/2011 | G11: 3 | N11: CƠ KHÍ | O11: AD: 28/11
A12: Nguyễn Tấn Tài | B12: Tài | C12: 0913829320 | D12: ÁP DỤNG TỪ NGÀY 12/12/2011 | G12: 4 | H12: X.CK | I12: P.108B | J12: P.CNC | K12: X.TIỆN | L12: P.MT | M12: X.TIỆN | N12: P.204 | O12: X.TIỆN
A13: Đặng Thị Tuyết Mai | B13: Mai | C13: 01698706075 | D13: ÁP DỤNG TỪ NGÀY 19/12/2011 | G13: 5 | H13: C.HƯƠNG | I13: C.HƯƠNG | J13: C.THƯ | K13: T.HỶ | L13: C.THƯ | M13: T.QUỐC | N13: C.HIỀN | O13: T.CƯƠNG
A14: Huỳnh Xuân Nghiệp | B14: Nghiệp | C14: 0932574398 | D14: ÁP DỤNG TỪ NGÀY 26/12/2011 | G14: 6
A15: Phan Vũ Nguyên Khương | B15: Khương | C15: 0982341432 | D15: ÁP DỤNG TỪ NGÀY 02/01/2012 | G15: 7 | H15: KHÍ NÉN | I15: TIỆN REN | J15: BÀO | K15: TIỆN | L15: NGUYÊN LÝ | M15: SỨC BỀN | N15: VẼ KT | O15: CƠ | P15: TIỆN | Q15: PHAY | R15: LẬP TRÌNH
A16: Nguyễn Thanh Xuân | B16: Xuân | C16: 0932733896 | D16: ÁP DỤNG TỪ NGÀY 09/01/2012 | G16: 8 | H16: THỦY LỰC | I16: TAM GIÁC | J16: NÂNG CAO | K16: CƠ BẢN | L16: CẮT | M16: VẬT LIỆU | O16: LÝ THUYẾT | P16: N. CAO | Q16: BÁNH RĂNG | R16: TIỆN CNC
A17: Nghiêm Thị | B17: Thoa | C17: 0942846334 | D17: ÁP DỤNG TỪ NGÀY 16/01/2012 | G17: 9 | K17: AD: 31/10 | M17: P. | N17: P. | O17: P. | P17: X.TIỆN | Q17: X.TIỆN | R17: P.MT
A18: Phan Thị Bảo Vy | B18: B.Vy | C18: 0903960582 | D18: ÁP DỤNG TỪ NGÀY 23/01/2012 | G18: 10 | H18: X.KNTL | I18: X.TIỆN | J18: X.TIỆN | K18: X.TIỆN | L18: P. 108B | M18: T.TRƯƠNG | N18: T.QUỐC | O18: T.TRƯƠNG | P18: T.CƯƠNG | Q18: T.HỶ | R18: T.TUẤN
A19: Nguyễn Công Hoan | B19: Hoan | C19: 0935319022 | D19: ÁP DỤNG TỪ NGÀY 30/01/2012 | G19: 11 | H19: T.NAM | I19: C.CƯƠNG | J19: T.HỶ | K19: T.TUẤN | L19: T.QUỐC
A20: Ngô Vũ Quỳnh Anh | B20: Q.Anh | C20: 0977517367 | D20: ÁP DỤNG TỪ NGÀY 06/02/2012 | G20: 12
A21: Phan Thị Đăng Thư | B21: Thư | C21: 0903373645 | D21: ÁP DỤNG TỪ NGÀY 13/02/2012
A22: Lê Lân | B22: Lân | C22: 0937542279 | D22: ÁP DỤNG TỪ NGÀY 20/02/2012
A23: Nguyễn Văn Dương | B23: Dương | C23: 0907591215 | D23: ÁP DỤNG TỪ NGÀY 27/02/2012 | H23: KHOA Ô TÔ
A24: Đồng Tấn Lập | B24: Lập | C24: 0913628988 | D24: ÁP DỤNG TỪ NGÀY 05/03/2012 | G24: 1 | H24: SC -BD | I24: SC -BD | J24: SC -BD | K24: SC -BD | L24: SC - BD | M24: SC -BD | N24: SC -BD | O24: SC BD | P24: THIẾT BỊ | Q24: KỸ THUẬT | R24: KỸ THUẬT | S24: SC BD | U24: X.OTO 1
A25: Nguyễn Văn Hoàng | B25: Hoàng | C25: 0908230864 | D25: ÁP DỤNG TỪ NGÀY 12/03/2012 | G25: 2 | H25: HỆ THỐNG | I25: HỆ THỐNG | J25: HỆ THỐNG | K25: HỆ THỐNG | L25: HỆ THỐNG | M25: HỆ THỐNG | N25: HỆ THỐNG | O25: HỆ THỐNG | P25: ĐO KIỂM | Q25: CHUNG | R25: CHUNG | S25: HỆ THỐNG | U25: X.OTO 2
A26: Nguyễn Thị Oanh | B26: Oanh | C26: 0985516982 | D26: ÁP DỤNG TỪ NGÀY 19/03/2012 | G26: 3 | H26: NLĐCX | I26: PHANH | J26: T.ĐỘNG | K26: PHANH | L26: T.ĐỘNG | M26: T.ĐỘNG | N26: KĐ - ĐL | O26: BT - LM | P26: CHẨN ĐOÁN | Q26: Ô TÔ | R26: Ô TÔ | S26: TR. ĐỘNG
A27: Đinh Thị Huyền Diệu | B27: Diệu | C27: 01268622124 | D27: ÁP DỤNG TỪ NGÀY 26/03/2012 | G27: 4 | H27: X.OTO1 | I27: X.ÔTÔ 2 | J27: P.001 | K27: X.OTO1 | L27: X.OTO1 | M27: X.OTO2 | N27: X.OTO1 | O27: P.001 | P27: P.003 | Q27: X.OTO1 | R27: X.OTO2 | S27: X.OTO2
A28: Lý Siều Hải | B28: Hải | C28: 0908870554 | D28: ÁP DỤNG TỪ NGÀY 02/04/2012 | G28: 5 | H28: T.THƯƠNG | I28: T.DƯƠNG | J28: T.DƯƠNG | K28: T.LÂN | L28: T.LÂN | M28: T.LÂN | N28: T.TẦN | O28: T.KHÁNH | P28: T.KHÁNH | Q28: T. HÀ | R28: T.TRÍ | S28: T.TRÍ
A29: Bùi Mai Hoàng Thảo | B29: Thảo | C29: 0908343496 | D29: ÁP DỤNG TỪ NGÀY 09/04/2012 | G29: 6
A30: Nguyễn Đình Tần | B30: Tần | C30: 0937648567 | D30: ÁP DỤNG TỪ NGÀY 16/04/2012 | G30: 7 | H30: SC - BD | I30: SC-BD | K30: SC -BD | L30: SC - BD | M30: SC -BD | N30: SC - BD | O30: SC - BD | Q30: KỸ THUẬT
A31: Trần Quản Quốc | B31: Quốc | C31: 0907748318 | D31: ÁP DỤNG TỪ NGÀY 23/04/2012 | G31: 8 | H31: HỆ THỐNG | I31: HỆ THỐNG | K31: HỆ THỐNG | L31: HỆ THỐNG | M31: HỆ THỐNG | N31: HỆ THỐNG | O31: HỆ THỐNG | Q31: CHUNG
A32: Trần Thanh Phong | B32: Phong | C32: 0903654143 | D32: ÁP DỤNG TỪ NGÀY 30/04/2012 | G32: 9 | H32: BT - LM | I32: PHANH | K32: PHANH | L32: T.ĐỘNG | M32: T.ĐỘNG | N32: ĐK - ĐL | O32: BT - LM | Q32: Ô TÔ
A33: Nguyễn Hiệp | B33: Hiệp | C33: 0938231264 | D33: ÁP DỤNG TỪ NGÀY 07/05/2012 | G33: 10 | H33: P.001 | I33: X.ÔTÔ 2 | K33: X.OTO1 | L33: X.OTO1 | M33: X.OTO2 | N33: X.OTO1 | O33: P.001 | Q33: X.OTO1
A34: Nguyễn Thái Bình | B34: Bình | C34: 0918396785 | D34: ÁP DỤNG TỪ NGÀY 14/05/2012 | G34: 11 | H34: T.KHÁNH | I34: T.DƯƠNG | K34: T.LÂN | L34: T.LÂN | M34: T.LÂN | N34: T.TẦN | O34: T.KHÁNH | Q34: T. HÀ
A35: Nguyễn Mạnh Dũng | B35: Dũng | C35: 0919220544 | D35: ÁP DỤNG TỪ NGÀY 21/05/2012 | G35: 12
A36: Phạm Ngọc Cương | B36: Cương | C36: 0903375234 | D36: ÁP DỤNG TỪ NGÀY 28/05/2012
A37: Trần Văn Được | B37: Được | C37: 0903628303 | D37: ÁP DỤNG TỪ NGÀY 04/06/2012 | H37: KHOA CƠ BẢN
A38: Đặng Xuân Mạnh | B38: Mạnh | C38: 0973233579 | D38: ÁP DỤNG TỪ NGÀY 11/06/2012 | G38: 1 | H38: VĂN 5 | I38: ANH VĂN | J38: LÝ 3 | K38: VĂN 3 | L38: TOÁN 5 | M38: GDTC | N38: TOÁN 3 | O38: HÓA 5 | P38: HÓA 3 | Q38: TOÁN 5 | R38: SHCN | S38: GDTC | T38: HÓA | U38: PHÁP | V38: PHÁP | W38: HÓA | X38: PHÁP
A39: Nguyễn Lê Thái | B39: Thái | C39: 0946059100 | D39: ÁP DỤNG TỪ NGÀY 18/06/2012 | G39: 2 | H39: P.202 | I39: C. NGÀNH | J39: P.202 | K39: P.202 | M39: S.TRƯỜNG | O39: P.206 | P39: P.204 | R39: P.203 | T39: CƠ BẢN | U39: LUẬT | V39: LUẬT | W39: P.201 | X39: LUẬT
A40: Lê Hoàng Thanh Vy | B40: T.Vy | C40: 0907589632 | D40: ÁP DỤNG TỪ NGÀY 25/06/2012 | G40: 3 | H40: C.HẰNG | J40: C.YẾN | K40: C.CHUNG | M40: T.ĐAN | O40: C.HẠNH | P40: C.HOA | R40: GDTC | U40: P.1 | V40: P. | W40: C.HOA | X40: P.
A41: Nguyễn Ngọc Cam | B41: Cam | C41: 0908568974 | D41: ÁP DỤNG TỪ NGÀY 02/07/2012 | G41: 4 | I41: P.204 | L41: P.203 | M41: GDTC | N41: P.204 | Q41: P.207 | R41: S.TRƯỜNG | S41: S.TRƯỜNG | T41: P.1 | U41: T.CƯỜNG | V41: T.CAM | X41: C.THỦY
A42: Nguyễn Văn Thông | B42: Thông | C42: 0903727058 | D42: ÁP DỤNG TỪ NGÀY 09/07/2012 | G42: 5 | I42: T.QUÂN | L42: C.HUYỀN | M42: S.TRƯỜNG | N42: T.TẠO | Q42: C.PHƯƠNG | R42: T.ĐAN | S42: T.ĐAN | T42: T.XUÂN
A43: Nguyễn Thị Trà Mi | B43: Mi | C43: 0989354661 | D43: ÁP DỤNG TỪ NGÀY 13/08/2012 | G43: 6 | M43: T.ĐAN
A44: Nguyễn Thị Duyên | B44: Duyên | C44: 0908860649 | D44: ÁP DỤNG TỪ NGÀY 20/08/2012 | G44: 7 | H44: GIÁO DỤC | I44: AN TOÀN | J44: TOÁN | M44: VĂN | O44: ANH VĂN | R44: TOÁN | T44: ANH VĂN | U44: ANH VĂN | V44: TIN HỌC | W44: TIN HỌC | X44: GIÁO DỤC
A45: Vũ Mạnh Hùng | B45: Hùng | C45: 01682527960 | D45: ÁP DỤNG TỪ NGÀY 27/08/2012 | G45: 8 | H45: Q. PHÒNG | I45: L.ĐỘNG | O45: CƠ BẢN | R45: P | T45: CƠ BẢN | U45: CƠ BẢN | V45: CƠ BẢN | W45: CƠ BẢN | X45: Q. PHÒNG
A46: Phạm Thị Châu Hương | B46: Hương | C46: 0908102489 | D46: ÁP DỤNG TỪ NGÀY 03/09/2012 | G46: 9 | I46: P. | K46: LÝ | L46: TOÁN | N46: HÓA | P46: LÝ | Q46: VĂN | R46: C.THẢO | S46: CHÍNH TRỊ
D47: ÁP DỤNG TỪ NGÀY 10/09/2012 | G47: 10 | H47: S.TRƯỜNG | I47: T.THÔNG | J47: P. | K47: P. | L47: P. | M47: P. | N47: P. | O47: P. | P47: P. | Q47: P | S47: P. | T47: P. | U47: P. | V47: P. | W47: PM | X47: S.TRƯỜNG
D48: ÁP DỤNG TỪ NGÀY 17/09/2012 | G48: 11 | H48: T.THỊNH | J48: C.THỦY | K48: C.HẠNH | L48: C.THỦY | M48: C.CHUNG | N48: T.KHOA | O48: T.HOÀNG | P48: T.NGHIỆP | Q48: C.HẰNG | S48: T.TÀI | T48: C.THẢO | U48: T.QUÂN | V48: T.TUẤN | W48: C.OANH | X48: T.TRỊNH
D49: ÁP DỤNG TỪ NGÀY 24/09/2012 | G49: 12
D50: ÁP DỤNG TỪ NGÀY 01/10/2012
D51: ÁP DỤNG TỪ NGÀY 08/10/2012 | H51: KHOA ĐIỆN - ĐIỆN LẠNH
D52: ÁP DỤNG TỪ NGÀY 15/10/2012 | G52: 1 | H52: CĐ. LẬP TRÌNH | I52: VI | J52: CS KT ĐIỆN | K52: VẬT LIỆU | L52: LẠNH | M52: ĐO LƯỜNG | N52: MẠCH | O52: CUNG CẤP | P52: VẬT LIỆU | Q52: T.BỊ ĐIỆN | R52: NGUỘI
D53: ÁP DỤNG TỪ NGÀY 22/10/2012 | G53: 2 | H53: CỠ NHỎ | I53: XỬ LÝ | J53: P. | K53: ĐIỆN LẠNH | L53: CƠ BẢN | M53: ĐIỆN LẠNH | N53: ĐIỆN | O53: ĐIỆN | P53: ĐIỆN | Q53: DÂN DỤNG
D54: ÁP DỤNG TỪ NGÀY 29/10/2012 | G54: 3 | J54: T.LẬP | K54: P. | P54: P.ĐL&ƯD | Q54: X.ĐIỆN 1
D55: ÁP DỤNG TỪ NGÀY 05/11/2012 | G55: 4 | H55: P.PLC | I55: P.ĐL & UD | K55: T.LẬP | L55: P. | M55: X.Đ.LẠNH 1 | N55: P.ĐL&ƯD | O55: P.ĐL&ƯD | P55: T.TUẤN | Q55: T.TRỌNG | R55: X.NGUỘI
D56: ÁP DỤNG TỪ NGÀY 12/11/2012 | G56: 5 | H56: T.T.TUẤN | I56: T.NAM | L56: T.HUY | M56: T.THOẠI | N56: T.KHOA | O56: T.KHOA | R56: T.SƠN
D57: ÁP DỤNG TỪ NGÀY 19/11/2012 | G57: 6
D58: ÁP DỤNG TỪ NGÀY 26/11/2012 | G58: 7 | H58: CĐ. LẬP TRÌNH | I58: CSKT NHIỆT & | J58: KỸ THUẬT | K58: TRANG BỊ | L58: KỸ THUẬT | M58: CƠ SỞ
D59: ÁP DỤNG TỪ NGÀY 03/12/2012 | G59: 8 | H59: CỠ NHỎ | I59: Đ.HÒA KK | J59: LẠNH Ô TÔ | K59: ĐIỆN | L59: ĐÔNG LẠNH | M59: KT ĐIỆN
D60: ÁP DỤNG TỪ NGÀY 10/12/2012 | G60: 9 | I60: X.ĐL2 | L60: X.ĐL2 | M60: P.1C
D61: ÁP DỤNG TỪ NGÀY 17/12/2012 | G61: 10 | H61: P.PLC | I61: T.THOẠI | J61: X.ĐL1 | K61: X.ĐIỆN 2 | L61: T.HUY | M61: T.LẬP
D62: ÁP DỤNG TỪ NGÀY 24/12/2012 | G62: 11 | H62: T.T.TUẤN | J62: T.THOẠI | K62: T.NAM
D63: ÁP DỤNG TỪ NGÀY 31/12/2012 | G63: 12
D64: ÁP DỤNG TỪ NGÀY 07/01/2013
D65: ÁP DỤNG TỪ NGÀY 14/01/2013 | H65: KHOA ĐIỆN TỬ
D66: ÁP DỤNG TỪ NGÀY 21/01/2013 | G66: 1 | H66: Đ.LƯỜNG | I66: LINH KIỆN | J66: ĐIỆN | K66: MODULE | L66: KTSC | M66: C.TRÚC | N66: KỸ THUẬT | O66: T.HÀNH | P66: L.RÁP C.ĐẶT
D67: ÁP DỤNG TỪ NGÀY 28/01/2013 | G67: 2 | H67: ĐIỆN TỬ | I67: ĐIỆN TỬ | J67: K.THUẬT | K67: CHUYÊN ĐỀ | L67: MÀN HÌNH | M67: D.LIỆU & | N67: SỐ | O67: L.RÁP C.ĐẶT | P67: M.TÍNH
D68: ÁP DỤNG TỪ NGÀY 18/02/2013 | G68: 3 | M68: T.GIẢI | O68: M.TÍNH
D69: ÁP DỤNG TỪ NGÀY 25/02/2013 | G69: 4 | H69: X.ĐKTĐ | I69: X.ĐKTĐ | J69: X.ĐKTĐ | K69: X.SCMT 1 | L69: X.SCMT2 | M69: P. | N69: X.KTSỐ | O69: P.THSCMT1 | P69: P.THSCMT1
D70: ÁP DỤNG TỪ NGÀY 04/03/2013 | G70: 5 | H70: T.THÁI | I70: T.QUÝ | J70: T.VŨ | K70: T.HOAN | L70: T.HIỆP | M70: T.HOÀNG | N70: T.BÌNH | O70: T.HIẾU | P70: T.DŨNG
D71: ÁP DỤNG TỪ NGÀY 11/03/2013 | G71: 6
D72: ÁP DỤNG TỪ NGÀY 18/03/2013 | G72: 7 | H72: K.THUẬT | I72: TIN HỌC | J72: T.HÀNH | K72: K.THUẬT | L72: T.HÀNH | M72: K.THUẬT | N72: ĐIỆN TỬ
D73: ÁP DỤNG TỪ NGÀY 25/03/2013 | G73: 8 | H73: ĐIỆN TỬ | I73: Đ.CƯƠNG | J73: K.THUẬT | K73: ĐIỆN TỬ | L73: K.THUẬT | M73: Đ.LƯỜNG | N73: CƠ BẢN
D74: ÁP DỤNG TỪ NGÀY 01/04/2013 | G74: 9 | J74: ĐIỆN TỬ | L74: ĐIỆN TỬ
D75: ÁP DỤNG TỪ NGÀY 08/04/2014 | G75: 10 | H75: X.KTS | I75: P.CNVĐT | J75: X.KTS | K75: X.ĐT | L75: X.ĐT | M75: X.ĐTTĐ | N75: X.KTS
D76: ÁP DỤNG TỪ NGÀY 15/04/2013 | G76: 11 | H76: T.BÌNH | I76: C.THẢO | J76: T.BÌNH | K76: T.HIẾU | L76: T.HIẾU | M76: C.THẢO | N76: T.DŨNG
D77: ÁP DỤNG TỪ NGÀY 22/04/2013 | G77: 12
D78: ÁP DỤNG TỪ NGÀY 29/04/2013
D79: ÁP DỤNG TỪ NGÀY 06/05/2013 | H79: KHOA KINH TẾ
D80: ÁP DỤNG TỪ NGÀY 13/05/2013 | G80: 1 | H80: QUẢN TRỊ | I80: QUẢN TRỊ | J80: KẾ TOÁN | K80: QUẢN TRỊ | L80: QUẢN TRỊ | N80: HỆ THỐNG | O80: T. HÀNH | P80: KIỂM | Q80: S.THẢO | R80: KỸ NĂNG | S80: MARKETING | T80: Q.TRỊ
D81: ÁP DỤNG TỪ NGÀY 20/05/2013 | G81: 2 | H81: NGUỒN NL | I81: HCVP | J81: D.NGHIỆP 1 | K81: NGUỒN NL | L81: THƯƠNG HIỆU | M81: KTDN1 | N81: TTQL | O81: K.TOÁN 3 | P81: TOÁN | Q81: V.BẢN | R81: G.TIẾP | T81: HỌC | U81: MARKETING
D82: ÁP DỤNG TỪ NGÀY 27/05/2013 | G82: 3
D83: ÁP DỤNG TỪ NGÀY 03/06/2013 | G83: 4 | H83: P.HT1 | I83: P.109B | J83: P.109B | K83: P.HT1 | L83: P.203 | N83: P.301 | P83: P. | Q83: P. | R83: P. | S83: P. | T83: P. | U83: P.
D84: ÁP DỤNG TỪ NGÀY 10/06/2013 | G84: 5 | H84: C.TÚ | I84: C.TÚ | J84: T.NAM | K84: C.TÚ | L84: T.TRIẾT | M84: P.206 | N84: T.LONG | O84: T.NAM | P84: T.TÂN | Q84: C.DUYÊN | R84: C.TÚ | S84: T.HOÀNG | T84: T.TRIẾT | U84: T.LONG
D85: ÁP DỤNG TỪ NGÀY 17/06/2013 | G85: 6 | M85: C.L.PHƯƠNG
D86: ÁP DỤNG TỪ NGÀY 24/06/2013 | G86: 7 | H86: LUẬT | I86: QUẢN TRỊ | J86: KINH TẾ | K86: QUẢN TRỊ
D87: ÁP DỤNG TỪ NGÀY 01/07/2013 | G87: 8 | H87: KINH TẾ | I87: KD & TN | J87: VĨ MÔ | K87: H.CHÁNH
D88: ÁP DỤNG TỪ NGÀY 08/07/2013 | G88: 9 | K88: V.PHÒNG
D89: ÁP DỤNG TỪ NGÀY 15/07/2013 | G89: 10 | H89: P. | I89: P. | J89: P.206 | K89: P.301
D90: ÁP DỤNG TỪ NGÀY 22/07/2013 | G90: 11 | H90: T.CAM | I90: T.PHONG | J90: T.NAM | K90: C.TÚ
D91: ÁP DỤNG TỪ NGÀY 29/07/2013 | G91: 12
D92: ÁP DỤNG TỪ NGÀY 05/08/2013
D93: ÁP DỤNG TỪ NGÀY 12/08/2013
D94: ÁP DỤNG TỪ NGÀY 19/08/2013 | H94: KHOA TP
D95: ÁP DỤNG TỪ NGÀY 26/08/2013 | G95: 1 | H95: PHỤ GIA | I95: KỸ THUẬT | J95: QUÁ TRÌNH | K95: GIA CÔNG | L95: TH THU NHẬN | M95: QUÁ TRÌNH | N95: QUÁ TRÌNH | O95: TIN
D96: ÁP DỤNG TỪ NGÀY 02/09/2013 | G96: 2 | H96: THỰC PHẨM | I96: PHÒNG TN | J96: THỦY CƠ | K96: CƠ HỌC | L96: V. CHUYỂN | M96: TR. NHIỆT | N96: CH. KHỐI | O96: HỌC
D97: ÁP DỤNG TỪ NGÀY 09/09/2013 | G97: 3 | L97: BQNL
D98: ÁP DỤNG TỪ NGÀY 16/09/2013 | G98: 4 | H98: P.1 | I98: PTN | J98: P.1 | K98: P.1 | L98: X.CB | M98: P.1 | N98: P.1 | O98: PM
D99: ÁP DỤNG TỪ NGÀY 23/09/2013 | G99: 5 | H99: C.B.VY | I99: C.ANH | J99: T.UY | K99: T.XUÂN | L99: C.ANH | M99: T.UY | N99: T.XUÂN | O99: C.OANH
D100: ÁP DỤNG TỪ NGÀY 30/09/2013 | G100: 6
...
